BEGIN:VCALENDAR
VERSION:2.0
PRODID:-//NAE - ECPv6.15.20//NONSGML v1.0//EN
CALSCALE:GREGORIAN
METHOD:PUBLISH
X-ORIGINAL-URL:https://www.nae.fr
X-WR-CALDESC:Évènements pour NAE
REFRESH-INTERVAL;VALUE=DURATION:PT1H
X-Robots-Tag:noindex
X-PUBLISHED-TTL:PT1H
BEGIN:VTIMEZONE
TZID:Europe/Paris
BEGIN:DAYLIGHT
TZOFFSETFROM:+0100
TZOFFSETTO:+0200
TZNAME:CEST
DTSTART:20210328T010000
END:DAYLIGHT
BEGIN:STANDARD
TZOFFSETFROM:+0200
TZOFFSETTO:+0100
TZNAME:CET
DTSTART:20211031T010000
END:STANDARD
BEGIN:DAYLIGHT
TZOFFSETFROM:+0100
TZOFFSETTO:+0200
TZNAME:CEST
DTSTART:20220327T010000
END:DAYLIGHT
BEGIN:STANDARD
TZOFFSETFROM:+0200
TZOFFSETTO:+0100
TZNAME:CET
DTSTART:20221030T010000
END:STANDARD
BEGIN:DAYLIGHT
TZOFFSETFROM:+0100
TZOFFSETTO:+0200
TZNAME:CEST
DTSTART:20230326T010000
END:DAYLIGHT
BEGIN:STANDARD
TZOFFSETFROM:+0200
TZOFFSETTO:+0100
TZNAME:CET
DTSTART:20231029T010000
END:STANDARD
END:VTIMEZONE
BEGIN:VEVENT
DTSTART;TZID=Europe/Paris:20220401T140000
DTEND;TZID=Europe/Paris:20220401T170000
DTSTAMP:20260423T101849
CREATED:20211229T151822Z
LAST-MODIFIED:20260303T182937Z
UID:69306-1648821600-1648832400@www.nae.fr
SUMMARY:News CIDN - 01/04/22
DESCRIPTION:News CIDN\n \nVendredi 01 avril 2022  14h00 à 17h00\nAeroport Le Havre \n\nPROGRAMME \n\nAccueil\nPrésentation des membres\nRobot Summit XL\nPrésentation des membres\nOffres CIDN / Mutualisation\nPrésentation des membres\nActualité et évènemnets du CIDN\n\nInscription gratuite mais obligatoire et réservé aux membres du CIDN : Cliquez ICI \nOpération soutenue par :  et  \n\nPartager \n\n\n  \n    \n  \n \n\n  \n\n \nFacebook\n\n\n    \n    \n\n\n	\n	\n\n \nTwitter\n\n\n  \n    \n  \n \n\n  \n\n \nWhatsapp\n\n\n  \n    \n  \n \n\n\n\n\n\n \nLinkedin\n\n\n  \n    \n  \n \n\n  \n\n \nEmail
URL:https://www.nae.fr/agenda/les-drones-pour-la-logistique-4/
LOCATION:Aéroport du Havre\, Rue Louis Blériot\, Le Havre\, 76620\, France
CATEGORIES:Comité Recherche, Technologie et Innovation
ATTACH;FMTTYPE=image/jpeg:https://www.nae.fr/wp-content/uploads/2021/04/logo_cidn.jpeg
END:VEVENT
END:VCALENDAR