BEGIN:VCALENDAR
VERSION:2.0
PRODID:-//NAE - ECPv6.15.20//NONSGML v1.0//EN
CALSCALE:GREGORIAN
METHOD:PUBLISH
X-ORIGINAL-URL:https://www.nae.fr
X-WR-CALDESC:Évènements pour NAE
REFRESH-INTERVAL;VALUE=DURATION:PT1H
X-Robots-Tag:noindex
X-PUBLISHED-TTL:PT1H
BEGIN:VTIMEZONE
TZID:Europe/Paris
BEGIN:DAYLIGHT
TZOFFSETFROM:+0100
TZOFFSETTO:+0200
TZNAME:CEST
DTSTART:20210328T010000
END:DAYLIGHT
BEGIN:STANDARD
TZOFFSETFROM:+0200
TZOFFSETTO:+0100
TZNAME:CET
DTSTART:20211031T010000
END:STANDARD
BEGIN:DAYLIGHT
TZOFFSETFROM:+0100
TZOFFSETTO:+0200
TZNAME:CEST
DTSTART:20220327T010000
END:DAYLIGHT
BEGIN:STANDARD
TZOFFSETFROM:+0200
TZOFFSETTO:+0100
TZNAME:CET
DTSTART:20221030T010000
END:STANDARD
BEGIN:DAYLIGHT
TZOFFSETFROM:+0100
TZOFFSETTO:+0200
TZNAME:CEST
DTSTART:20230326T010000
END:DAYLIGHT
BEGIN:STANDARD
TZOFFSETFROM:+0200
TZOFFSETTO:+0100
TZNAME:CET
DTSTART:20231029T010000
END:STANDARD
END:VTIMEZONE
BEGIN:VEVENT
DTSTART;TZID=Europe/Paris:20220505T140000
DTEND;TZID=Europe/Paris:20220505T170000
DTSTAMP:20260423T131057
CREATED:20211225T144641Z
LAST-MODIFIED:20260303T182934Z
UID:69301-1651759200-1651770000@www.nae.fr
SUMMARY:Atelier CIDN - Les Drones pour l’environnement – 05/05/22
DESCRIPTION:Les drones pour l’environnement – cas d’usages et besoins\n \nquel cas d’usage et besoins\nJeudi 5 mai 2022  14h00 à 17h00 \nAeroport Le Havre \n\nPROGRAMME \n\n12h00 – Déjeuner des membres du CIDN – (réservé pour les membres du CIDN)\n\n\n  \n\n13h30 – Accueil\n13h45 – Présentation des activités et retour d’expériences des membres du CIDN\nCas d’usages et besoins\n\nPrésentation de La Maison de l’Estuaire-   Réserve Naturelle Nationale de l’Estuaire de la Seine\nPrésentation du Lycée Edouard de Chambray – Agriculture\nPrésentation des Voies Navigables de France (VNF) – Réseau des voies navigables de France (sous validation)\n\n\n16h00 – Pause\n16h15 – Rencontres individuelles – Chaque acteur réalise des RdV individuel de 10-15min pré-programmés17h00 – Clôture – verre de l’amitié\n\n  \nInscription gratuite mais obligatoire : Cliquez ICI \nOpération soutenue par :  et  \n\nPartager \n\n\n  \n    \n  \n \n\n  \n\n \nFacebook\n\n\n    \n    \n\n\n	\n	\n\n \nTwitter\n\n\n  \n    \n  \n \n\n  \n\n \nWhatsapp\n\n\n  \n    \n  \n \n\n\n\n\n\n \nLinkedin\n\n\n  \n    \n  \n \n\n  \n\n \nEmail
URL:https://www.nae.fr/agenda/les-drones-pour-la-logistique-3/
LOCATION:Aéroport du Havre\, Rue Louis Blériot\, Le Havre\, 76620\, France
CATEGORIES:Comité Recherche, Technologie et Innovation
ATTACH;FMTTYPE=image/jpeg:https://www.nae.fr/wp-content/uploads/2021/04/logo_cidn.jpeg
END:VEVENT
END:VCALENDAR