BEGIN:VCALENDAR
VERSION:2.0
PRODID:-//NAE - ECPv6.15.20//NONSGML v1.0//EN
CALSCALE:GREGORIAN
METHOD:PUBLISH
X-WR-CALNAME:NAE
X-ORIGINAL-URL:https://www.nae.fr
X-WR-CALDESC:Évènements pour NAE
REFRESH-INTERVAL;VALUE=DURATION:PT1H
X-Robots-Tag:noindex
X-PUBLISHED-TTL:PT1H
BEGIN:VTIMEZONE
TZID:Europe/Paris
BEGIN:DAYLIGHT
TZOFFSETFROM:+0100
TZOFFSETTO:+0200
TZNAME:CEST
DTSTART:20210328T010000
END:DAYLIGHT
BEGIN:STANDARD
TZOFFSETFROM:+0200
TZOFFSETTO:+0100
TZNAME:CET
DTSTART:20211031T010000
END:STANDARD
BEGIN:DAYLIGHT
TZOFFSETFROM:+0100
TZOFFSETTO:+0200
TZNAME:CEST
DTSTART:20220327T010000
END:DAYLIGHT
BEGIN:STANDARD
TZOFFSETFROM:+0200
TZOFFSETTO:+0100
TZNAME:CET
DTSTART:20221030T010000
END:STANDARD
BEGIN:DAYLIGHT
TZOFFSETFROM:+0100
TZOFFSETTO:+0200
TZNAME:CEST
DTSTART:20230326T010000
END:DAYLIGHT
BEGIN:STANDARD
TZOFFSETFROM:+0200
TZOFFSETTO:+0100
TZNAME:CET
DTSTART:20231029T010000
END:STANDARD
END:VTIMEZONE
BEGIN:VEVENT
DTSTART;VALUE=DATE:20220606
DTEND;VALUE=DATE:20220609
DTSTAMP:20260423T102747
CREATED:20211222T075640Z
LAST-MODIFIED:20260303T182932Z
UID:70853-1654473600-1654732799@www.nae.fr
SUMMARY:Atelier - théories et pratiques du mal des transports du 06 au 08 /06/22
DESCRIPTION:L’atelier sur le mal des transports réunira des spécialistes de premier plan dans la recherche sur le mal des transports. Nous comparerons des modèles et tenterons de concilier\, si possible\, différentes approches théoriques du mal des transports. Des séminaires\, tables rondes et événements sociaux auront lieu les 6\, 7 et 8 juin 2022.\nLe mal des transports et ses modèles\, les preuves empiriques\, les questions ouvertes\, le contrôle et la stabilité posturale\, le système vestibulaire et l’intégration multisensorielle sont des sujets majeurs qui seront présentés pendant les trois jours.\n\nL’atelier accueillera également la réunion 2022 de l’ESCEBD (Société européenne pour l’évaluation clinique des troubles de l’équilibre).\n\nCliquez-ici pour le programme\n\nCliquez-ici pour vous inscrire\n \n\nPartager \n\n\n  \n    \n  \n \n\n  \n\n \nFacebook\n\n\n    \n    \n\n\n	\n	\n\n \nTwitter\n\n\n  \n    \n  \n \n\n  \n\n \nWhatsapp\n\n\n  \n    \n  \n \n\n\n\n\n\n \nLinkedin\n\n\n  \n    \n  \n \n\n  \n\n \nEmail
URL:https://www.nae.fr/agenda/atelier-theories-et-pratiques-du-mal-des-transports-du-06-au-08-06-22/
CATEGORIES:Salons – Conferences
ATTACH;FMTTYPE=image/png:https://www.nae.fr/wp-content/uploads/2022/05/header_01.png
END:VEVENT
BEGIN:VEVENT
DTSTART;TZID=Europe/Paris:20220607T130000
DTEND;TZID=Europe/Paris:20220607T173000
DTSTAMP:20260423T102747
CREATED:20211222T075608Z
LAST-MODIFIED:20260303T182931Z
UID:69572-1654606800-1654623000@www.nae.fr
SUMMARY:Atelier Fabrication Additive - 07/06/22
DESCRIPTION:Un après-midi pour partager autour des enjeux de la Fabrication Additive.\nUn focus sera réalisé sur la qualification des pièces et matériaux en Fabrication Additive grâce à la présence d’industriel\, d’académique et acteurs de la recherche. \nNous aurons également l’opportunité de visiter le site du CESI qui nous accueillera. \nEn 2nde partie de l’après midi\, des rendez-vous individuel vous seront proposés afin de mieux vous connaître et renforcer le lien de la communauté FAN. \nInscription gratuite mais obligatoire en fonction du nombre de place disponible. Pass vaccinal obligatoire en fonction de la situation sanitaire\n \nPROGRAMME \n13h45 – Accueil et Tour de table\n14h20 – Retour d’expérience sur la qualification de pièces et matériaux en Fabrication Additive (Ariane Group / ARKEMA) \n15h10 – Poit sur la normalisation de la fabrication additive par Eric BAUSTERT (MMB – Volum-E) \n15h20 – Pause et visite des équipements du CESI \n16h00 – Présentation des projets en cours\n– Comment solliciter les plateformes ?\n– Projets CLIP FAM / COLIBRY / EASY STRESS + \n16h50 – Echanges individuels préprogrammés entre acteurs\n17h30 – Fin \nInscription : \nPour s’enregistrer CLIQUEZ ICI \nLogistique : \n\nDate : 07 juin 2022\nLocalisation : Campus CESI – 80 avenue Edmund Halley – 76800 Saint Etienne du Rouvray\nAccès : Inscription gratuite mais obligatoire – Pass vaccinal obligatoire en fonction de la situation sanitaire\n\n \n\nPartager \n\n\n  \n    \n  \n \n\n  \n\n \nFacebook\n\n\n    \n    \n\n\n	\n	\n\n \nTwitter\n\n\n  \n    \n  \n \n\n  \n\n \nWhatsapp\n\n\n  \n    \n  \n \n\n\n\n\n\n \nLinkedin\n\n\n  \n    \n  \n \n\n  \n\n \nEmail
URL:https://www.nae.fr/agenda/atelier-fabrication-additive-07-06-22/
LOCATION:Campus CESI Rouen\, 80 avenue Edmund Halley\, Saint Etienne du Rouvray\, 76800\, France
CATEGORIES:Comité Recherche, Technologie et Innovation
ATTACH;FMTTYPE=image/png:https://www.nae.fr/wp-content/uploads/2022/03/InvitationAtelier_FAN_7_juin_V2.png
END:VEVENT
END:VCALENDAR