BEGIN:VCALENDAR
VERSION:2.0
PRODID:-//NAE - ECPv6.15.20//NONSGML v1.0//EN
CALSCALE:GREGORIAN
METHOD:PUBLISH
X-ORIGINAL-URL:https://www.nae.fr
X-WR-CALDESC:Évènements pour NAE
REFRESH-INTERVAL;VALUE=DURATION:PT1H
X-Robots-Tag:noindex
X-PUBLISHED-TTL:PT1H
BEGIN:VTIMEZONE
TZID:Europe/Paris
BEGIN:DAYLIGHT
TZOFFSETFROM:+0100
TZOFFSETTO:+0200
TZNAME:CEST
DTSTART:20210328T010000
END:DAYLIGHT
BEGIN:STANDARD
TZOFFSETFROM:+0200
TZOFFSETTO:+0100
TZNAME:CET
DTSTART:20211031T010000
END:STANDARD
BEGIN:DAYLIGHT
TZOFFSETFROM:+0100
TZOFFSETTO:+0200
TZNAME:CEST
DTSTART:20220327T010000
END:DAYLIGHT
BEGIN:STANDARD
TZOFFSETFROM:+0200
TZOFFSETTO:+0100
TZNAME:CET
DTSTART:20221030T010000
END:STANDARD
BEGIN:DAYLIGHT
TZOFFSETFROM:+0100
TZOFFSETTO:+0200
TZNAME:CEST
DTSTART:20230326T010000
END:DAYLIGHT
BEGIN:STANDARD
TZOFFSETFROM:+0200
TZOFFSETTO:+0100
TZNAME:CET
DTSTART:20231029T010000
END:STANDARD
END:VTIMEZONE
BEGIN:VEVENT
DTSTART;TZID=Europe/Paris:20220610T140000
DTEND;TZID=Europe/Paris:20220610T153000
DTSTAMP:20260423T102904
CREATED:20211222T075646Z
LAST-MODIFIED:20260303T182931Z
UID:71051-1654869600-1654875000@www.nae.fr
SUMMARY:Projet Européen EU-Alliance - 10/06/222
DESCRIPTION:Prolongation d’ALLIANCE – Soutenir l’internationalisation des PME européennes du textile technique\, de la connectivité\, des technologies de pointe et des matériaux avancés. Le projet cible en particulier les marchés à double usage (civil et militaire) de la sécurité et de la défense dans 4 pays : les Etats-Unis\, le Canada\, le Japon et l’Indonésie. \n\nEnjeux du projet : Mise en place de coopérations technologiques et commerciales entre d’un côté les PME européennes et les membres du projet EU-ALLIANCE\, et de l’autre des partenaires dans les pays-cibles.\n\nJoignez-vous à nous pour notre premier webinaire axé sur la mission! Nous lançons la série avec cet événement dédié à la mission aux États-Unis.\nC’est la meilleure occasion d’en savoir plus sur l’événement\, l’organisation\, les avantages\, les participants et comment nous rejoindre!\nVous pouvez vous inscrire ici : https://lnkd.in/eQmqC8U7 \nConsultez l’appel à la sélection des PME à la participation à la mission internationale aux États-Unis ici: https://lnkd.in/eUefAcBG \n\nPartager \n\n\n  \n    \n  \n \n\n  \n\n \nFacebook\n\n\n    \n    \n\n\n	\n	\n\n \nTwitter\n\n\n  \n    \n  \n \n\n  \n\n \nWhatsapp\n\n\n  \n    \n  \n \n\n\n\n\n\n \nLinkedin\n\n\n  \n    \n  \n \n\n  \n\n \nEmail
URL:https://www.nae.fr/agenda/projet-europeen-eu-alliance-10-06-222/
CATEGORIES:Salons – Conferences
ATTACH;FMTTYPE=image/jpeg:https://www.nae.fr/wp-content/uploads/2022/06/1653403316465.jpg
END:VEVENT
END:VCALENDAR