BEGIN:VCALENDAR
VERSION:2.0
PRODID:-//NAE - ECPv6.15.20//NONSGML v1.0//EN
CALSCALE:GREGORIAN
METHOD:PUBLISH
X-WR-CALNAME:NAE
X-ORIGINAL-URL:https://www.nae.fr
X-WR-CALDESC:Évènements pour NAE
REFRESH-INTERVAL;VALUE=DURATION:PT1H
X-Robots-Tag:noindex
X-PUBLISHED-TTL:PT1H
BEGIN:VTIMEZONE
TZID:Europe/Paris
BEGIN:DAYLIGHT
TZOFFSETFROM:+0100
TZOFFSETTO:+0200
TZNAME:CEST
DTSTART:20210328T010000
END:DAYLIGHT
BEGIN:STANDARD
TZOFFSETFROM:+0200
TZOFFSETTO:+0100
TZNAME:CET
DTSTART:20211031T010000
END:STANDARD
BEGIN:DAYLIGHT
TZOFFSETFROM:+0100
TZOFFSETTO:+0200
TZNAME:CEST
DTSTART:20220327T010000
END:DAYLIGHT
BEGIN:STANDARD
TZOFFSETFROM:+0200
TZOFFSETTO:+0100
TZNAME:CET
DTSTART:20221030T010000
END:STANDARD
BEGIN:DAYLIGHT
TZOFFSETFROM:+0100
TZOFFSETTO:+0200
TZNAME:CEST
DTSTART:20230326T010000
END:DAYLIGHT
BEGIN:STANDARD
TZOFFSETFROM:+0200
TZOFFSETTO:+0100
TZNAME:CET
DTSTART:20231029T010000
END:STANDARD
END:VTIMEZONE
BEGIN:VEVENT
DTSTART;TZID=Europe/Paris:20220703T080000
DTEND;TZID=Europe/Paris:20220708T170000
DTSTAMP:20260419T165856
CREATED:20211219T075437Z
LAST-MODIFIED:20260303T182927Z
UID:67623-1656835200-1657299600@www.nae.fr
SUMMARY:EUCASS-3AF Conference - Lille - du 3 au 8 juillet 2022
DESCRIPTION:La France et la Belgique unissent leurs forces et vous invitent à Lille (France\, #hellolille) du 3 au 8 juillet 2022\, à l’occasion de la 9e Conférence européenne des sciences aérospatiales organisée par EUCASS. Cette édition a reçu le soutien de l’ Association Aéronautique et Astronautique de France (3AF) et sera réalisée avec le partenariat des pôles Aér’Hauts-de-France\, Normandie Aerospace et Skywin pour la Belgique. \nAprès une période difficile pour les secteurs aéronautique et spatial\, EUCASS-3AF 2021 sera l’occasion pour notre communauté scientifique de renouer des contacts scientifiques directs et de présenter ses résultats et propositions pour l’aéronautique et l’espace de demain dans un monde contraint de changer. \nDates clés : \n15 janvier 2022 : Date limite de soumission\n22 mars 2022 : Notification aux auteurs\nMi-avril 2022 : Programme préliminaire\n28 mai 2022 : Date limite d’inscription anticipée\n3-8 juillet 2022 : Conférence au centre des congrès de Lille Grand Palais \n\nPartager \n\n\n  \n    \n  \n \n\n  \n\n \nFacebook\n\n\n    \n    \n\n\n	\n	\n\n \nTwitter\n\n\n  \n    \n  \n \n\n  \n\n \nWhatsapp\n\n\n  \n    \n  \n \n\n\n\n\n\n \nLinkedin\n\n\n  \n    \n  \n \n\n  \n\n \nEmail
URL:https://www.nae.fr/agenda/save-the-date-pour-eucass-3af-conference-lille-du-3-au-8-juillet-2022/
CATEGORIES:Salons – Conferences
ATTACH;FMTTYPE=image/jpeg:https://www.nae.fr/wp-content/uploads/2021/11/eucass_conference.jpg
END:VEVENT
END:VCALENDAR