BEGIN:VCALENDAR
VERSION:2.0
PRODID:-//NAE - ECPv6.15.20//NONSGML v1.0//EN
CALSCALE:GREGORIAN
METHOD:PUBLISH
X-ORIGINAL-URL:https://www.nae.fr
X-WR-CALDESC:Évènements pour NAE
REFRESH-INTERVAL;VALUE=DURATION:PT1H
X-Robots-Tag:noindex
X-PUBLISHED-TTL:PT1H
BEGIN:VTIMEZONE
TZID:Europe/Paris
BEGIN:DAYLIGHT
TZOFFSETFROM:+0100
TZOFFSETTO:+0200
TZNAME:CEST
DTSTART:20210328T010000
END:DAYLIGHT
BEGIN:STANDARD
TZOFFSETFROM:+0200
TZOFFSETTO:+0100
TZNAME:CET
DTSTART:20211031T010000
END:STANDARD
BEGIN:DAYLIGHT
TZOFFSETFROM:+0100
TZOFFSETTO:+0200
TZNAME:CEST
DTSTART:20220327T010000
END:DAYLIGHT
BEGIN:STANDARD
TZOFFSETFROM:+0200
TZOFFSETTO:+0100
TZNAME:CET
DTSTART:20221030T010000
END:STANDARD
BEGIN:DAYLIGHT
TZOFFSETFROM:+0100
TZOFFSETTO:+0200
TZNAME:CEST
DTSTART:20230326T010000
END:DAYLIGHT
BEGIN:STANDARD
TZOFFSETFROM:+0200
TZOFFSETTO:+0100
TZNAME:CET
DTSTART:20231029T010000
END:STANDARD
END:VTIMEZONE
BEGIN:VEVENT
DTSTART;VALUE=DATE:20220926
DTEND;VALUE=DATE:20220930
DTSTAMP:20260421T135443
CREATED:20211214T151527Z
LAST-MODIFIED:20260303T182927Z
UID:68016-1664150400-1664495999@www.nae.fr
SUMMARY:33e Symposium ESREF - du 26/09/22 au 29/09/22
DESCRIPTION:ESREF 2022\, the 33rd European Symposium on Reliability of Electron Devices\, Failure Physics and Analysis\, will take place in Berlin (Germany) from September 26-29\, 2022 at the H4 Hotel Berlin Alexanderplatz. \nThis international symposium continues to focus on recent developments and future perspectives in Quality and Reliability Management of materials\, devices and circuits for micro-\, nano-\, and optoelectronics. It provides a European forum for developing all aspects of reliability management and innovative analysis techniques for present and future electronic applications. \nFor more information : https://www.esref2022.org/ \n\nPartager \n\n\n  \n    \n  \n \n\n  \n\n \nFacebook\n\n\n    \n    \n\n\n	\n	\n\n \nTwitter\n\n\n  \n    \n  \n \n\n  \n\n \nWhatsapp\n\n\n  \n    \n  \n \n\n\n\n\n\n \nLinkedin\n\n\n  \n    \n  \n \n\n  \n\n \nEmail
URL:https://www.nae.fr/agenda/33e-symposium-esref-du-26-09-22-au-29-09-22/
CATEGORIES:Salons – Conferences
END:VEVENT
BEGIN:VEVENT
DTSTART;TZID=Europe/Paris:20220929T140000
DTEND;TZID=Europe/Paris:20220929T170000
DTSTAMP:20260421T135443
CREATED:20211216T075211Z
LAST-MODIFIED:20260303T182924Z
UID:69303-1664460000-1664470800@www.nae.fr
SUMMARY:Atelier drone – CIDN/NAE - Sécurité / Surveillance industrielle par drones - 29/09/22
DESCRIPTION:Atelier drones pour des applications « Industrielles »\n \néchanges sur le volet sécurité et surveillance par drones\nMardi 29 septembre 2022  14h00 à 17h00\nAéroport Le Havre \n\nPROGRAMME \n13h45 – Accueil \n \n14h00 – Présentation des activités du CIDN (état des lieux) et échanges \n  \n \n14h10 – Présentation du projet PRESTIGIOUS : \ndécouverte des marchés africain\, chilien et canadien pour les acteurs européens des drones dans la surveillance et la détection \n14h30 – Présentation d’expertises et savoir-faire du CIDN dans la surveillance et la sécurité de site industriel\n \n\n / ROAV7 –\n\nspécialiste dans l’acquisition et le traitement de données collectées par drones dans des environnements critiques. \n\n / AZUR Drones\n\nsurveillance aérienne 100% autonome – nouvelle génération de drones dédiés à la sûreté et la sécurité\n \n\n / Drone Xtr\n\nsolution passive et indétectable capable de détecter des drones. \n15h15 – Présentation des besoins des acteurs industriels et des enjeux liés aux drones (En construction) \n \n  \n16h00 – Pause \n16h15 – Rencontres individuelles \n17h00 – Clôture – verre de l’amitié normand\n \nINSCRIPTION A L’ATELIER DRONE \nInscription obligatoire – payante (75€) pour les acteurs dronistes non membres du CIDN \nacteur « drones » : fabricant\, intégrateur\, télépilote\, formateur\, exploitant\, consultant…\n \n  \nOpération soutenue par :  et  \n\nPartager \n\n\n  \n    \n  \n \n\n  \n\n \nFacebook\n\n\n    \n    \n\n\n	\n	\n\n \nTwitter\n\n\n  \n    \n  \n \n\n  \n\n \nWhatsapp\n\n\n  \n    \n  \n \n\n\n\n\n\n \nLinkedin\n\n\n  \n    \n  \n \n\n  \n\n \nEmail
URL:https://www.nae.fr/agenda/cidn-drones-securite-surveillance/
LOCATION:Aéroport du Havre\, Rue Louis Blériot\, Le Havre\, 76620\, France
CATEGORIES:Comité Recherche, Technologie et Innovation
ATTACH;FMTTYPE=image/png:https://www.nae.fr/wp-content/uploads/2022/01/NAE_Pictos-RTI_Drone-Detection-Neutralisation.png
END:VEVENT
END:VCALENDAR