BEGIN:VCALENDAR
VERSION:2.0
PRODID:-//NAE - ECPv6.15.20//NONSGML v1.0//EN
CALSCALE:GREGORIAN
METHOD:PUBLISH
X-WR-CALNAME:NAE
X-ORIGINAL-URL:https://www.nae.fr
X-WR-CALDESC:Évènements pour NAE
REFRESH-INTERVAL;VALUE=DURATION:PT1H
X-Robots-Tag:noindex
X-PUBLISHED-TTL:PT1H
BEGIN:VTIMEZONE
TZID:Europe/Paris
BEGIN:DAYLIGHT
TZOFFSETFROM:+0100
TZOFFSETTO:+0200
TZNAME:CEST
DTSTART:20210328T010000
END:DAYLIGHT
BEGIN:STANDARD
TZOFFSETFROM:+0200
TZOFFSETTO:+0100
TZNAME:CET
DTSTART:20211031T010000
END:STANDARD
BEGIN:DAYLIGHT
TZOFFSETFROM:+0100
TZOFFSETTO:+0200
TZNAME:CEST
DTSTART:20220327T010000
END:DAYLIGHT
BEGIN:STANDARD
TZOFFSETFROM:+0200
TZOFFSETTO:+0100
TZNAME:CET
DTSTART:20221030T010000
END:STANDARD
BEGIN:DAYLIGHT
TZOFFSETFROM:+0100
TZOFFSETTO:+0200
TZNAME:CEST
DTSTART:20230326T010000
END:DAYLIGHT
BEGIN:STANDARD
TZOFFSETFROM:+0200
TZOFFSETTO:+0100
TZNAME:CET
DTSTART:20231029T010000
END:STANDARD
END:VTIMEZONE
BEGIN:VEVENT
DTSTART;TZID=Europe/Paris:20221122T110000
DTEND;TZID=Europe/Paris:20221122T123000
DTSTAMP:20260423T114334
CREATED:20211214T093852Z
LAST-MODIFIED:20260303T182921Z
UID:73253-1669114800-1669120200@www.nae.fr
SUMMARY:Le stockage et la charge des batteries au Lithium-Ion ? L’armoire de sécurité : la meilleure solution - 22/11/22
DESCRIPTION:DESCRIPTION : \nAsecos France en partenariat avec la société ABOT (spécialiste de DRONES professionnels) évoquera lors de ce Webinaire le stockage des produits dangereux : le stockage et la charge des batteries au Lithium-Ion. \nMonsieur Kevin GUERMONT\, notre Responsable régional évoquera les Normes à respecter\, le Code du travail concernant la sécurité\, l’ergonomie aux postes de travail et tous les avantages que vous apporte le fabricant Leader sur le marché d’armoires de sécurité certifiées EN 14470 pour le stockage de produits dangereux. \nLa batterie au Lithium-Ion est reconnue comme produit dangereux.\nPourquoi se munir d’une armoire de sécurité certifiée avec une double résistance au feu (extérieur/intérieur et intérieur/extérieur) pour le stockage et la charge des batteries au lithium-Ion ? \nNous évoquerons :\n– Principes de base et mode de fonctionnement d’une Batterie au Lithium-Ion\n– Effets causés concernant les batteries au Lithium\n– Avis d’experts\n– Que faut-il prendre en compte avec le stockage actif et passif ?\n– Quels sont les dangers des batteries au Lithium-Ion ?\n– Emballement thermique : que signifie ce terme ?\n– Que faire en cas d’incendie ?\n– Exigence légales en matières de protection contre l’incendie au sein de votre société ? \nCette formation\, conférence vous permettra d’apprendre à identifier les différentes sources potentielles d’un départ de feu\, d’une explosion et éviter\, supprimer l’inhalation quotidienne des vapeurs novices\, de comprendre l’importance de la sécurité aux postes de travail. \nPour en savoir plus : CLIQUEZ ICI \n\nPartager \n\n\n  \n    \n  \n \n\n  \n\n \nFacebook\n\n\n    \n    \n\n\n	\n	\n\n \nTwitter\n\n\n  \n    \n  \n \n\n  \n\n \nWhatsapp\n\n\n  \n    \n  \n \n\n\n\n\n\n \nLinkedin\n\n\n  \n    \n  \n \n\n  \n\n \nEmail
URL:https://www.nae.fr/agenda/le-stockage-et-la-charge-des-batteries-au-lithium-ion-larmoire-de-securite-la-meilleure-solution-22-11-22/
CATEGORIES:Salons – Conferences
ATTACH;FMTTYPE=image/png:https://www.nae.fr/wp-content/uploads/2022/11/9d815543-a2e1-4acd-ba7e-9e1a4a497aa0.png
END:VEVENT
END:VCALENDAR