BEGIN:VCALENDAR
VERSION:2.0
PRODID:-//NAE - ECPv6.15.20//NONSGML v1.0//EN
CALSCALE:GREGORIAN
METHOD:PUBLISH
X-ORIGINAL-URL:https://www.nae.fr
X-WR-CALDESC:Évènements pour NAE
REFRESH-INTERVAL;VALUE=DURATION:PT1H
X-Robots-Tag:noindex
X-PUBLISHED-TTL:PT1H
BEGIN:VTIMEZONE
TZID:Europe/Paris
BEGIN:DAYLIGHT
TZOFFSETFROM:+0100
TZOFFSETTO:+0200
TZNAME:CEST
DTSTART:20210328T010000
END:DAYLIGHT
BEGIN:STANDARD
TZOFFSETFROM:+0200
TZOFFSETTO:+0100
TZNAME:CET
DTSTART:20211031T010000
END:STANDARD
BEGIN:DAYLIGHT
TZOFFSETFROM:+0100
TZOFFSETTO:+0200
TZNAME:CEST
DTSTART:20220327T010000
END:DAYLIGHT
BEGIN:STANDARD
TZOFFSETFROM:+0200
TZOFFSETTO:+0100
TZNAME:CET
DTSTART:20221030T010000
END:STANDARD
BEGIN:DAYLIGHT
TZOFFSETFROM:+0100
TZOFFSETTO:+0200
TZNAME:CEST
DTSTART:20230326T010000
END:DAYLIGHT
BEGIN:STANDARD
TZOFFSETFROM:+0200
TZOFFSETTO:+0100
TZNAME:CET
DTSTART:20231029T010000
END:STANDARD
END:VTIMEZONE
BEGIN:VEVENT
DTSTART;TZID=Europe/Paris:20221205T090000
DTEND;TZID=Europe/Paris:20221205T130000
DTSTAMP:20260421T172411
CREATED:20220112T070055Z
LAST-MODIFIED:20260303T182920Z
UID:73499-1670230800-1670245200@www.nae.fr
SUMMARY:Rendez-vous d'affaires - AMI CORIMER 2023 - 05/12/202
DESCRIPTION:Dans le cadre de l’Appel à Manifestation d’Intérêt 2023 du CORIMER\, les Pôles Mer Bretagne Atlantique et Méditerranée\, en partenariat avec la Filière des Industriels de la Mer constituée par le Pôle EMC2\, EVOLEN\, le GICAN\, le SER et la FIN\, vous proposent une opportunité pour constituer vos consortiums de projets afin de répondre aux enjeux des 4 axes stratégiques de l’AMI que sont le Smart Ship\, le Smart Yard\, le Green Ship et les Next-Gen Offshore Industry. \nINSCRIVEZ-VOUS ET CONNECTEZ-VOUS POUR PARTICIPER AU WEBINAIRE ET AUX RENCONTRES D’AFFAIRES B2B ! \nNous vous proposons un événement 100 % virtuel. \nVotre inscription\, la gestion de vos rendez-vous\, l’accès au webinaire et à vos rendez-vous programmés se font à partir de ce site. \nLes inscriptions sont ouvertes jusqu’au 4 décembre 2022 minuit \nAu programme : \n\nIntroduction (9h00 – 10h00)\n\nIntroduction générale au webinaire\, bienvenue par les Pôles Mer (Frédéric RAVILLY)\nRôle du CORIMER\, RETEX sur AMI précédents (Carine TRAMIER)\nDescription de l’AMI (Timothée MOULINIER)\nPrésentation synthétique des Feuilles de Route\nIntérêt de la labellisation et de l’accompagnement projet des Pôles Mer et EMC2 (Manon PEDRONI)\nQuestions / réponses\n\n\n\n\nRendez-vous B2B (10h00 – 13h00)\n\n  \n\nPartager \n\n\n  \n    \n  \n \n\n  \n\n \nFacebook\n\n\n    \n    \n\n\n	\n	\n\n \nTwitter\n\n\n  \n    \n  \n \n\n  \n\n \nWhatsapp\n\n\n  \n    \n  \n \n\n\n\n\n\n \nLinkedin\n\n\n  \n    \n  \n \n\n  \n\n \nEmail
URL:https://www.nae.fr/agenda/rendez-vous-daffaires-ami-corimer-2023-05-12-202/
CATEGORIES:Salons – Conferences
ATTACH;FMTTYPE=image/png:https://www.nae.fr/wp-content/uploads/2022/11/8330950354-ca38b9cf2d.png
END:VEVENT
END:VCALENDAR