BEGIN:VCALENDAR
VERSION:2.0
PRODID:-//NAE - ECPv6.15.20//NONSGML v1.0//EN
CALSCALE:GREGORIAN
METHOD:PUBLISH
X-ORIGINAL-URL:https://www.nae.fr
X-WR-CALDESC:Évènements pour NAE
REFRESH-INTERVAL;VALUE=DURATION:PT1H
X-Robots-Tag:noindex
X-PUBLISHED-TTL:PT1H
BEGIN:VTIMEZONE
TZID:Europe/Paris
BEGIN:DAYLIGHT
TZOFFSETFROM:+0100
TZOFFSETTO:+0200
TZNAME:CEST
DTSTART:20210328T010000
END:DAYLIGHT
BEGIN:STANDARD
TZOFFSETFROM:+0200
TZOFFSETTO:+0100
TZNAME:CET
DTSTART:20211031T010000
END:STANDARD
BEGIN:DAYLIGHT
TZOFFSETFROM:+0100
TZOFFSETTO:+0200
TZNAME:CEST
DTSTART:20220327T010000
END:DAYLIGHT
BEGIN:STANDARD
TZOFFSETFROM:+0200
TZOFFSETTO:+0100
TZNAME:CET
DTSTART:20221030T010000
END:STANDARD
BEGIN:DAYLIGHT
TZOFFSETFROM:+0100
TZOFFSETTO:+0200
TZNAME:CEST
DTSTART:20230326T010000
END:DAYLIGHT
BEGIN:STANDARD
TZOFFSETFROM:+0200
TZOFFSETTO:+0100
TZNAME:CET
DTSTART:20231029T010000
END:STANDARD
END:VTIMEZONE
BEGIN:VEVENT
DTSTART;TZID=Europe/Paris:20221213T130000
DTEND;TZID=Europe/Paris:20221213T140000
DTSTAMP:20260421T172519
CREATED:20220111T065913Z
LAST-MODIFIED:20260303T182919Z
UID:69298-1670936400-1670940000@www.nae.fr
SUMMARY:Les Rendez-Vous Fiabilité du CFF - 13/12/22
DESCRIPTION:Venez partager un temps d’échanges sur des thèses en cours au sein de la communauté CFF\, et en rapport avec la Fiabilité des Composants et Systèmes Electroniques. \nA l’heure de l’électrification des systèmes\, de l’avion plus vert et de la décarbonation\, l’utilisation de nouvelles technologies est un levier indispensable pour atteindre cette ambition. Pour garantir leur mise en œuvre plus rapide\, il est nécessaire de valider leur fiabilité. \nNAE\, qui a fait de la Normandie un acteur reconnu sur ce sujet\, a ainsi coordonné durant 2 ans le projet DiThAA pour le développement de nouvelles solutions de refroidissement pour les systèmes de communication 5G et Internet à bord des avions grâce à la miniaturisation des antennes actives. \nCette présentation se fera en visio-conférence de 13h00 à 14h00 et est ouvert à tous sous réserve d’inscription au préalable sur : CLIQUEZ ICI POUR VOUS ENREGISTRER. \nAvec le partenariat de ASTech Paris Region\, Next Move et NAE. \nNous restons à votre disposition pour toutes questions éventuelles sur cff@nae.fr. \n\nPartager \n\n\n  \n    \n  \n \n\n  \n\n \nFacebook\n\n\n    \n    \n\n\n	\n	\n\n \nTwitter\n\n\n  \n    \n  \n \n\n  \n\n \nWhatsapp\n\n\n  \n    \n  \n \n\n\n\n\n\n \nLinkedin\n\n\n  \n    \n  \n \n\n  \n\n \nEmail
URL:https://www.nae.fr/agenda/les-rendez-vous-fiabilite-du-cff-dithaa/
CATEGORIES:Comité Recherche, Technologie et Innovation
ATTACH;FMTTYPE=image/jpeg:https://www.nae.fr/wp-content/uploads/2020/10/Les-Rendez-vous-Fiabilite-du-CFF_4-JPEG-1.jpg
END:VEVENT
END:VCALENDAR