BEGIN:VCALENDAR
VERSION:2.0
PRODID:-//NAE - ECPv6.15.20//NONSGML v1.0//EN
CALSCALE:GREGORIAN
METHOD:PUBLISH
X-WR-CALNAME:NAE
X-ORIGINAL-URL:https://www.nae.fr
X-WR-CALDESC:Évènements pour NAE
REFRESH-INTERVAL;VALUE=DURATION:PT1H
X-Robots-Tag:noindex
X-PUBLISHED-TTL:PT1H
BEGIN:VTIMEZONE
TZID:Europe/Paris
BEGIN:DAYLIGHT
TZOFFSETFROM:+0100
TZOFFSETTO:+0200
TZNAME:CEST
DTSTART:20220327T010000
END:DAYLIGHT
BEGIN:STANDARD
TZOFFSETFROM:+0200
TZOFFSETTO:+0100
TZNAME:CET
DTSTART:20221030T010000
END:STANDARD
BEGIN:DAYLIGHT
TZOFFSETFROM:+0100
TZOFFSETTO:+0200
TZNAME:CEST
DTSTART:20230326T010000
END:DAYLIGHT
BEGIN:STANDARD
TZOFFSETFROM:+0200
TZOFFSETTO:+0100
TZNAME:CET
DTSTART:20231029T010000
END:STANDARD
BEGIN:DAYLIGHT
TZOFFSETFROM:+0100
TZOFFSETTO:+0200
TZNAME:CEST
DTSTART:20240331T010000
END:DAYLIGHT
BEGIN:STANDARD
TZOFFSETFROM:+0200
TZOFFSETTO:+0100
TZNAME:CET
DTSTART:20241027T010000
END:STANDARD
END:VTIMEZONE
BEGIN:VEVENT
DTSTART;TZID=Europe/Paris:20230126T083000
DTEND;TZID=Europe/Paris:20230126T180000
DTSTAMP:20260421T190646
CREATED:20221210T091045Z
LAST-MODIFIED:20260303T182918Z
UID:72288-1674721800-1674756000@www.nae.fr
SUMMARY:Symposium FAN – Fabrication Additive en Normandie - 26/01/23
DESCRIPTION:NAE et NextMove vous invitent à participer au Symposium Fabrication Additive Normandie\n26/01/2023 – INSA de Rouen – 08h30-18h00\nUne journée pour échanger et partager avec les acteurs de la Fabrication Additive en Normandie. \nVenez découvrir l’ensemble des activités et des retours d’expériences sur différents secteurs : Aéronautique\, Défense\, Spatial\, Automobile\, Artisanat… \nPROGRAMME :  \n\n08h30 : Accueil\n09h00 : Fabrication Additive généralités\n\nTendance et prospective marché\nPrésentation activité FA en Normandie\nPitch de compétences\nLes lieux de créativité pour la Fabrication Additive\n\n\n10h40 : Pause café et découverte des compétences normandes (stands)\n11h40 : Retour d’expérience sur des cas d’usage\n13h00 : Déjeuner et découverte des compétences normandes (stands)\n14h00 : Session technique : Présentation des projets et thèses en Normandie sur le sujet de la FA\n15h30 : Finale du concours FAN\n16h00 : After Work / Networking\n18h00 : Clôture de la journée\n\nEn partenariat avec Normandie Maritime\, Pole ATEN \nPour plus d’informations : CLIQUEZ ICI \nCLIQUEZ ICI POUR VOUS ENREGISTRER \n\n \n\nPartager \n\n\n  \n    \n  \n \n\n  \n\n \nFacebook\n\n\n    \n    \n\n\n	\n	\n\n \nTwitter\n\n\n  \n    \n  \n \n\n  \n\n \nWhatsapp\n\n\n  \n    \n  \n \n\n\n\n\n\n \nLinkedin\n\n\n  \n    \n  \n \n\n  \n\n \nEmail
URL:https://www.nae.fr/agenda/symposium-fan-fabrication-additive-en-normandie-26-01-23/
LOCATION:INSA ROUEN\, Avenue de l'Université\,  Saint-Étienne-du-Rouvray\, 76800\, France
CATEGORIES:Salons – Conferences
ATTACH;FMTTYPE=image/png:https://www.nae.fr/wp-content/uploads/2021/04/Logo_FAN_Couleurs-500.png
END:VEVENT
END:VCALENDAR