BEGIN:VCALENDAR
VERSION:2.0
PRODID:-//NAE - ECPv6.15.20//NONSGML v1.0//EN
CALSCALE:GREGORIAN
METHOD:PUBLISH
X-ORIGINAL-URL:https://www.nae.fr
X-WR-CALDESC:Évènements pour NAE
REFRESH-INTERVAL;VALUE=DURATION:PT1H
X-Robots-Tag:noindex
X-PUBLISHED-TTL:PT1H
BEGIN:VTIMEZONE
TZID:Europe/Paris
BEGIN:DAYLIGHT
TZOFFSETFROM:+0100
TZOFFSETTO:+0200
TZNAME:CEST
DTSTART:20220327T010000
END:DAYLIGHT
BEGIN:STANDARD
TZOFFSETFROM:+0200
TZOFFSETTO:+0100
TZNAME:CET
DTSTART:20221030T010000
END:STANDARD
BEGIN:DAYLIGHT
TZOFFSETFROM:+0100
TZOFFSETTO:+0200
TZNAME:CEST
DTSTART:20230326T010000
END:DAYLIGHT
BEGIN:STANDARD
TZOFFSETFROM:+0200
TZOFFSETTO:+0100
TZNAME:CET
DTSTART:20231029T010000
END:STANDARD
BEGIN:DAYLIGHT
TZOFFSETFROM:+0100
TZOFFSETTO:+0200
TZNAME:CEST
DTSTART:20240331T010000
END:DAYLIGHT
BEGIN:STANDARD
TZOFFSETFROM:+0200
TZOFFSETTO:+0100
TZNAME:CET
DTSTART:20241027T010000
END:STANDARD
END:VTIMEZONE
BEGIN:VEVENT
DTSTART;TZID=Europe/Paris:20230709T080000
DTEND;TZID=Europe/Paris:20230713T170000
DTSTAMP:20260422T054248
CREATED:20220108T102007Z
LAST-MODIFIED:20260303T182907Z
UID:73487-1688889600-1689267600@www.nae.fr
SUMMARY:Conférence Aerospace Europe 2023 - CEAS - du 09 au 13/07/23
DESCRIPTION:La conférence Aerospace Europe 2023 est un événement conjoint entre la 10e Conférence européenne des sciences aérospatiales (EUCASS) et la 9e conférence du Conseil des sociétés aérospatiales européennes (CEAS). Les objectifs en 2023 sont de renforcer le lien entre l’espace et l’aéronautique\, de faciliter la fertilisation croisée et de jeter les bases d’un grand congrès international unifié des sciences aérospatiales en Europe. Avec un contenu scientifique riche pour l’avenir de l’espace et de l’aéronautique\, la conférence Aerospace Europe 2023 présentera des idées de pointe pour le monde de demain. Organisée au Swiss Tech Convention Center de Lausanne\, en Suisse\, la conférence sera également l’occasion de découvrir la ville\, Capitale Olympique mondiale\, ainsi que l’Ecole Polytechnique Fédérale Suisse classée 16e au QS World University Ranking. \nPour vous inscrire cliquez-ici \n\nPartager \n\n\n  \n    \n  \n \n\n  \n\n \nFacebook\n\n\n    \n    \n\n\n	\n	\n\n \nTwitter\n\n\n  \n    \n  \n \n\n  \n\n \nWhatsapp\n\n\n  \n    \n  \n \n\n\n\n\n\n \nLinkedin\n\n\n  \n    \n  \n \n\n  \n\n \nEmail
URL:https://www.nae.fr/agenda/conference-aerospace-europe-2023-ceas-du-09-au-13-07-23/
LOCATION:SwissTech Convention Center\, Quartier Nord EPFL - Route Louis-Favre 2\, Ecublens\, 1024\, Suisse
CATEGORIES:Salons – Conferences
ATTACH;FMTTYPE=image/png:https://www.nae.fr/wp-content/uploads/2022/11/Conference-Aerospace-Europe-2023-CEAS-du-09-au-130723.png
END:VEVENT
END:VCALENDAR