BEGIN:VCALENDAR
VERSION:2.0
PRODID:-//NAE - ECPv6.15.20//NONSGML v1.0//EN
CALSCALE:GREGORIAN
METHOD:PUBLISH
X-WR-CALNAME:NAE
X-ORIGINAL-URL:https://www.nae.fr
X-WR-CALDESC:Évènements pour NAE
REFRESH-INTERVAL;VALUE=DURATION:PT1H
X-Robots-Tag:noindex
X-PUBLISHED-TTL:PT1H
BEGIN:VTIMEZONE
TZID:Europe/Paris
BEGIN:DAYLIGHT
TZOFFSETFROM:+0100
TZOFFSETTO:+0200
TZNAME:CEST
DTSTART:20220327T010000
END:DAYLIGHT
BEGIN:STANDARD
TZOFFSETFROM:+0200
TZOFFSETTO:+0100
TZNAME:CET
DTSTART:20221030T010000
END:STANDARD
BEGIN:DAYLIGHT
TZOFFSETFROM:+0100
TZOFFSETTO:+0200
TZNAME:CEST
DTSTART:20230326T010000
END:DAYLIGHT
BEGIN:STANDARD
TZOFFSETFROM:+0200
TZOFFSETTO:+0100
TZNAME:CET
DTSTART:20231029T010000
END:STANDARD
BEGIN:DAYLIGHT
TZOFFSETFROM:+0100
TZOFFSETTO:+0200
TZNAME:CEST
DTSTART:20240331T010000
END:DAYLIGHT
BEGIN:STANDARD
TZOFFSETFROM:+0200
TZOFFSETTO:+0100
TZNAME:CET
DTSTART:20241027T010000
END:STANDARD
END:VTIMEZONE
BEGIN:VEVENT
DTSTART;VALUE=DATE:20231130
DTEND;VALUE=DATE:20231201
DTSTAMP:20260422T124018
CREATED:20220107T130441Z
LAST-MODIFIED:20260303T182856Z
UID:76440-1701302400-1701388799@www.nae.fr
SUMMARY:IMAPS – POWER 2023 - 30/11/2023 - Tours
DESCRIPTION:From Nano to Macro Power Electronics and Packaging European Workshop\n14th Power Electronics and Packaging Technical Workshop\n30 November 2023 | Tours\, France\nvoir https://france.imapseurope.org/ \nTOPICS :\n– Power management for transportation and industrial systems\n– Energy harvesting systems\, from nano to macro (smart grid\, wind energy\, photovoltaic\, etc…)\n– Energy conversion systems– from power to emission (lighting\, ultrasonic\, infrared\, etc…) \nThese topics could be developed around several themes\, such as:\n– New materials and substrates dedicated to power electronics\n– Thermal or thermo mechanical or regulatory constraints (RoHS regulation\, REACH\, etc…)\n– Dedicated technologies for integration and optimisation of power systems\, including passive\ncomponents (weight and size reduction\, yield improvement\, efficiency\, etc…)\n– Innovative technologies\, materials and processes dedicated to interconnection and packaging (die\nattach\, bonding wire & ribbon wires\, 3D power components\, etc…)\n– Reliability and failure modes (impacts linked to technologies\, thermal constraints\, radiation\, etc…)\,\npredictive methods\, design of experiments\, reliability\n– High current and high voltage or extremely high voltage: impact on packaging technologies \n\n\nWho We Are…\n\n\n\n\nIMAPS – International Microelectronics Assembly and Packaging Society – is a global community of microelectronic related engineers\, scientists\, manufacturers\, end-users and supply chain companies. \nThe Society aims to support the development and growth of the Microelectronics and related industries\, and to aid the transfer of knowledge and information. This is achieved through networking\, seminars\, workshops\, short courses\, publications\, webinars and websites. \nMembers benefit from access to business networking and events at a reduced rate; technical information & receive society newsletters and other publications. IMAPS is the largest Microelectronic Packaging Society in the World ! \nIMAPS-France (French chapter) is a non-profit organization with 110 members in 2021 from 110 companies or institutes in France and neighbouring countries (Belgium\, Switzerland\, Morocco\, Spain\, Portugal). IMAPS-France is one out of the 30 IMAPS chapters throughout the World. \nTo that end\, we organize events each year. In 2022-2023\, in French OR English language\, these are namely: \n\nMINaPAD 2023   7th & 8th June 2023\nPOWER 2023      30th November 2023\n\nWe will be glad to see you join us for one of these events. \n\n\n \n\nPartager \n\n\n  \n    \n  \n \n\n  \n\n \nFacebook\n\n\n    \n    \n\n\n	\n	\n\n \nTwitter\n\n\n  \n    \n  \n \n\n  \n\n \nWhatsapp\n\n\n  \n    \n  \n \n\n\n\n\n\n \nLinkedin\n\n\n  \n    \n  \n \n\n  \n\n \nEmail
URL:https://www.nae.fr/agenda/imaps-power-2023-30-11-2023-tours/
CATEGORIES:Comité Recherche, Technologie et Innovation
ATTACH;FMTTYPE=image/png:https://www.nae.fr/wp-content/uploads/2023/06/IMAPS_france.png
ORGANIZER;CN="IMAPS":MAILTO:imaps.france@orange.fr
END:VEVENT
END:VCALENDAR