BEGIN:VCALENDAR
VERSION:2.0
PRODID:-//NAE - ECPv6.15.20//NONSGML v1.0//EN
CALSCALE:GREGORIAN
METHOD:PUBLISH
X-WR-CALNAME:NAE
X-ORIGINAL-URL:https://www.nae.fr
X-WR-CALDESC:Évènements pour NAE
REFRESH-INTERVAL;VALUE=DURATION:PT1H
X-Robots-Tag:noindex
X-PUBLISHED-TTL:PT1H
BEGIN:VTIMEZONE
TZID:Europe/Paris
BEGIN:DAYLIGHT
TZOFFSETFROM:+0100
TZOFFSETTO:+0200
TZNAME:CEST
DTSTART:20230326T010000
END:DAYLIGHT
BEGIN:STANDARD
TZOFFSETFROM:+0200
TZOFFSETTO:+0100
TZNAME:CET
DTSTART:20231029T010000
END:STANDARD
BEGIN:DAYLIGHT
TZOFFSETFROM:+0100
TZOFFSETTO:+0200
TZNAME:CEST
DTSTART:20240331T010000
END:DAYLIGHT
BEGIN:STANDARD
TZOFFSETFROM:+0200
TZOFFSETTO:+0100
TZNAME:CET
DTSTART:20241027T010000
END:STANDARD
BEGIN:DAYLIGHT
TZOFFSETFROM:+0100
TZOFFSETTO:+0200
TZNAME:CEST
DTSTART:20250330T010000
END:DAYLIGHT
BEGIN:STANDARD
TZOFFSETFROM:+0200
TZOFFSETTO:+0100
TZNAME:CET
DTSTART:20251026T010000
END:STANDARD
END:VTIMEZONE
BEGIN:VEVENT
DTSTART;TZID=Europe/Paris:20241008T100000
DTEND;TZID=Europe/Paris:20241008T120000
DTSTAMP:20260423T180932
CREATED:20231006T074746Z
LAST-MODIFIED:20260303T182845Z
UID:82123-1728381600-1728388800@www.nae.fr
SUMMARY:Webinaire « Fibres naturelles » 08/10/2024
DESCRIPTION:NAE est partenaire du webinaire « Comment intégrer des fibres naturelles dans mes produits ? » organisé le 8 octobre prochain par Bioeconomy For Change. \nToutes les informations et programme ci-dessous. \nGratuit mais inscription obligatoire : Webinaire – Comment intégrer des fibres naturelles dans mes produits ? – Bioeconomy For Change \n@Samuel CUTULLIC est à votre disposition pour toute question. \n  \n——— \nAllègement de structure\, amortissement de vibration\, réduction d’émission de CO2 …\nDécouvrez des matériaux aux propriétés différenciantes applicables dans votre secteur industriel ! \nEvènement gratuit sur inscription \nCe webinaire est organisé par Bioeconomy For Change en partenariat avec les filières NAE\, NextMove\, et Normandie Maritime. \nProgramme prévisionnel :\nIntroduction \nQuelques exemples de pièces sur le marché intégrant des fibres naturelles \n\nNautisme\, mobilier\, et signalétique – Kaïros\, Xavier Baris\nNautisme – Groupe Beneteau\,  Gaétan Bernard\nSport – \n\nQuelques exemples de matériaux / applications en cours de développement \n\nSport – Cutback Sport\, Victor Gager\nAutomobile – Forvia\, Thibaud Debuissy\n\nQuelques exemples de projets normands \nComment financer le développement de pièces biosourcées ? \n\nDispositifs régionaux\nAppels à projets nationaux\nCalls et topics européens\n\nLes réseaux filières en Normandie \n\nNextMove : mobilité\nNAE : aéronautique\, spatial\, défense et sécurité\nNormandie Maritime: maritime et fluvial\n\nConclusion \n\nPartager \n\n\n  \n    \n  \n \n\n  \n\n \nFacebook\n\n\n    \n    \n\n\n	\n	\n\n \nTwitter\n\n\n  \n    \n  \n \n\n  \n\n \nWhatsapp\n\n\n  \n    \n  \n \n\n\n\n\n\n \nLinkedin\n\n\n  \n    \n  \n \n\n  \n\n \nEmail
URL:https://www.nae.fr/agenda/webinaire-fibres-naturelles-08-10-2024/
LOCATION:webinaire en ligne
ATTACH;FMTTYPE=image/png:https://www.nae.fr/wp-content/uploads/2024/09/Webinaire-fibres.png
END:VEVENT
END:VCALENDAR