BEGIN:VCALENDAR
VERSION:2.0
PRODID:-//NAE - ECPv6.15.20//NONSGML v1.0//EN
CALSCALE:GREGORIAN
METHOD:PUBLISH
X-WR-CALNAME:NAE
X-ORIGINAL-URL:https://www.nae.fr
X-WR-CALDESC:Évènements pour NAE
REFRESH-INTERVAL;VALUE=DURATION:PT1H
X-Robots-Tag:noindex
X-PUBLISHED-TTL:PT1H
BEGIN:VTIMEZONE
TZID:Europe/Paris
BEGIN:DAYLIGHT
TZOFFSETFROM:+0100
TZOFFSETTO:+0200
TZNAME:CEST
DTSTART:20240331T010000
END:DAYLIGHT
BEGIN:STANDARD
TZOFFSETFROM:+0200
TZOFFSETTO:+0100
TZNAME:CET
DTSTART:20241027T010000
END:STANDARD
BEGIN:DAYLIGHT
TZOFFSETFROM:+0100
TZOFFSETTO:+0200
TZNAME:CEST
DTSTART:20250330T010000
END:DAYLIGHT
BEGIN:STANDARD
TZOFFSETFROM:+0200
TZOFFSETTO:+0100
TZNAME:CET
DTSTART:20251026T010000
END:STANDARD
BEGIN:DAYLIGHT
TZOFFSETFROM:+0100
TZOFFSETTO:+0200
TZNAME:CEST
DTSTART:20260329T010000
END:DAYLIGHT
BEGIN:STANDARD
TZOFFSETFROM:+0200
TZOFFSETTO:+0100
TZNAME:CET
DTSTART:20261025T010000
END:STANDARD
END:VTIMEZONE
BEGIN:VTIMEZONE
TZID:Europe/Paris
BEGIN:DAYLIGHT
TZOFFSETFROM:+0100
TZOFFSETTO:+0200
TZNAME:CEST
DTSTART:20240331T010000
END:DAYLIGHT
BEGIN:STANDARD
TZOFFSETFROM:+0200
TZOFFSETTO:+0100
TZNAME:CET
DTSTART:20241027T010000
END:STANDARD
BEGIN:DAYLIGHT
TZOFFSETFROM:+0100
TZOFFSETTO:+0200
TZNAME:CEST
DTSTART:20250330T010000
END:DAYLIGHT
BEGIN:STANDARD
TZOFFSETFROM:+0200
TZOFFSETTO:+0100
TZNAME:CET
DTSTART:20251026T010000
END:STANDARD
BEGIN:DAYLIGHT
TZOFFSETFROM:+0100
TZOFFSETTO:+0200
TZNAME:CEST
DTSTART:20260329T010000
END:DAYLIGHT
BEGIN:STANDARD
TZOFFSETFROM:+0200
TZOFFSETTO:+0100
TZNAME:CET
DTSTART:20261025T010000
END:STANDARD
END:VTIMEZONE
BEGIN:VEVENT
DTSTART;TZID=Europe/Paris:20250128T090000
DTEND;TZID=Europe/Paris:20250128T100000
DTSTAMP:20260423T233109
CREATED:20231004T130500Z
LAST-MODIFIED:20260303T182841Z
UID:85043-1738054800-1738058400@www.nae.fr
SUMMARY:Constat et état des lieux de la règlementation drones janvier 2025 formation\, matériel\, scénario…) - Webinaire - 28/01/2025
DESCRIPTION:Date : 28/01/2025 \nHoraire : 09h00 – 10h00 \nFormat : Visio conférence (MS TEAMS) \nProgramme : évolutions de la règlementation drones \nDescriptif : \n\nRéglementation drone européenne : généralités & état des lieux\nRéglementation vis à vis du matériel drone\nFormation télépilote\nQuestions / réponses\n\n\nInscription gratuite mais obligatoire en renseignant le formulaire suivant  \nCLIQUEZ ICI \n\n  \n\nPartager \n\n\n  \n    \n  \n \n\n  \n\n \nFacebook\n\n\n    \n    \n\n\n	\n	\n\n \nTwitter\n\n\n  \n    \n  \n \n\n  \n\n \nWhatsapp\n\n\n  \n    \n  \n \n\n\n\n\n\n \nLinkedin\n\n\n  \n    \n  \n \n\n  \n\n \nEmail
URL:https://www.nae.fr/agenda/constat-et-etat-des-lieux-de-la-reglementation-drones-janvier-2025-formation-materiel-scenario-webinaire-28-01-2025/
CATEGORIES:Salons – Conferences
ATTACH;FMTTYPE=image/png:https://www.nae.fr/wp-content/uploads/2025/01/unnamed-2.png
END:VEVENT
BEGIN:VEVENT
DTSTART;TZID=Europe/Paris:20250128T123000
DTEND;TZID=Europe/Paris:20250128T133000
DTSTAMP:20260423T233109
CREATED:20231004T130415Z
LAST-MODIFIED:20260303T182840Z
UID:83546-1738067400-1738071000@www.nae.fr
SUMMARY:Tech Hour - Intervention  4DPIONEERS - 28/01/25
DESCRIPTION:Date : 28/01/2025 \nHoraire : 12h30 – 13h30 \nFormat : Visio conférence (MS TEAMS) \nProgramme : FABRICATION 3D HYBRIDES Impression et usinage dans la même machine \nDescriptif : Il devient indispensable de reconsidérer la chaîne de fabrication dans son ensemble avec des enjeux critiques : fabriquer sur place\, à la demande\, avec une productivité accrue\, utiliser un minimum de matière première et prioriser les matériaux biosourcés et recyclés\, tout en atteignant la qualité et les performances exigées pour des pièces fonctionnelles. \nPrésentation réalisée par : \n\nEmmanuel DUNOUVION – Directeur Développement Commercial et Projets Collaboratifs\n\n  \n\nInscription gratuite mais obligatoire en renseignant le formulaire suivant  \nCLIQUEZ ICI \nFin des inscriptions le vendredi 18h00 avant le Tech Hour\n \n\n  \nTech Hour en partenariat avec : \nACSIEL : Le syndicat de l’électronique ACSIEL qui regroupe les ex-adhérents du GIXEL\, du SITELEC\,\ndu SIMTEC et du GFIE fédère 120 membres. \nASTech Paris Region : ASTECH Paris Region\, pôle de compétitivité\, vise à accroitre en Ile de France les positions de leader européen de l’industrie des secteurs Lancement spatial\, Aviation d’affaires\, Propulsion et Équipements par l’innovation. \nI-Trans : Ancré dans la Région Hauts-de-France\, i-Trans est le pôle de compétitivité des transports\,\nde la mobilité et de la logistique. \nLSN : Filière d’excellence\, Logistique Seine-Normandie (LSN) fédère 185 adhérents : des\nentreprises du transport et de la logistique et des acteurs économiques de Normandie. \nNAE : NAE est la filière en Normandie de l’aéronautique\, spatial\, défense et sécurité. Elle regroupe plus de 160 membres industriels et académiques et travaille sur 5 axes\, : Le Business et l’International\, l’Emploi et la Formation\, la Compétitivité\, la Recherche Technologie et Innovation et la Communication. \nNextMove : Pôle de compétitivité Automobile et Mobilité\, Next Move accompagne les entreprises au quotidien pour favoriser l’innovation\, le financement de projets R&D et le business collaboratifs entre ses membres. \nNormandie Énergie : Filière d’excellence\, Normandie Energies soutient le développement économique du\nterritoire en fédérant plus de 240 acteurs normands de l’énergie. \nNormandie Maritime : Normandie Maritime a pour mission la promotion\, le développement et la coordination de la filière régionale de l’économie maritime et fluviale. \nPole MEDEE : Basé à Lille\, le Pôle MEDEE est un cluster qui fédère et anime\nune communauté d’acteurs spécialisés en génie électrique \n\n\n \n\nPartager \n\n\n  \n    \n  \n \n\n  \n\n \nFacebook\n\n\n    \n    \n\n\n	\n	\n\n \nTwitter\n\n\n  \n    \n  \n \n\n  \n\n \nWhatsapp\n\n\n  \n    \n  \n \n\n\n\n\n\n \nLinkedin\n\n\n  \n    \n  \n \n\n  \n\n \nEmail
URL:https://www.nae.fr/agenda/tech-hour-intervention-4dpioneers-28-01-25/
LOCATION:Normandie Aerospace\, 745\, Avenue de l’Université\, St-Etienne-du-Rouvray\, 76800\, France
CATEGORIES:Tech Hour
ATTACH;FMTTYPE=image/png:https://www.nae.fr/wp-content/uploads/2024/10/Bandeau_Tech-Hour-2023-1.png
ORGANIZER;CN="Normandie Aerospace":MAILTO:rti@nae.fr
END:VEVENT
END:VCALENDAR