BEGIN:VCALENDAR
VERSION:2.0
PRODID:-//NAE - ECPv6.15.20//NONSGML v1.0//EN
CALSCALE:GREGORIAN
METHOD:PUBLISH
X-WR-CALNAME:NAE
X-ORIGINAL-URL:https://www.nae.fr
X-WR-CALDESC:Évènements pour NAE
REFRESH-INTERVAL;VALUE=DURATION:PT1H
X-Robots-Tag:noindex
X-PUBLISHED-TTL:PT1H
BEGIN:VTIMEZONE
TZID:Europe/Paris
BEGIN:DAYLIGHT
TZOFFSETFROM:+0100
TZOFFSETTO:+0200
TZNAME:CEST
DTSTART:20210328T010000
END:DAYLIGHT
BEGIN:STANDARD
TZOFFSETFROM:+0200
TZOFFSETTO:+0100
TZNAME:CET
DTSTART:20211031T010000
END:STANDARD
BEGIN:DAYLIGHT
TZOFFSETFROM:+0100
TZOFFSETTO:+0200
TZNAME:CEST
DTSTART:20220327T010000
END:DAYLIGHT
BEGIN:STANDARD
TZOFFSETFROM:+0200
TZOFFSETTO:+0100
TZNAME:CET
DTSTART:20221030T010000
END:STANDARD
BEGIN:DAYLIGHT
TZOFFSETFROM:+0100
TZOFFSETTO:+0200
TZNAME:CEST
DTSTART:20230326T010000
END:DAYLIGHT
BEGIN:STANDARD
TZOFFSETFROM:+0200
TZOFFSETTO:+0100
TZNAME:CET
DTSTART:20231029T010000
END:STANDARD
END:VTIMEZONE
BEGIN:VEVENT
DTSTART;TZID=Europe/Paris:20220505T140000
DTEND;TZID=Europe/Paris:20220505T170000
DTSTAMP:20260423T101850
CREATED:20211225T144641Z
LAST-MODIFIED:20260303T182934Z
UID:69301-1651759200-1651770000@www.nae.fr
SUMMARY:Atelier CIDN - Les Drones pour l’environnement – 05/05/22
DESCRIPTION:Les drones pour l’environnement – cas d’usages et besoins\n \nquel cas d’usage et besoins\nJeudi 5 mai 2022  14h00 à 17h00 \nAeroport Le Havre \n\nPROGRAMME \n\n12h00 – Déjeuner des membres du CIDN – (réservé pour les membres du CIDN)\n\n\n  \n\n13h30 – Accueil\n13h45 – Présentation des activités et retour d’expériences des membres du CIDN\nCas d’usages et besoins\n\nPrésentation de La Maison de l’Estuaire-   Réserve Naturelle Nationale de l’Estuaire de la Seine\nPrésentation du Lycée Edouard de Chambray – Agriculture\nPrésentation des Voies Navigables de France (VNF) – Réseau des voies navigables de France (sous validation)\n\n\n16h00 – Pause\n16h15 – Rencontres individuelles – Chaque acteur réalise des RdV individuel de 10-15min pré-programmés17h00 – Clôture – verre de l’amitié\n\n  \nInscription gratuite mais obligatoire : Cliquez ICI \nOpération soutenue par :  et  \n\nPartager \n\n\n  \n    \n  \n \n\n  \n\n \nFacebook\n\n\n    \n    \n\n\n	\n	\n\n \nTwitter\n\n\n  \n    \n  \n \n\n  \n\n \nWhatsapp\n\n\n  \n    \n  \n \n\n\n\n\n\n \nLinkedin\n\n\n  \n    \n  \n \n\n  \n\n \nEmail
URL:https://www.nae.fr/agenda/les-drones-pour-la-logistique-3/
LOCATION:Aéroport du Havre\, Rue Louis Blériot\, Le Havre\, 76620\, France
CATEGORIES:Comité Recherche, Technologie et Innovation
ATTACH;FMTTYPE=image/jpeg:https://www.nae.fr/wp-content/uploads/2021/04/logo_cidn.jpeg
END:VEVENT
BEGIN:VEVENT
DTSTART;TZID=Europe/Paris:20220510T130000
DTEND;TZID=Europe/Paris:20220510T140000
DTSTAMP:20260423T101850
CREATED:20211224T145448Z
LAST-MODIFIED:20260303T182933Z
UID:69292-1652187600-1652191200@www.nae.fr
SUMMARY:Les Rendez-Vous Fiabilité du CFF - 10/05/22
DESCRIPTION:Venez partager un temps d’échanges sur l’influence des radiations sur les composants électroniques avec la communauté CFF. \nCe Rendez-Vous Fiabilité permettra d’aborder les impacts de ces irradiations et comment évaluer les défaillances qu’ils produisent dans les secteurs aéronautique\, spatial ou encore l’automobile. \nNous aurons la chance d’avoir les interventions de : \n\nATRON Métrology – Arnaud CHAPON  (essais)\nThales Alenia Space – Anthony BERNE (spatial) – en cours de confirmation\nAirbus Defense & Space – Marc MARIN (spatial)\nAirbus Aircraft – Jean-Claude LAPERCHE (aéronautique)\n\nCette présentation se fera en visio-conférence de 13h00 à 14h00 et est ouvert à tous sous réserve d’inscription au préalable sur : CLIQUEZ ICI POUR VOUS ENREGISTRER. \nAvec le partenariat de ASTech Paris Region\, Next Move et NAE. \nNous restons à votre disposition pour toutes questions éventuelles sur cff@nae.fr. \n\nPartager \n\n\n  \n    \n  \n \n\n  \n\n \nFacebook\n\n\n    \n    \n\n\n	\n	\n\n \nTwitter\n\n\n  \n    \n  \n \n\n  \n\n \nWhatsapp\n\n\n  \n    \n  \n \n\n\n\n\n\n \nLinkedin\n\n\n  \n    \n  \n \n\n  \n\n \nEmail
URL:https://www.nae.fr/agenda/les-rendez-vous-fiabilite-du-cff-irradiation-10-05-2022/
CATEGORIES:Comité Recherche, Technologie et Innovation
ATTACH;FMTTYPE=image/jpeg:https://www.nae.fr/wp-content/uploads/2020/10/Les-Rendez-vous-Fiabilite-du-CFF_4-JPEG-1.jpg
END:VEVENT
BEGIN:VEVENT
DTSTART;TZID=Europe/Paris:20220531T123000
DTEND;TZID=Europe/Paris:20220531T133000
DTSTAMP:20260423T101850
CREATED:20211223T075209Z
LAST-MODIFIED:20260303T182933Z
UID:68695-1654000200-1654003800@www.nae.fr
SUMMARY:Tech Hour - Fabrication de céramiques en impression 3D - 31/05/22
DESCRIPTION:Date : 31/05/2022 \nHoraire : 12h30 – 13h30 \nFormat : Visio conférence (WEB EX) \nProgramme : Fabrication de céramiques en impression 3D\n \nDescriptif : L’impression 3D est une technologie largement utilisée pour les polymères et les métaux. Plus discrètes bien que connues et employées depuis longtemps dans l’univers technique\, les céramiques peuvent elles aussi être imprimées 3D. C’est même la combinaison des propriétés exceptionnelles des céramiques et des atouts intrinsèques de la fabrication additive qui les rend incontournables pour soutenir les grands enjeux de l’innovation d’aujourd’hui. Après un état de l’art des céramiques et des procédés d’impression 3D spécifiques\, nous aborderons à l’aide d’exemples les raisons pour lesquelles ces matériaux imprimés en 3D représentent des réponses incomparables à des défis d’innovation actuels. Enfin\, nous soulignerons comment\, à l’instar des autres matériaux\, l’impression 3D des céramiques constitue une nouvelle alternative pour produire des pièces sur mesure depuis le prototype jusqu’à la grande série.\n \nPrésentation réalisée par NOVADDITIVE \n\nInscription gratuite mais obligatoire en renseignant le formulaire suivant  \nCLIQUEZ ICI \nFin des inscriptions le vendredi 18h00 avant le Tech Hour\n \n\n  \nTech Hour en partenariat avec : \nACSIEL : Le syndicat de l’électronique ACSIEL qui regroupe les ex-adhérents du GIXEL\, du SITELEC\,\ndu SIMTEC et du GFIE fédère 120 membres. \nASTech Paris Region : ASTECH Paris Region\, pôle de compétitivité\, vise à accroitre en Ile de France les positions de leader européen de l’industrie des secteurs Lancement spatial\, Aviation d’affaires\, Propulsion et Équipements par l’innovation. \nI-Trans : Ancré dans la Région Hauts-de-France\, i-Trans est le pôle de compétitivité des transports\,\nde la mobilité et de la logistique. \nLSN : Filière d’excellence\, Logistique Seine-Normandie (LSN) fédère 185 adhérents : des\nentreprises du transport et de la logistique et des acteurs économiques de Normandie. \nNAE : NAE est la filière en Normandie de l’aéronautique\, spatial\, défense et sécurité. Elle regroupe plus de 160 membres industriels et académiques et travaille sur 5 axes\, : Le Business et l’International\, l’Emploi et la Formation\, la Compétitivité\, la Recherche Technologie et Innovation et la Communication. \nNextMove : Pôle de compétitivité Automobile et Mobilité\, Next Move accompagne les entreprises au quotidien pour favoriser l’innovation\, le financement de projets R&D et le business collaboratifs entre ses membres. \nNormandie Énergie : Filière d’excellence\, Normandie Energies soutient le développement économique du\nterritoire en fédérant plus de 240 acteurs normands de l’énergie. \nNormandie Maritime : Normandie Maritime a pour mission la promotion\, le développement et la coordination de la filière régionale de l’économie maritime et fluviale. \nPole MEDEE : Basé à Lille\, le Pôle MEDEE est un cluster qui fédère et anime\nune communauté d’acteurs spécialisés en génie électrique \n\n\n \n\nPartager \n\n\n  \n    \n  \n \n\n  \n\n \nFacebook\n\n\n    \n    \n\n\n	\n	\n\n \nTwitter\n\n\n  \n    \n  \n \n\n  \n\n \nWhatsapp\n\n\n  \n    \n  \n \n\n\n\n\n\n \nLinkedin\n\n\n  \n    \n  \n \n\n  \n\n \nEmail
URL:https://www.nae.fr/agenda/tech-hour-fa-ceramiques-3d/
LOCATION:Normandie Aerospace\, 745\, Avenue de l’Université\, St-Etienne-du-Rouvray\, 76800\, France
CATEGORIES:Tech Hour
ATTACH;FMTTYPE=image/jpeg:https://www.nae.fr/wp-content/uploads/2019/01/logo_TechHour-01-e1621349140323.jpg
ORGANIZER;CN="Normandie Aerospace":MAILTO:rti@nae.fr
END:VEVENT
END:VCALENDAR