BEGIN:VCALENDAR
VERSION:2.0
PRODID:-//NAE - ECPv6.15.20//NONSGML v1.0//EN
CALSCALE:GREGORIAN
METHOD:PUBLISH
X-ORIGINAL-URL:https://www.nae.fr
X-WR-CALDESC:Évènements pour NAE
REFRESH-INTERVAL;VALUE=DURATION:PT1H
X-Robots-Tag:noindex
X-PUBLISHED-TTL:PT1H
BEGIN:VTIMEZONE
TZID:Europe/Paris
BEGIN:DAYLIGHT
TZOFFSETFROM:+0100
TZOFFSETTO:+0200
TZNAME:CEST
DTSTART:20210328T010000
END:DAYLIGHT
BEGIN:STANDARD
TZOFFSETFROM:+0200
TZOFFSETTO:+0100
TZNAME:CET
DTSTART:20211031T010000
END:STANDARD
BEGIN:DAYLIGHT
TZOFFSETFROM:+0100
TZOFFSETTO:+0200
TZNAME:CEST
DTSTART:20220327T010000
END:DAYLIGHT
BEGIN:STANDARD
TZOFFSETFROM:+0200
TZOFFSETTO:+0100
TZNAME:CET
DTSTART:20221030T010000
END:STANDARD
BEGIN:DAYLIGHT
TZOFFSETFROM:+0100
TZOFFSETTO:+0200
TZNAME:CEST
DTSTART:20230326T010000
END:DAYLIGHT
BEGIN:STANDARD
TZOFFSETFROM:+0200
TZOFFSETTO:+0100
TZNAME:CET
DTSTART:20231029T010000
END:STANDARD
END:VTIMEZONE
BEGIN:VEVENT
DTSTART;TZID=Europe/Paris:20221004T160000
DTEND;TZID=Europe/Paris:20221004T173000
DTSTAMP:20260421T121221
CREATED:20211214T144557Z
LAST-MODIFIED:20260303T182923Z
UID:69284-1664899200-1664904600@www.nae.fr
SUMMARY:Webinaire cybersécurité - Evolution des référentiels cybersécurité et moyens pour s'y préparer - 04/10/22
DESCRIPTION:Les attaques cyber s’intensifient et il est indispensable que l’ensemble de la supply chain aéronautique\, spatial\, défense et sécurité puisse se sécuriser. \nCette prise en compte est déjà effective chez les grands industriels et se décline au travers des appels d’offres actuels et va se systématiser dans les années à venir. \nPour s’y préparer différents référentiels ont pu voir le jour : ISO 27000 – CMMC – Air Cyber – guide d’hygiène de l’ANSSI… \nMalheureusement\, il est de plus en plus difficile de s’y retrouver pour les PME et nous souhaitons vous apporter un éclairage sur certains référentiels prioritaire pour notre filière ainsi que les actions associées mises en place chez NAE. \nProgramme prévisionnel :  \n\nIntroduction et rappel des enjeux de la cybersécurité l’enjeu (VP Compétitivité de NAE – Alain DULAC) – Présentation\nPrésentation du cadre normatif DGA (Chef du bureau de développement des PME de la DGA – Pierre FOULQUIER) – Présentation\n\nImpact de la cybersécurité sur l’économie de guerre et le ramp-up du secteur de la Défense\nDiag Cyber Défense\, un outil opérationnel pour les PME\n\n\nLe référentiel AIR CYBER (BoostAeroSpace Security Officer – Romain BOTTAN) – Présentation\n\nPrésentation du référentiel et démonstration\n1er retour du niveau de maturité cybersécurité en normandie sur le référentiel Air Cyber\nPrincipaux points durs identifiés et les solutions pour y remédier\n\n\nSynthèse et rappel des actions NAE (Responsable Compétitivité NAE – Samuel CUTULLIC) – Présentation\n\nDu phishing au scan en passant par un outil d’aide au positionnement sur les référentiels\n\n\nEchanges et sessions de questions / réponses\n\nPartenaires :  \n  \nInformations pratiques :   \n\nDate : Mardi 04/10/22\nHoraire : 16h00 – 17h30\nLieu : Visio conférence – TEAMS\n\nToute l’équipe de NAE se tient à votre disposition pour toutes questions éventuelles : animation@nae.fr \n\nPartager \n\n\n  \n    \n  \n \n\n  \n\n \nFacebook\n\n\n    \n    \n\n\n	\n	\n\n \nTwitter\n\n\n  \n    \n  \n \n\n  \n\n \nWhatsapp\n\n\n  \n    \n  \n \n\n\n\n\n\n \nLinkedin\n\n\n  \n    \n  \n \n\n  \n\n \nEmail
URL:https://www.nae.fr/agenda/cybersecurite-referentiel-20221004/
LOCATION:Visioconférence
CATEGORIES:Comité Recherche, Technologie et Innovation
ATTACH;FMTTYPE=image/jpeg:https://www.nae.fr/wp-content/uploads/2022/01/Bandeau_Webinaire_CyberV2.jpg
END:VEVENT
BEGIN:VEVENT
DTSTART;TZID=Europe/Paris:20221006T083000
DTEND;TZID=Europe/Paris:20221006T130000
DTSTAMP:20260421T121221
CREATED:20211214T065916Z
LAST-MODIFIED:20260303T182923Z
UID:72131-1665045000-1665061200@www.nae.fr
SUMMARY:Atelier Fabrication Additive Normandie (FAN) - finitions des pièces- 06/10/2022
DESCRIPTION:Une matinée pour partager autour des enjeux de la Fabrication Additive.\nUn focus sera réalisé sur la finition des pièces en Fabrication Additive grâce à la présence d’industriel\, d’académique et acteurs de la recherche. \nNous aurons également l’opportunité de visiter le laboratoire ARKEMA qui nous accueillera. \nEn fin de matinée\, des rendez-vous individuel vous seront proposés afin de mieux vous connaître et renforcer le lien de la communauté FAN. \nInscription gratuite mais obligatoire en fonction du nombre de place disponible. \n \nPROGRAMME \n\n08h45 – Accueil  & Tour de table\n09h20 – La finition de pièces de Fabrication Additive – Quelles possibilités ? (Polymères : DEMGY / ARKEMA // Métal : Volum-e)\n10h20 – Pause et visite des équipements d’Arkema\n11h00 – Présentations des projets en cours / Présentation des réponses au concours FAN\n11h50 : RdV préprogrammés Innovation\n12h30 : Clôture\n\nInscription : Pour s’enregistrer CLIQUEZ ICI \nLogistique : \n\nDate : 06 octobre 2022\nLocalisation : ARKEMA – Centre de production – Route du Rilsan\, 27470 Serquigny\nAccès : Inscription gratuite mais obligatoire\n\n \n\nPartager \n\n\n  \n    \n  \n \n\n  \n\n \nFacebook\n\n\n    \n    \n\n\n	\n	\n\n \nTwitter\n\n\n  \n    \n  \n \n\n  \n\n \nWhatsapp\n\n\n  \n    \n  \n \n\n\n\n\n\n \nLinkedin\n\n\n  \n    \n  \n \n\n  \n\n \nEmail
URL:https://www.nae.fr/agenda/atelier-fabrication-additive-normandie-fan-finitions-des-pieces-06-10-2022/
LOCATION:arkema\, Route du Rilsan\, Serquigny\, 27470\, France
CATEGORIES:Comité Recherche, Technologie et Innovation
ATTACH;FMTTYPE=image/jpeg:https://www.nae.fr/wp-content/uploads/2022/09/20221006_InvitationAtelier_FAN_V2.jpg
END:VEVENT
BEGIN:VEVENT
DTSTART;TZID=Europe/Paris:20221011T130000
DTEND;TZID=Europe/Paris:20221011T140000
DTSTAMP:20260421T121221
CREATED:20211213T150227Z
LAST-MODIFIED:20260303T182922Z
UID:69297-1665493200-1665496800@www.nae.fr
SUMMARY:Les Rendez-Vous Fiabilité du CFF - 11/10/22
DESCRIPTION:Venez partager un temps d’échanges sur des thèses en cours au sein de la communauté CFF\, et en rapport avec la Fiabilité des Composants et Systèmes Electroniques. \nCaractérisation thermo-mécanique des matériaux et des interfaces\, en vue de prédire la fiabilité des Circuits imprimés \nLa simulation numérique est adoptée couramment pour essayer d’anticiper les défaillances dans les circuits imprimés. \nCependant\, les résultats ne peuvent être quantitatifs si les données matériaux ne sont pas fiables. Ainsi\, nos travaux visent à développer des simulations numériques prédictives\, avec des données « matériaux » mesurées sur les constituants réellement employés dans les PCBs. Ce couplage numérique-caractérisation est systémique au sein des travaux menés au LEM3. \n  \nCette présentation se fera en visio-conférence de 13h00 à 14h00 et est ouvert à tous sous réserve d’inscription au préalable sur : CLIQUEZ ICI POUR VOUS ENREGISTRER. \nAvec le partenariat de ASTech Paris Region\, Next Move et NAE. \nNous restons à votre disposition pour toutes questions éventuelles sur cff@nae.fr. \n\nPartager \n\n\n  \n    \n  \n \n\n  \n\n \nFacebook\n\n\n    \n    \n\n\n	\n	\n\n \nTwitter\n\n\n  \n    \n  \n \n\n  \n\n \nWhatsapp\n\n\n  \n    \n  \n \n\n\n\n\n\n \nLinkedin\n\n\n  \n    \n  \n \n\n  \n\n \nEmail
URL:https://www.nae.fr/agenda/les-rdv-fiabilite-simulation-pcb-defaillances/
CATEGORIES:Comité Recherche, Technologie et Innovation
ATTACH;FMTTYPE=image/jpeg:https://www.nae.fr/wp-content/uploads/2020/10/Les-Rendez-vous-Fiabilite-du-CFF_4-JPEG-1.jpg
END:VEVENT
BEGIN:VEVENT
DTSTART;TZID=Europe/Paris:20221025T123000
DTEND;TZID=Europe/Paris:20221025T133000
DTSTAMP:20260421T121221
CREATED:20211213T064259Z
LAST-MODIFIED:20260303T182921Z
UID:71335-1666701000-1666704600@www.nae.fr
SUMMARY:Tech Hour - CND par photogrammétrie - 25/10/22
DESCRIPTION:Date : 25/10/2022 \nHoraire : 12h30 – 13h30 \nFormat : Visio conférence (WEB EX) \nProgramme : CND par photogrammétrie\n \nDescriptif : Cette machine de mesure 3D sans contact flexible est basée sur le principe de la triangulation optique. Le projecteur central éclaire la pièce avec un réseau de franges qui sont observées par 2 caméras CCD calibrées. Pour chaque pixel de ces caméras ATOS fournit les coordonnées 3D correspondantes avec une précision inégalée. Le résultat de chaque mesure est un maillage polygonal de la surface de la pièce.\n \nCe Tech Hour viendra expliquer le fonctionnement de cette technologie et ses capacités technologiques. \nPrésentation réalisée par Damien FLACELIERE de MSC Scanning \n\nInscription gratuite mais obligatoire en renseignant le formulaire suivant  \nCLIQUEZ ICI \nFin des inscriptions le vendredi 18h00 avant le Tech Hour\n \n\n  \nTech Hour en partenariat avec : \nACSIEL : Le syndicat de l’électronique ACSIEL qui regroupe les ex-adhérents du GIXEL\, du SITELEC\, du SIMTEC et du GFIE fédère 120 membres. \nASTech Paris Region : ASTECH Paris Region\, pôle de compétitivité\, vise à accroitre en Ile de France les positions de leader européen de l’industrie des secteurs Lancement spatial\, Aviation d’affaires\, Propulsion et Équipements par l’innovation. \nI-Trans : Ancré dans la Région Hauts-de-France\, i-Trans est le pôle de compétitivité des transports\, de la mobilité et de la logistique. \nLSN : Filière d’excellence\, Logistique Seine-Normandie (LSN) fédère 185 adhérents : des entreprises du transport et de la logistique et des acteurs économiques de Normandie. \nNAE : NAE est la filière en Normandie de l’aéronautique\, spatial\, défense et sécurité. Elle regroupe plus de 160 membres industriels et académiques et travaille sur 5 axes\, : Le Business et l’International\, l’Emploi et la Formation\, la Compétitivité\, la Recherche Technologie et Innovation et la Communication. \nNextMove : Pôle de compétitivité Automobile et Mobilité\, Next Move accompagne les entreprises au quotidien pour favoriser l’innovation\, le financement de projets R&D et le business collaboratifs entre ses membres. \nNormandie Énergie : Filière d’excellence\, Normandie Energies soutient le développement économique du territoire en fédérant plus de 240 acteurs normands de l’énergie. \nNormandie Maritime : Normandie Maritime a pour mission la promotion\, le développement et la coordination de la filière régionale de l’économie maritime et fluviale. \nPole MEDEE : Basé à Lille\, le Pôle MEDEE est un cluster qui fédère et anime une communauté d’acteurs spécialisés en génie électrique \n\n\n \n\nPartager \n\n\n  \n    \n  \n \n\n  \n\n \nFacebook\n\n\n    \n    \n\n\n	\n	\n\n \nTwitter\n\n\n  \n    \n  \n \n\n  \n\n \nWhatsapp\n\n\n  \n    \n  \n \n\n\n\n\n\n \nLinkedin\n\n\n  \n    \n  \n \n\n  \n\n \nEmail
URL:https://www.nae.fr/agenda/tech-hour-cnd_photogrammetrie/
LOCATION:Normandie Aerospace\, 745\, Avenue de l’Université\, St-Etienne-du-Rouvray\, 76800\, France
CATEGORIES:Tech Hour
ATTACH;FMTTYPE=image/jpeg:https://www.nae.fr/wp-content/uploads/2019/01/logo_TechHour-01-e1621349140323.jpg
ORGANIZER;CN="Normandie Aerospace":MAILTO:rti@nae.fr
END:VEVENT
END:VCALENDAR