BEGIN:VCALENDAR
VERSION:2.0
PRODID:-//NAE - ECPv6.15.20//NONSGML v1.0//EN
CALSCALE:GREGORIAN
METHOD:PUBLISH
X-ORIGINAL-URL:https://www.nae.fr
X-WR-CALDESC:Évènements pour NAE
REFRESH-INTERVAL;VALUE=DURATION:PT1H
X-Robots-Tag:noindex
X-PUBLISHED-TTL:PT1H
BEGIN:VTIMEZONE
TZID:Europe/Paris
BEGIN:DAYLIGHT
TZOFFSETFROM:+0100
TZOFFSETTO:+0200
TZNAME:CEST
DTSTART:20220327T010000
END:DAYLIGHT
BEGIN:STANDARD
TZOFFSETFROM:+0200
TZOFFSETTO:+0100
TZNAME:CET
DTSTART:20221030T010000
END:STANDARD
BEGIN:DAYLIGHT
TZOFFSETFROM:+0100
TZOFFSETTO:+0200
TZNAME:CEST
DTSTART:20230326T010000
END:DAYLIGHT
BEGIN:STANDARD
TZOFFSETFROM:+0200
TZOFFSETTO:+0100
TZNAME:CET
DTSTART:20231029T010000
END:STANDARD
BEGIN:DAYLIGHT
TZOFFSETFROM:+0100
TZOFFSETTO:+0200
TZNAME:CEST
DTSTART:20240331T010000
END:DAYLIGHT
BEGIN:STANDARD
TZOFFSETFROM:+0200
TZOFFSETTO:+0100
TZNAME:CET
DTSTART:20241027T010000
END:STANDARD
END:VTIMEZONE
BEGIN:VEVENT
DTSTART;TZID=Europe/Paris:20230309T183000
DTEND;TZID=Europe/Paris:20230309T213000
DTSTAMP:20260421T205732
CREATED:20211209T135907Z
LAST-MODIFIED:20260303T182914Z
UID:74237-1678386600-1678397400@www.nae.fr
SUMMARY:Rencontres Interfilières Normandes #3 - 09/03/2023 - Deauville
DESCRIPTION:3e ÉDITION  \nDES RENCONTRES INTERFILIÈRES NORMANDES\n9 mars 2023 à 18h30 à L’Amirauté • Deauville  \nAprès le succès des deux premières éditions grâce à votre présence et votre engagement\, 15 pôles et filières normands s’associent de nouveau et vous donnent rendez-vous le 9 mars 2023 à l’Amirauté de Deauville pour une soirée de rencontres\, de collaborations et de business. \nOrganisée par Aquimer\, AREA Normandie\, Bioeconomy for Change\, Cosmetic Valley\, La Glass Vallée\, Logistique Seine-Normandie\, NextMove\, NAE\, Normandie Maritime\, Normandie Energies\, NWX\, Pôle Hippolia\, PôlePharma\, Pôle TES & Valorial\, cette soirée est une occasion unique de partager avec les membres des autres filières du territoire. \nAu programme : collaboration\, business\, rencontres & cocktail\, pour construire ensemble\, acteurs économiques du territoire\, la Normandie de demain. \nJe m’inscris !  \nParticipation : 49€ HT/personne\nMerci de nous confirmer votre présence avant le 1er mars.  \n\nPartager \n\n\n  \n    \n  \n \n\n  \n\n \nFacebook\n\n\n    \n    \n\n\n	\n	\n\n \nTwitter\n\n\n  \n    \n  \n \n\n  \n\n \nWhatsapp\n\n\n  \n    \n  \n \n\n\n\n\n\n \nLinkedin\n\n\n  \n    \n  \n \n\n  \n\n \nEmail
URL:https://www.nae.fr/agenda/rencontres-interfilieres-normandes-3-09-03-2023-deauville/
LOCATION:L’Amirauté – Deauville\, France
CATEGORIES:Salons – Conferences
ATTACH;FMTTYPE=image/png:https://www.nae.fr/wp-content/uploads/2023/01/Visuel.png
END:VEVENT
BEGIN:VEVENT
DTSTART;TZID=Europe/Paris:20230316T080000
DTEND;TZID=Europe/Paris:20230316T170000
DTSTAMP:20260421T205732
CREATED:20211208T072456Z
LAST-MODIFIED:20260303T182914Z
UID:74880-1678953600-1678986000@www.nae.fr
SUMMARY:National Reliability Technology Workshop - NRTW 2023 - 16/03/23
DESCRIPTION:Le NRTW (Normandy Reliability Technology Workshop) se veut un espace d’échanges et de rencontres des acteurs de la fiabilité. Une occasion unique de renforcer les synergies et le rayonnement européen de ce réseau.\nPrésentations techniques\, visites\, cas d’usages industriels & rendez-vous 1to1La température dans la fiabilité des systèmes & composants électroniques \n\nLa température joue un rôle indéniable dans la fiabilité des composants électroniques\, et par conséquent du système mécatronique dans lesquels ils sont embarqués. Plus particulièrement\, nous vous proposons de nous intéresser à la mesure et à l’exploitation de la température de jonction des composants. De quelle température de jonction parlons-nous ? Comme l’évaluer ? Avec quelle méthode ? Quels progrès ont été apportés et quelles sont les futurs moyens de mesure ? Et quelles solutions de management thermique adoptées pour contrôler la température des systèmes ? Nous apporterons le point de vue des laboratoires experts en la matière. \nEt pour quelle finalité (vieillissement\, analyse de défaillance\, calcul de fiabilité aléatoire\, évaluation de la durée de vie\, simulation\, essai de fiabilité …) ? Nous partagerons des cas d’étude des industriels\, utilisateurs finaux de ces composants ! \nC’est de tout cela dont nous voulons débattre avec vous au cours de ce symposium ! \nEnfin\, nous mettrons en œuvre au cours de ce symposium un temps d’échange avec la mise en place de Rencontres RTI (Recherche\, Technologies et Innovations) entre les visiteurs (BtoB). \nPour en savoir plus et vous inscrire – CLIQUEZ ICI\n\nProgramme\n\nMot d’accueil et collation de bienvenue\nPrésentation des techniques et moyens de mesure de la température de jonction — Vue d’ensemble des différentes techniques et moyens de mesure par les experts eux-mêmes + Q/R\nPause déjeuner\nRencontres RTI (Recherche\, Technologies et Innovations)\nPrésentation du Centre Français de Fiabilité\nQuelles mesures de TJ pour quel type de besoins industriels ? — Panel de cas d’étude N°01 présentés par les industriels\nConclusion du Symposium\nFin du Symposium\n\n\nIntervenants\n\nFranck DAVENEL\, DGA\nEric JOUBERT\, GPM\nPascal DHERBECOURT\, GPM\nBertrand BOUDART\, GREYC\nYannick GUHEL\, GREYC\nJean-Pierre FRADIN\, ICAM Toulouse\nMichel GIRAUDEAU\, IMdR\nFabio COCCETTI\, IRT Saint Exupéry\nRégis MEURET\, IRT Saint Exupéry\nNicolas DEGRENNE\, Mitsubishi Electric R&D Centre Europe\nGeoffroy MARTIN\, NextMove\nEric SERRE\, Renault Group\nLaurent DUPONT\, SATIE\nJulio BRANDELERO\, STMicroelectronics\nRenaud GILLON\, Sydelity\nLaurent CASTEL\, Thales Aliena Space\nNathalie JAUSSEIN\, Thales Aliena Space\nHichame MAANANE\, THALES LAS\nJean-Claude CLEMENT\, THALES TRT\n\n\nInfo pratique\nRestauration offerte par l’organisation. Réservation hôtel possible via la billetterie. \n \n\nPartager \n\n\n  \n    \n  \n \n\n  \n\n \nFacebook\n\n\n    \n    \n\n\n	\n	\n\n \nTwitter\n\n\n  \n    \n  \n \n\n  \n\n \nWhatsapp\n\n\n  \n    \n  \n \n\n\n\n\n\n \nLinkedin\n\n\n  \n    \n  \n \n\n  \n\n \nEmail
URL:https://www.nae.fr/agenda/national-reliability-technology-workshop-nrtw-2023-16-03-23/
LOCATION:Groupe de Physique des Matériaux\, Avenue de l'université\, Saint Etienne du Rouvray\, 76800\, France
CATEGORIES:Comité Recherche, Technologie et Innovation|Salons – Conferences
ATTACH;FMTTYPE=image/png:https://www.nae.fr/wp-content/uploads/2016/12/NRTW.png
END:VEVENT
BEGIN:VEVENT
DTSTART;VALUE=DATE:20230328
DTEND;VALUE=DATE:20230329
DTSTAMP:20260421T205732
CREATED:20211207T134039Z
LAST-MODIFIED:20260303T182913Z
UID:74499-1679961600-1680047999@www.nae.fr
SUMMARY:Séminaire RH Rouen - 28/03/23
DESCRIPTION:Partager \n\n\n  \n    \n  \n \n\n  \n\n \nFacebook\n\n\n    \n    \n\n\n	\n	\n\n \nTwitter\n\n\n  \n    \n  \n \n\n  \n\n \nWhatsapp\n\n\n  \n    \n  \n \n\n\n\n\n\n \nLinkedin\n\n\n  \n    \n  \n \n\n  \n\n \nEmail
URL:https://www.nae.fr/agenda/seminaire-rh-rouen-28-03-23/
CATEGORIES:Agenda RH
END:VEVENT
BEGIN:VEVENT
DTSTART;TZID=Europe/Paris:20230328T123000
DTEND;TZID=Europe/Paris:20230328T133000
DTSTAMP:20260421T205732
CREATED:20211107T134215Z
LAST-MODIFIED:20260303T182913Z
UID:73941-1680006600-1680010200@www.nae.fr
SUMMARY:Tech Hour - Impact CEM sur les drones - 28/03/23
DESCRIPTION:Date : 28/03/2023 \nHoraire : 12h30 – 13h30 \nFormat : Visio conférence (WEB EX) \nProgramme : Interopérabilité ElectroMagnétique d’un drone aérien à capteurs communicants embarqués dans un milieu aéroportuaire.\n \nDescriptif : \n\nSouvent confrontés à des interrogations réglementaires et des suspicions de risques sur l’usage d’un drone équipé en milieu aéroportuaire\, un protocole d’interopérabilité électromagnétique a été créé et pratiqué pour se prononcer rapidement sur une telle faisabilité. \nUn premier pas indispensable pour envisager l’utilisation des drones dans les aéroports !\n\n  \nPrésentation réalisée par DAE System\nIntervenant : Yoan ALLAMAN \n\nInscription gratuite mais obligatoire en renseignant le formulaire suivant  \nCLIQUEZ ICI \nFin des inscriptions le vendredi 18h00 avant le Tech Hour\n \n\n  \nTech Hour en partenariat avec : \nACSIEL : Le syndicat de l’électronique ACSIEL qui regroupe les ex-adhérents du GIXEL\, du SITELEC\,\ndu SIMTEC et du GFIE fédère 120 membres. \nASTech Paris Region : ASTECH Paris Region\, pôle de compétitivité\, vise à accroitre en Ile de France les positions de leader européen de l’industrie des secteurs Lancement spatial\, Aviation d’affaires\, Propulsion et Équipements par l’innovation. \nI-Trans : Ancré dans la Région Hauts-de-France\, i-Trans est le pôle de compétitivité des transports\,\nde la mobilité et de la logistique. \nLSN : Filière d’excellence\, Logistique Seine-Normandie (LSN) fédère 185 adhérents : des\nentreprises du transport et de la logistique et des acteurs économiques de Normandie. \nNAE : NAE est la filière en Normandie de l’aéronautique\, spatial\, défense et sécurité. Elle regroupe plus de 160 membres industriels et académiques et travaille sur 5 axes\, : Le Business et l’International\, l’Emploi et la Formation\, la Compétitivité\, la Recherche Technologie et Innovation et la Communication. \nNextMove : Pôle de compétitivité Automobile et Mobilité\, Next Move accompagne les entreprises au quotidien pour favoriser l’innovation\, le financement de projets R&D et le business collaboratifs entre ses membres. \nNormandie Énergie : Filière d’excellence\, Normandie Energies soutient le développement économique du\nterritoire en fédérant plus de 240 acteurs normands de l’énergie. \nNormandie Maritime : Normandie Maritime a pour mission la promotion\, le développement et la coordination de la filière régionale de l’économie maritime et fluviale. \nPole MEDEE : Basé à Lille\, le Pôle MEDEE est un cluster qui fédère et anime\nune communauté d’acteurs spécialisés en génie électrique \n\n\n \n\nPartager \n\n\n  \n    \n  \n \n\n  \n\n \nFacebook\n\n\n    \n    \n\n\n	\n	\n\n \nTwitter\n\n\n  \n    \n  \n \n\n  \n\n \nWhatsapp\n\n\n  \n    \n  \n \n\n\n\n\n\n \nLinkedin\n\n\n  \n    \n  \n \n\n  \n\n \nEmail
URL:https://www.nae.fr/agenda/tech-hour-impact-cem-sur-les-drones-28-03-23/
LOCATION:Normandie Aerospace\, 745\, Avenue de l’Université\, St-Etienne-du-Rouvray\, 76800\, France
CATEGORIES:Tech Hour
ATTACH;FMTTYPE=image/jpeg:https://www.nae.fr/wp-content/uploads/2019/01/logo_TechHour-01-e1621349140323.jpg
ORGANIZER;CN="Normandie Aerospace":MAILTO:rti@nae.fr
END:VEVENT
BEGIN:VEVENT
DTSTART;VALUE=DATE:20230329
DTEND;VALUE=DATE:20230330
DTSTAMP:20260421T205732
CREATED:20211207T133951Z
LAST-MODIFIED:20260303T182913Z
UID:74501-1680048000-1680134399@www.nae.fr
SUMMARY:Séminaire RH Caen - 29/03/23
DESCRIPTION:Partager \n\n\n  \n    \n  \n \n\n  \n\n \nFacebook\n\n\n    \n    \n\n\n	\n	\n\n \nTwitter\n\n\n  \n    \n  \n \n\n  \n\n \nWhatsapp\n\n\n  \n    \n  \n \n\n\n\n\n\n \nLinkedin\n\n\n  \n    \n  \n \n\n  \n\n \nEmail
URL:https://www.nae.fr/agenda/seminaire-rh-caen-29-03-23/
CATEGORIES:Agenda RH
END:VEVENT
END:VCALENDAR