BEGIN:VCALENDAR
VERSION:2.0
PRODID:-//NAE - ECPv6.15.20//NONSGML v1.0//EN
CALSCALE:GREGORIAN
METHOD:PUBLISH
X-WR-CALNAME:NAE
X-ORIGINAL-URL:https://www.nae.fr
X-WR-CALDESC:Évènements pour NAE
REFRESH-INTERVAL;VALUE=DURATION:PT1H
X-Robots-Tag:noindex
X-PUBLISHED-TTL:PT1H
BEGIN:VTIMEZONE
TZID:Europe/Paris
BEGIN:DAYLIGHT
TZOFFSETFROM:+0100
TZOFFSETTO:+0200
TZNAME:CEST
DTSTART:20220327T010000
END:DAYLIGHT
BEGIN:STANDARD
TZOFFSETFROM:+0200
TZOFFSETTO:+0100
TZNAME:CET
DTSTART:20221030T010000
END:STANDARD
BEGIN:DAYLIGHT
TZOFFSETFROM:+0100
TZOFFSETTO:+0200
TZNAME:CEST
DTSTART:20230326T010000
END:DAYLIGHT
BEGIN:STANDARD
TZOFFSETFROM:+0200
TZOFFSETTO:+0100
TZNAME:CET
DTSTART:20231029T010000
END:STANDARD
BEGIN:DAYLIGHT
TZOFFSETFROM:+0100
TZOFFSETTO:+0200
TZNAME:CEST
DTSTART:20240331T010000
END:DAYLIGHT
BEGIN:STANDARD
TZOFFSETFROM:+0200
TZOFFSETTO:+0100
TZNAME:CET
DTSTART:20241027T010000
END:STANDARD
END:VTIMEZONE
BEGIN:VEVENT
DTSTART;VALUE=DATE:20230704
DTEND;VALUE=DATE:20230707
DTSTAMP:20260422T040345
CREATED:20220109T080958Z
LAST-MODIFIED:20260303T182908Z
UID:76313-1688428800-1688687999@www.nae.fr
SUMMARY:Forum France Additive du 04 au 06/07/23
DESCRIPTION:L’édition 2023 du Forum France Additive du 4 au 6 juillet arrive à grands pas. Nous avons le plaisir aujourd’hui de pouvoir vous annoncer la sortir imminente d’un kit média\, vous simplifiant la communication sur l’évènement. \nLe Forum France Additive est le rendez-vous bi-annuel des acteurs de la fabrication additive. Cet événement s’adresse à tous\, à tous les métiers\, tous les utilisateurs\, tous les offreurs des composants de la chaîne de valeur de la fabrication additive. \nLe Forum France Additive succède aux AEFA (Assises Européennes de la Fabrication Additive)\, organisées 25 fois. \nDans une nouvelle dynamique de collaboration avec des acteurs de Paris Saclay\, il se déroulera sur trois jours en présentiel sur le Plateau scientifique de Saclay en collaboration avec de nombreux acteurs du domaine. \nLe Forum France Additive sera l’occasion de se retrouver\, de partager et d’échanger sur les enjeux essentiels pour la réussite du développement de la fabrication additive pour une industrie profitable et durable. Dans le contexte de France2030 et afin d’accompagner la croissance de l’activité industrielle en France\, il est indispensable que l’ensemble de l’écosystème national puisse bénéficier des toutes dernières avancées dans le domaine. \nLe Forum France Additive propose des conférences sur les principales avancées du moment\, sur des perspectives d’évolution des technologies et de leurs applications\, des témoignages sur d’autres marchés dans le monde ainsi que des ateliers thématiques sur des sujets cruciaux pour la réussite de l’intégration et de la mise en œuvre de la chaîne de valeur autour de la fabrication additive. Les présentations permettront de découvrir des avancées scientifiques et technologiques grâce aux témoignages d’orateurs internationaux. Tous les aspects liés à une industrialisation réussie seront abordés\, de la recherche la plus actuelle à des exemples d’utilisation intégrée des technologies\, sans oublier la formation et la standardisation. \nLe Forum France Additive\, ce sont des visites\, des rencontres\, des échanges\, des moments conviviaux et ludiques partagés au sein d’espaces parfaitement adaptés. \nLe Forum France Additive\, ce sont aussi les Trophées de France Additive qui récompenseront des réalisations innovantes lors du dîner de gala. \nNe manquez pas le Forum France Additive et suivez les informations sur le site de France Additive. \nCliquez-ici pour vous inscrire au Forum France Additive 2023 \nProgramme :  \n \n\nPartager \n\n\n  \n    \n  \n \n\n  \n\n \nFacebook\n\n\n    \n    \n\n\n	\n	\n\n \nTwitter\n\n\n  \n    \n  \n \n\n  \n\n \nWhatsapp\n\n\n  \n    \n  \n \n\n\n\n\n\n \nLinkedin\n\n\n  \n    \n  \n \n\n  \n\n \nEmail
URL:https://www.nae.fr/agenda/forum-france-additive-du-04-au-06-07-23/
LOCATION:CAMPUS CENTRALE SUPELEC\, 8 Rue Joliot-Curie\, GIF-SUR-YVETTE\, 91190
CATEGORIES:Salons – Conferences
ATTACH;FMTTYPE=image/png:https://www.nae.fr/wp-content/uploads/2023/05/FA-annonce-Carre.png
END:VEVENT
BEGIN:VEVENT
DTSTART;VALUE=DATE:20230705
DTEND;VALUE=DATE:20230707
DTSTAMP:20260422T040345
CREATED:20220109T090039Z
LAST-MODIFIED:20260303T182908Z
UID:76419-1688515200-1688687999@www.nae.fr
SUMMARY:ASTELAB® 2023 – Journées des Essais et de la Simulation - 05/07/23
DESCRIPTION:Journées des Essais et de la Simulation ASTELAB® 2023\nTHALES ALENIA SPACE – CANNES\nLES 5 ET 6 JUILLET 2023 \nDifférentes sessions viendront rythmer ces 2 journées : \n\nSession « Essais multiaxes »\nSession « Instrumentation »\nSession « Spécification d’essais/environnement mécanique »\nSession « Moyens d’essais »\nSession « Calcul/essais »\n\nVisite de THALES ALENIA SPACE : Salle d’intégration des satellites\, le grand caisson thermique 550 m3 et la base compacte. \nUn salon à accès libre\, réunissant les fabricants de capteurs et de moyens d’essais ainsi que les développeurs de solutions\, est organisé parallèlement au colloque. \nDéjeuner sur place et visite des exposants \nDîner organisé le 5 juillet au soir. \nTarif d’inscription pour 1 seule journée : 396 € TTC pour les adhérents et 444 € TTC pour les non adhérents de l’ASTE. \nPlus d’informations sur le site dédié. \n\nPartager \n\n\n  \n    \n  \n \n\n  \n\n \nFacebook\n\n\n    \n    \n\n\n	\n	\n\n \nTwitter\n\n\n  \n    \n  \n \n\n  \n\n \nWhatsapp\n\n\n  \n    \n  \n \n\n\n\n\n\n \nLinkedin\n\n\n  \n    \n  \n \n\n  \n\n \nEmail
URL:https://www.nae.fr/agenda/astelab-2023-journees-des-essais-et-de-la-simulation-05-07-23/
CATEGORIES:Salons – Conferences
ATTACH;FMTTYPE=image/jpeg:https://www.nae.fr/wp-content/uploads/2023/06/TAS-Cannes.jpg
END:VEVENT
BEGIN:VEVENT
DTSTART;TZID=Europe/Paris:20230705T083000
DTEND;TZID=Europe/Paris:20230705T170000
DTSTAMP:20260422T040345
CREATED:20220109T090538Z
LAST-MODIFIED:20260303T182907Z
UID:76424-1688545800-1688576400@www.nae.fr
SUMMARY:SIA FIABILITÉ - 05/07/23
DESCRIPTION:La filière automobile française doit : \n·     Être en mesure d’anticiper les nouveaux usages clients au regard des nouvelles technologies qui leur sont proposées (évolution des motorisations\, aides à la conduite…)\, \n·     S’adapter à l’évolution des mobilités (leasing\, autopartage…)\, \n·     Se préparer à un accroissement de la durabilité attendue (augmentation de couverture garantie\, reconditionnement…). \nEt ce dans un contexte économique très concurrentiel où la maîtrise de la fiabilité a 2 enjeux majeurs : les coûts et l’image de marque.\n\n\n\n\n\n\n\n\n\n\n\n\n\n\n\n\n\n\n\n\n\n\n\n\n\n\n\n\n\n\n\n Nous échangerons sur : \n\n\n\n\n\n\n\n\n\n\n\n\n\n\n\n\n\n\n\n\n\n\n\n\n\n\n\n\n\n\n\n\n\n\n\n\n\n\n\n\n\n\n\n\n\n\n\n\n\n\n\n\n\n\n\n\n\n\n\n\n> les profils de mission : les grands principes et nouveaux besoins (ADAS…)\,\n> les outils d’analyse des incidents en garantie contractuelle et au-delà\,\n> l’optimisation/réduction des coûts de validation\,\n> les relations entre Fiabilité et Sécurité de l’ISO 26262. \n \n\n\n\n\n\n\n\n\n\n\n\n\n\n\n\n\n\n\n\n\n\n\n\nContacts: Adelaide Evra- SIA ► +33 (0)6 45 28 65 73 ► adelaide.evra@sia.fr \nProgramme : www.sia.fr/evenements/314-sia-fiabilite#planning-programme \nInscription : www.sia.fr/evenements/314-sia-fiabilite#registration-inscription \n\nPartager \n\n\n  \n    \n  \n \n\n  \n\n \nFacebook\n\n\n    \n    \n\n\n	\n	\n\n \nTwitter\n\n\n  \n    \n  \n \n\n  \n\n \nWhatsapp\n\n\n  \n    \n  \n \n\n\n\n\n\n \nLinkedin\n\n\n  \n    \n  \n \n\n  \n\n \nEmail
URL:https://www.nae.fr/agenda/sia-fiabilite-05-07-23/
LOCATION:EFREI PARIS\, 30-32 avenue de la République\, Villejuif\, 94800\, France
CATEGORIES:Salons – Conferences
ATTACH;FMTTYPE=image/png:https://www.nae.fr/wp-content/uploads/2023/06/MicrosoftTeams-image-11.png
END:VEVENT
BEGIN:VEVENT
DTSTART;TZID=Europe/Paris:20230709T080000
DTEND;TZID=Europe/Paris:20230713T170000
DTSTAMP:20260422T040345
CREATED:20220108T102007Z
LAST-MODIFIED:20260303T182907Z
UID:73487-1688889600-1689267600@www.nae.fr
SUMMARY:Conférence Aerospace Europe 2023 - CEAS - du 09 au 13/07/23
DESCRIPTION:La conférence Aerospace Europe 2023 est un événement conjoint entre la 10e Conférence européenne des sciences aérospatiales (EUCASS) et la 9e conférence du Conseil des sociétés aérospatiales européennes (CEAS). Les objectifs en 2023 sont de renforcer le lien entre l’espace et l’aéronautique\, de faciliter la fertilisation croisée et de jeter les bases d’un grand congrès international unifié des sciences aérospatiales en Europe. Avec un contenu scientifique riche pour l’avenir de l’espace et de l’aéronautique\, la conférence Aerospace Europe 2023 présentera des idées de pointe pour le monde de demain. Organisée au Swiss Tech Convention Center de Lausanne\, en Suisse\, la conférence sera également l’occasion de découvrir la ville\, Capitale Olympique mondiale\, ainsi que l’Ecole Polytechnique Fédérale Suisse classée 16e au QS World University Ranking. \nPour vous inscrire cliquez-ici \n\nPartager \n\n\n  \n    \n  \n \n\n  \n\n \nFacebook\n\n\n    \n    \n\n\n	\n	\n\n \nTwitter\n\n\n  \n    \n  \n \n\n  \n\n \nWhatsapp\n\n\n  \n    \n  \n \n\n\n\n\n\n \nLinkedin\n\n\n  \n    \n  \n \n\n  \n\n \nEmail
URL:https://www.nae.fr/agenda/conference-aerospace-europe-2023-ceas-du-09-au-13-07-23/
LOCATION:SwissTech Convention Center\, Quartier Nord EPFL - Route Louis-Favre 2\, Ecublens\, 1024\, Suisse
CATEGORIES:Salons – Conferences
ATTACH;FMTTYPE=image/png:https://www.nae.fr/wp-content/uploads/2022/11/Conference-Aerospace-Europe-2023-CEAS-du-09-au-130723.png
END:VEVENT
BEGIN:VEVENT
DTSTART;TZID=Europe/Paris:20230713T133000
DTEND;TZID=Europe/Paris:20230713T170000
DTSTAMP:20260422T040345
CREATED:20220108T101825Z
LAST-MODIFIED:20260303T182906Z
UID:76814-1689255000-1689267600@www.nae.fr
SUMMARY:Permanences INPI - Calvados - 13/07/2023
DESCRIPTION:Vous êtes une entreprise ou un porteur de projet et vous vous posez des questions en matière de protection de vos inventions\, noms de produits ou commerciaux ?\nLes permanences INPI se déroulent sous la forme d’entretien individuel avec un expert de l’INPI qui répondra à vos questions en propriété industrielle (brevets d’invention\, marques\, dessins et modèles…).\nCes permanences ont pour objectif d’apporter un premier niveau d’information. Elles sont gratuites et sur prise de rendez-vous préalable. \nPermanences de 13h30 à 17h00 le jeudi 13 juillet 2023 \nCoordonnées : Normandie incubation – Caen\nMél : normandie@inpi.fr \n \n\nPartager \n\n\n  \n    \n  \n \n\n  \n\n \nFacebook\n\n\n    \n    \n\n\n	\n	\n\n \nTwitter\n\n\n  \n    \n  \n \n\n  \n\n \nWhatsapp\n\n\n  \n    \n  \n \n\n\n\n\n\n \nLinkedin\n\n\n  \n    \n  \n \n\n  \n\n \nEmail
URL:https://www.nae.fr/agenda/permanences-inpi-calvados-13-07-2023/
ATTACH;FMTTYPE=image/png:https://www.nae.fr/wp-content/uploads/2023/07/logo-INPI.png
END:VEVENT
BEGIN:VEVENT
DTSTART;TZID=Europe/Paris:20230720T140000
DTEND;TZID=Europe/Paris:20230720T170000
DTSTAMP:20260422T040345
CREATED:20220108T101742Z
LAST-MODIFIED:20260303T182906Z
UID:76903-1689861600-1689872400@www.nae.fr
SUMMARY:Permanences INPI - CCI Seine Estuaire – Le Havre - 20/07/2023
DESCRIPTION:Vous êtes une entreprise ou un porteur de projet et vous vous posez des questions en matière de protection de vos inventions\, noms de produits ou commerciaux ?\nLes permanences INPI se déroulent sous la forme d’entretien individuel avec un expert de l’INPI qui répondra à vos questions en propriété industrielle (brevets d’invention\, marques\, dessins et modèles…).\nCes permanences ont pour objectif d’apporter un premier niveau d’information. Elles sont gratuites et sur prise de rendez-vous préalable. \nPermanences de 14h00 à 17h00 le jeudi 20 juillet 2023 \nCoordonnées : CCI Seine Estuaire – Le Havre\nMél : inscription@seine-estuaire.cci.fr \n \n\nPartager \n\n\n  \n    \n  \n \n\n  \n\n \nFacebook\n\n\n    \n    \n\n\n	\n	\n\n \nTwitter\n\n\n  \n    \n  \n \n\n  \n\n \nWhatsapp\n\n\n  \n    \n  \n \n\n\n\n\n\n \nLinkedin\n\n\n  \n    \n  \n \n\n  \n\n \nEmail
URL:https://www.nae.fr/agenda/permanences-inpi-cci-seine-estuaire-le-havre-20-07-2023/
ATTACH;FMTTYPE=image/png:https://www.nae.fr/wp-content/uploads/2023/07/logo-INPI.png
END:VEVENT
END:VCALENDAR