BEGIN:VCALENDAR
VERSION:2.0
PRODID:-//NAE - ECPv6.15.20//NONSGML v1.0//EN
CALSCALE:GREGORIAN
METHOD:PUBLISH
X-WR-CALNAME:NAE
X-ORIGINAL-URL:https://www.nae.fr
X-WR-CALDESC:Évènements pour NAE
REFRESH-INTERVAL;VALUE=DURATION:PT1H
X-Robots-Tag:noindex
X-PUBLISHED-TTL:PT1H
BEGIN:VTIMEZONE
TZID:Europe/Paris
BEGIN:DAYLIGHT
TZOFFSETFROM:+0100
TZOFFSETTO:+0200
TZNAME:CEST
DTSTART:20220327T010000
END:DAYLIGHT
BEGIN:STANDARD
TZOFFSETFROM:+0200
TZOFFSETTO:+0100
TZNAME:CET
DTSTART:20221030T010000
END:STANDARD
BEGIN:DAYLIGHT
TZOFFSETFROM:+0100
TZOFFSETTO:+0200
TZNAME:CEST
DTSTART:20230326T010000
END:DAYLIGHT
BEGIN:STANDARD
TZOFFSETFROM:+0200
TZOFFSETTO:+0100
TZNAME:CET
DTSTART:20231029T010000
END:STANDARD
BEGIN:DAYLIGHT
TZOFFSETFROM:+0100
TZOFFSETTO:+0200
TZNAME:CEST
DTSTART:20240331T010000
END:DAYLIGHT
BEGIN:STANDARD
TZOFFSETFROM:+0200
TZOFFSETTO:+0100
TZNAME:CET
DTSTART:20241027T010000
END:STANDARD
END:VTIMEZONE
BEGIN:VEVENT
DTSTART;TZID=Europe/Paris:20230901T133000
DTEND;TZID=Europe/Paris:20230901T170000
DTSTAMP:20260422T073331
CREATED:20220108T101604Z
LAST-MODIFIED:20260303T182905Z
UID:76907-1693575000-1693587600@www.nae.fr
SUMMARY:Permanences INPI - Calvados - 01/09/2023
DESCRIPTION:Vous êtes une entreprise ou un porteur de projet et vous vous posez des questions en matière de protection de vos inventions\, noms de produits ou commerciaux ?\nLes permanences INPI se déroulent sous la forme d’entretien individuel avec un expert de l’INPI qui répondra à vos questions en propriété industrielle (brevets d’invention\, marques\, dessins et modèles…).\nCes permanences ont pour objectif d’apporter un premier niveau d’information. Elles sont gratuites et sur prise de rendez-vous préalable. \nPermanences de 13h30 à 17h00 le vendredi 01 septembre 2023 \nCoordonnées : Normandie incubation – Caen\nMél : normandie@inpi.fr \n \n\nPartager \n\n\n  \n    \n  \n \n\n  \n\n \nFacebook\n\n\n    \n    \n\n\n	\n	\n\n \nTwitter\n\n\n  \n    \n  \n \n\n  \n\n \nWhatsapp\n\n\n  \n    \n  \n \n\n\n\n\n\n \nLinkedin\n\n\n  \n    \n  \n \n\n  \n\n \nEmail
URL:https://www.nae.fr/agenda/permanences-inpi-calvados-01-09-2023/
ATTACH;FMTTYPE=image/png:https://www.nae.fr/wp-content/uploads/2023/07/logo-INPI.png
END:VEVENT
BEGIN:VEVENT
DTSTART;TZID=Europe/Paris:20230907T140000
DTEND;TZID=Europe/Paris:20230907T170000
DTSTAMP:20260422T073331
CREATED:20220108T101539Z
LAST-MODIFIED:20260303T182905Z
UID:76910-1694095200-1694106000@www.nae.fr
SUMMARY:Permanences INPI - CCI Portes de Normandie – Évreux - 07/09/2023
DESCRIPTION:Vous êtes une entreprise ou un porteur de projet et vous vous posez des questions en matière de protection de vos inventions\, noms de produits ou commerciaux ?\nLes permanences INPI se déroulent sous la forme d’entretien individuel avec un expert de l’INPI qui répondra à vos questions en propriété industrielle (brevets d’invention\, marques\, dessins et modèles…).\nCes permanences ont pour objectif d’apporter un premier niveau d’information. Elles sont gratuites et sur prise de rendez-vous préalable. \nPermanences de 14h00 à 17h00 le jeudi 07 septembre 2023 \nCoordonnées : CCI Portes de Normandie – Évreux\nMél : Espace-Createurs-EURE@normandie.cci.fr \n \n\nPartager \n\n\n  \n    \n  \n \n\n  \n\n \nFacebook\n\n\n    \n    \n\n\n	\n	\n\n \nTwitter\n\n\n  \n    \n  \n \n\n  \n\n \nWhatsapp\n\n\n  \n    \n  \n \n\n\n\n\n\n \nLinkedin\n\n\n  \n    \n  \n \n\n  \n\n \nEmail
URL:https://www.nae.fr/agenda/permanences-inpi-cci-portes-de-normandie-evreux-07-09-2023/
ATTACH;FMTTYPE=image/png:https://www.nae.fr/wp-content/uploads/2023/07/logo-INPI.png
END:VEVENT
BEGIN:VEVENT
DTSTART;TZID=Europe/Paris:20230908T140000
DTEND;TZID=Europe/Paris:20230908T170000
DTSTAMP:20260422T073331
CREATED:20220108T101459Z
LAST-MODIFIED:20260303T182905Z
UID:76912-1694181600-1694192400@www.nae.fr
SUMMARY:Permanences INPI - Seine-Maritime - 08/09/2023
DESCRIPTION:Vous êtes une entreprise ou un porteur de projet et vous vous posez des questions en matière de protection de vos inventions\, noms de produits ou commerciaux ?\nLes permanences INPI se déroulent sous la forme d’entretien individuel avec un expert de l’INPI qui répondra à vos questions en propriété industrielle (brevets d’invention\, marques\, dessins et modèles…).\nCes permanences ont pour objectif d’apporter un premier niveau d’information. Elles sont gratuites et sur prise de rendez-vous préalable. \nPermanences de 14h00 à 17h00 le vendredi 08 septembre 2023 \nCoordonnées : Caux Seine développement – Notre-Dame-de-Gravenchon/Port-Jérôme-sur-Seine\nMél : csd@cauxseine.fr \n \n\nPartager \n\n\n  \n    \n  \n \n\n  \n\n \nFacebook\n\n\n    \n    \n\n\n	\n	\n\n \nTwitter\n\n\n  \n    \n  \n \n\n  \n\n \nWhatsapp\n\n\n  \n    \n  \n \n\n\n\n\n\n \nLinkedin\n\n\n  \n    \n  \n \n\n  \n\n \nEmail
URL:https://www.nae.fr/agenda/permanences-inpi-seine-maritime-08-09-2023/
ATTACH;FMTTYPE=image/png:https://www.nae.fr/wp-content/uploads/2023/07/logo-INPI.png
END:VEVENT
BEGIN:VEVENT
DTSTART;TZID=Europe/Paris:20230911T090000
DTEND;TZID=Europe/Paris:20230911T170000
DTSTAMP:20260422T073331
CREATED:20220108T101309Z
LAST-MODIFIED:20260303T182904Z
UID:76914-1694422800-1694451600@www.nae.fr
SUMMARY:Permanences INPI - Manche et Orne - 11/09/2023
DESCRIPTION:Vous êtes une entreprise ou un porteur de projet et vous vous posez des questions en matière de protection de vos inventions\, noms de produits ou commerciaux ?\nLes permanences INPI se déroulent sous la forme d’entretien individuel avec un expert de l’INPI qui répondra à vos questions en propriété industrielle (brevets d’invention\, marques\, dessins et modèles…).\nCes permanences ont pour objectif d’apporter un premier niveau d’information. Elles sont gratuites et sur prise de rendez-vous préalable. \nPermanences de 14h00 à 17h00 le lundi 11 septembre 2023 \nCoordonnées : CCI Ouest Normandie – Cherbourg\, Saint-Lô\, Saint Pair-sur-Mer\, Argentan et Flers\nMél : Vincent.CHAPELAIN@normandie.cci.fr \n \n\nPartager \n\n\n  \n    \n  \n \n\n  \n\n \nFacebook\n\n\n    \n    \n\n\n	\n	\n\n \nTwitter\n\n\n  \n    \n  \n \n\n  \n\n \nWhatsapp\n\n\n  \n    \n  \n \n\n\n\n\n\n \nLinkedin\n\n\n  \n    \n  \n \n\n  \n\n \nEmail
URL:https://www.nae.fr/agenda/permanences-inpi-manche-et-orne-11-09-2023/
ATTACH;FMTTYPE=image/png:https://www.nae.fr/wp-content/uploads/2023/07/logo-INPI.png
END:VEVENT
BEGIN:VEVENT
DTSTART;TZID=Europe/Paris:20230919T090000
DTEND;TZID=Europe/Paris:20230919T120000
DTSTAMP:20260422T073331
CREATED:20220108T101227Z
LAST-MODIFIED:20260303T182904Z
UID:76916-1695114000-1695124800@www.nae.fr
SUMMARY:Permanences INPI - VillageByCA Rouen Vallée de Seine – Rouen - 19/09/2023
DESCRIPTION:Vous êtes une entreprise ou un porteur de projet et vous vous posez des questions en matière de protection de vos inventions\, noms de produits ou commerciaux ?\nLes permanences INPI se déroulent sous la forme d’entretien individuel avec un expert de l’INPI qui répondra à vos questions en propriété industrielle (brevets d’invention\, marques\, dessins et modèles…).\nCes permanences ont pour objectif d’apporter un premier niveau d’information. Elles sont gratuites et sur prise de rendez-vous préalable. \nPermanences de 14h00 à 17h00 le mardi 19 septembre 2023 \nCoordonnées : VillageByCA Rouen Vallée de Seine – Rouen\nMél : celine.rat@levillagebyca.com \n \n\nPartager \n\n\n  \n    \n  \n \n\n  \n\n \nFacebook\n\n\n    \n    \n\n\n	\n	\n\n \nTwitter\n\n\n  \n    \n  \n \n\n  \n\n \nWhatsapp\n\n\n  \n    \n  \n \n\n\n\n\n\n \nLinkedin\n\n\n  \n    \n  \n \n\n  \n\n \nEmail
URL:https://www.nae.fr/agenda/permanences-inpi-villagebyca-rouen-vallee-de-seine-rouen-19-09-2023/
ATTACH;FMTTYPE=image/png:https://www.nae.fr/wp-content/uploads/2023/07/logo-INPI.png
END:VEVENT
BEGIN:VEVENT
DTSTART;TZID=Europe/Paris:20230919T100000
DTEND;TZID=Europe/Paris:20230919T170000
DTSTAMP:20260422T073331
CREATED:20220108T101209Z
LAST-MODIFIED:20260303T182904Z
UID:76959-1695117600-1695142800@www.nae.fr
SUMMARY:Save the date Demo Day Drones Horizon Security - 19/09/2023
DESCRIPTION:Une journée pour parler des drones\, de la sécurité et aussi des drones au service de la sécurité \n Thèmes abordés :\n\nL’impact de la tech sur le continuum de sécurité\nAppui aux forces de l’ordre et à la sécurité civile lors d’un évènement\nComment sécuriser un site industriel\nL’aide à la prise à la décision pour les unités de secours et d’intervention\n\nProgramme prévisionnel :\n\nTable ronde\nKeynote\nDémonstrations de sécurisation de sites et d’aide à la prise de décision\nNetworking\n\nCliquez-ici pour vous inscrire. \n\nPartager \n\n\n  \n    \n  \n \n\n  \n\n \nFacebook\n\n\n    \n    \n\n\n	\n	\n\n \nTwitter\n\n\n  \n    \n  \n \n\n  \n\n \nWhatsapp\n\n\n  \n    \n  \n \n\n\n\n\n\n \nLinkedin\n\n\n  \n    \n  \n \n\n  \n\n \nEmail
URL:https://www.nae.fr/agenda/save-the-date-demo-day-drones-horizon-security-19-09-2023/
LOCATION:Modul’Air\, 6 avenue du Centre d'Essai en Vol\, Brétigny-sur-Orge\, 91120\, France
CATEGORIES:Portes ouvertes
ATTACH;FMTTYPE=image/png:https://www.nae.fr/wp-content/uploads/2023/07/1689588018_image_event_c.png
END:VEVENT
BEGIN:VEVENT
DTSTART;TZID=Europe/Paris:20230921T130000
DTEND;TZID=Europe/Paris:20230921T170000
DTSTAMP:20260422T073331
CREATED:20220108T101131Z
LAST-MODIFIED:20260303T182903Z
UID:76924-1695301200-1695315600@www.nae.fr
SUMMARY:Permanences INPI - CCI Seine Estuaire – Le Havre - 21/09/2023
DESCRIPTION:Vous êtes une entreprise ou un porteur de projet et vous vous posez des questions en matière de protection de vos inventions\, noms de produits ou commerciaux ?\nLes permanences INPI se déroulent sous la forme d’entretien individuel avec un expert de l’INPI qui répondra à vos questions en propriété industrielle (brevets d’invention\, marques\, dessins et modèles…).\nCes permanences ont pour objectif d’apporter un premier niveau d’information. Elles sont gratuites et sur prise de rendez-vous préalable. \nPermanences de 14h00 à 17h00 le jeudi 21 septembre 2023 \nCoordonnées : CCI Seine Estuaire – Le Havre\nMél : inscription@seine-estuaire.cci.fr \n \n\nPartager \n\n\n  \n    \n  \n \n\n  \n\n \nFacebook\n\n\n    \n    \n\n\n	\n	\n\n \nTwitter\n\n\n  \n    \n  \n \n\n  \n\n \nWhatsapp\n\n\n  \n    \n  \n \n\n\n\n\n\n \nLinkedin\n\n\n  \n    \n  \n \n\n  \n\n \nEmail
URL:https://www.nae.fr/agenda/permanences-inpi-cci-seine-estuaire-le-havre-21-09-2023/
ATTACH;FMTTYPE=image/png:https://www.nae.fr/wp-content/uploads/2023/07/logo-INPI.png
END:VEVENT
BEGIN:VEVENT
DTSTART;TZID=Europe/Paris:20230926T123000
DTEND;TZID=Europe/Paris:20230926T133000
DTSTAMP:20260422T073331
CREATED:20211208T093035Z
LAST-MODIFIED:20260303T182903Z
UID:76085-1695731400-1695735000@www.nae.fr
SUMMARY:Tech Hour - INSA ENIT- Etude des interactions procédé-microstructure-propriétés dans les matériaux métalliques élaborés par fusion sur lit de poudre - 26/09/23
DESCRIPTION:Date : 26/09/2023 \nHoraire : 12h30 – 13h30 \nFormat : Visio conférence (WEB EX) \nProgramme : Etude des interactions procédé-microstructure-propriétés dans les matériaux métalliques élaborés par fusion sur lit de poudre\n \nDescriptif :La généralisation des procédés de Fabrication Additive Métallique dans de nombreux domaines industriels s’accompagne d’une remise en question des règles de dimensionnement en raison notamment de la complexité des microstructures induites. Au registre des principaux avantages\, on peut citer la fabrication de pièces monolithiques complexes ou encore l’adaptation des paramètres de fabrication qui permet de concevoir à façon des pièces selon les comportements mécaniques souhaités (limite d’élasticité\, ductilité\, ténacité\, gradients de propriétés). Le revers de la médaille réside dans l’existence de contraintes internes\, la nécessité d’opérations de parachèvement nombreuses et coûteuses\, l’anisotropie et l’hétérogénité des comportements mécaniques. Ainsi caractériser/comprendre les interactions entre procédé-microstructure-propriétés dans les matériaux métalliques élaborés par fusion sur lit de poudre relève d’un vrai challenge. \nPrésentation réalisée par Benoit Vieille (Professeur INSA Rouen/GPM) et Clément Keller (Professeur ENI Tarbes/LGP) \n\nInscription gratuite mais obligatoire en renseignant le formulaire suivant  \nCLIQUEZ ICI \nFin des inscriptions le vendredi 18h00 avant le Tech Hour\n \n\n  \nTech Hour en partenariat avec : \nACSIEL : Le syndicat de l’électronique ACSIEL qui regroupe les ex-adhérents du GIXEL\, du SITELEC\,\ndu SIMTEC et du GFIE fédère 120 membres. \nASTech Paris Region : ASTECH Paris Region\, pôle de compétitivité\, vise à accroitre en Ile de France les positions de leader européen de l’industrie des secteurs Lancement spatial\, Aviation d’affaires\, Propulsion et Équipements par l’innovation. \nI-Trans : Ancré dans la Région Hauts-de-France\, i-Trans est le pôle de compétitivité des transports\,\nde la mobilité et de la logistique. \nLSN : Filière d’excellence\, Logistique Seine-Normandie (LSN) fédère 185 adhérents : des\nentreprises du transport et de la logistique et des acteurs économiques de Normandie. \nNAE : NAE est la filière en Normandie de l’aéronautique\, spatial\, défense et sécurité. Elle regroupe plus de 160 membres industriels et académiques et travaille sur 5 axes\, : Le Business et l’International\, l’Emploi et la Formation\, la Compétitivité\, la Recherche Technologie et Innovation et la Communication. \nNextMove : Pôle de compétitivité Automobile et Mobilité\, Next Move accompagne les entreprises au quotidien pour favoriser l’innovation\, le financement de projets R&D et le business collaboratifs entre ses membres. \nNormandie Énergie : Filière d’excellence\, Normandie Energies soutient le développement économique du\nterritoire en fédérant plus de 240 acteurs normands de l’énergie. \nNormandie Maritime : Normandie Maritime a pour mission la promotion\, le développement et la coordination de la filière régionale de l’économie maritime et fluviale. \nPole MEDEE : Basé à Lille\, le Pôle MEDEE est un cluster qui fédère et anime\nune communauté d’acteurs spécialisés en génie électrique \n\n\n \n\nPartager \n\n\n  \n    \n  \n \n\n  \n\n \nFacebook\n\n\n    \n    \n\n\n	\n	\n\n \nTwitter\n\n\n  \n    \n  \n \n\n  \n\n \nWhatsapp\n\n\n  \n    \n  \n \n\n\n\n\n\n \nLinkedin\n\n\n  \n    \n  \n \n\n  \n\n \nEmail
URL:https://www.nae.fr/agenda/tech-hour-insa-enit-etude-des-interactions-procede-microstructure-proprietes-dans-les-materiaux-metalliques-elabores-par-fusion-sur-lit-de-poudre-26-09-23/
LOCATION:Normandie Aerospace\, 745\, Avenue de l’Université\, St-Etienne-du-Rouvray\, 76800\, France
CATEGORIES:Tech Hour
ATTACH;FMTTYPE=image/jpeg:https://www.nae.fr/wp-content/uploads/2019/01/logo_TechHour-01-e1621349140323.jpg
ORGANIZER;CN="Normandie Aerospace":MAILTO:rti@nae.fr
END:VEVENT
END:VCALENDAR