BEGIN:VCALENDAR
VERSION:2.0
PRODID:-//NAE - ECPv6.15.20//NONSGML v1.0//EN
CALSCALE:GREGORIAN
METHOD:PUBLISH
X-ORIGINAL-URL:https://www.nae.fr
X-WR-CALDESC:Évènements pour NAE
REFRESH-INTERVAL;VALUE=DURATION:PT1H
X-Robots-Tag:noindex
X-PUBLISHED-TTL:PT1H
BEGIN:VTIMEZONE
TZID:Europe/Paris
BEGIN:DAYLIGHT
TZOFFSETFROM:+0100
TZOFFSETTO:+0200
TZNAME:CEST
DTSTART:20220327T010000
END:DAYLIGHT
BEGIN:STANDARD
TZOFFSETFROM:+0200
TZOFFSETTO:+0100
TZNAME:CET
DTSTART:20221030T010000
END:STANDARD
BEGIN:DAYLIGHT
TZOFFSETFROM:+0100
TZOFFSETTO:+0200
TZNAME:CEST
DTSTART:20230326T010000
END:DAYLIGHT
BEGIN:STANDARD
TZOFFSETFROM:+0200
TZOFFSETTO:+0100
TZNAME:CET
DTSTART:20231029T010000
END:STANDARD
BEGIN:DAYLIGHT
TZOFFSETFROM:+0100
TZOFFSETTO:+0200
TZNAME:CEST
DTSTART:20240331T010000
END:DAYLIGHT
BEGIN:STANDARD
TZOFFSETFROM:+0200
TZOFFSETTO:+0100
TZNAME:CET
DTSTART:20241027T010000
END:STANDARD
END:VTIMEZONE
BEGIN:VEVENT
DTSTART;VALUE=DATE:20231002
DTEND;VALUE=DATE:20231006
DTSTAMP:20260422T092112
CREATED:20220107T131859Z
LAST-MODIFIED:20260303T182902Z
UID:76430-1696204800-1696550399@www.nae.fr
SUMMARY:ESREF 2023 du 02/10/23 au 05/10/23 - Toulouse
DESCRIPTION:34e Symposium ESREF (European Symposium on Reliability of Electron Devices\, Failure Physics and Analysis) \nThis international symposium continues to focus on recent developments and future directions in Quality and Reliability Management of materials\, devices\nand circuits for micro-\, nano-\, and optoelectronics. It provides a European forum for developing all aspects of reliability management and innovative analysis\ntechniques for present and future electronic applications. \nFor this 34th edition\, in addition to the core topics of the conference\, we would like to involve the major actors of aeronautics\, space and embedded systems industry to provide specific topics such as radiation hardening\, very long-term reliability\, high/low temperature challenges\, obsolescence and counterfeit issues\, wide bandgap power devices for the more electric aircraft and other embedded system applications. In the continuity of previous conferences\, ESREF 2023 is also hosting several workshops and welcomes new ones related to these specific topics. \nWe are looking forward to welcoming you for a memorable experience! \nESREF 2023 Chair : Nicolas NOLHIER\nESREF 2023 Vice-Chair : Guillaume BASCOUL\nTechnical Program Chairs : Hélène FREMONT\, Nathalie LABAT\, François MARC \n\nPartager \n\n\n  \n    \n  \n \n\n  \n\n \nFacebook\n\n\n    \n    \n\n\n	\n	\n\n \nTwitter\n\n\n  \n    \n  \n \n\n  \n\n \nWhatsapp\n\n\n  \n    \n  \n \n\n\n\n\n\n \nLinkedin\n\n\n  \n    \n  \n \n\n  \n\n \nEmail
URL:https://www.nae.fr/agenda/esref-2023-du-02-10-23-au-05-10-23-toulouse/
LOCATION:Diagora Congress Center in Toulouse\, 150\, rue Pierre Gilles de Gennes\, TOULOUSE – LABEGE\, 31670\, France
CATEGORIES:Salons – Conferences
ATTACH;FMTTYPE=image/png:https://www.nae.fr/wp-content/uploads/2023/06/ESREF_bandeau_version_finale.png
END:VEVENT
BEGIN:VEVENT
DTSTART;TZID=Europe/Paris:20231003T080000
DTEND;TZID=Europe/Paris:20231003T170000
DTSTAMP:20260422T092112
CREATED:20220107T132009Z
LAST-MODIFIED:20260303T182902Z
UID:76434-1696320000-1696352400@www.nae.fr
SUMMARY:Tech Day RTI de NAE - 03/10/23 - Saint Etienne de Rouvray
DESCRIPTION:Une fois n’est pas coutume\, ce Séminaire CFF se tiendra en présentiel\, lors de la journée TechDays organisée par NAE\, à Saint-Etienne-du-Rouvray\, le mardi 3 octobre 2023. Nous vous proposons pour ce Séminaire CFF de l’organiser lors des TechDays NAE afin que vous puissiez bénéficier des dernières innovations mais aussi découvrir quelques compétences présentes sur le salon. Détail et présentation du salon à préciser Un verre de l’amitié vous sera offert pour ceux qui seront présents. \n			\n			\n				\n				\n				\n				\n			\n				\n				\n			 \n\nPartager \n\n\n  \n    \n  \n \n\n  \n\n \nFacebook\n\n\n    \n    \n\n\n	\n	\n\n \nTwitter\n\n\n  \n    \n  \n \n\n  \n\n \nWhatsapp\n\n\n  \n    \n  \n \n\n\n\n\n\n \nLinkedin\n\n\n  \n    \n  \n \n\n  \n\n \nEmail
URL:https://www.nae.fr/agenda/tech_day_rti_nae/
CATEGORIES:Comité Recherche, Technologie et Innovation,Séminaire RTI
ATTACH;FMTTYPE=image/png:https://www.nae.fr/wp-content/uploads/2022/01/TECH-DAY-NAE-V3.png
END:VEVENT
BEGIN:VEVENT
DTSTART;TZID=Europe/Paris:20231005T090000
DTEND;TZID=Europe/Paris:20231005T120000
DTSTAMP:20260422T092112
CREATED:20220107T131735Z
LAST-MODIFIED:20260303T182902Z
UID:77606-1696496400-1696507200@www.nae.fr
SUMMARY:Quelles perspectives pour l’hydrogène sur l’Axe Seine - Vernon - 05/10/23
DESCRIPTION:Rencontre technique\n\nPrésentiel\n\nAu programme8h30 – 9h Accueil café et enregistrement \n9h – 9h05 Mot de BienvenueQuentin GUILBERT – Président du Hub TEN & Dirigeant d’EXEO Ingénierie \nPrésentation des objectifs de la matinée \n9h05 – 9h15 Mikaa BLUGEON-MERED – Animateur & chargé d’enseignement en marchés\, diplomatie et géopolitique de l’hydrogène à Sciences POTable Ronde 1 – L’hydrogène en tant que vecteur énergétiquePanorama complet des modes de production\, du stockage\, des usages actuels\, des enjeux techniques et économiques.Intervenant(e)s :«»9h15 – 09h45 Aline LEON – R&D Project Manager – EIFERDavid HONORÉ – Professeur – INSA Rouen Normandie / Ingénieur & chercheur – CORIADamien GUILBERT – Enseignant Chercheur – Université le Havre Normandie Julien HERVOCHON – Ingénieur de recherche – Projet Hydrogène HyTII-Seine«»9h45 – 10h«»Session de questions-réponses«» \nTable Ronde 2 – Projets & Infrastructures de l’hydrogèneÉcosystèmes techniques\, orientations\, obstacles à surmonter\, et structuration de la filière.Intervenant(e)s :«»10h – 11h«»Aude HUMBERT – Directrice de projets – H2VVincent DUVERNE – Responsable Développement – Lhyfe Corine DUBRUEL – Présidente – HSL (HySilabs)Amandine ALLARD – Directrice service clients – TransdevYounesse MAAIZI – Ingénieur Responsable produit micro liquefacteur hydrogène – Absolut HydrogenCharlotte BULIARD – Directrice des Affaires internationales & institutionnelles – HopiumSamuel CUTILLIC – Directeur Général Adjoint – NAENadège VISSIERE – Head of Hydrogen Programmes – ArianeGroup » \n11h – 11h15 Session de questions-réponses11h15 – 11h30Pause-Café11h30 – 12h30Valérie RAI-PUNSOLA – Déléguée Générale – Normandie Energies\,Déléguée Régionale – France Hydrogène NormandieMarie-Annick LEROY – Directrice Transition Écologique & InnovationTerritoriale – Caux Seine agglo et Déléguée Régionale adjointe – FranceHydrogèneRegis SAADI – Directeur des Affaires Publiques – Air Liquide\, Président –France Chimie Normandie & Association UPSIDE-Boucles de Rouen etSecrétaire Général – France HydrogèneThomas HEMMERDINGER – Pilote du Club Hydrogène – Région Île-de-FranceMathilde BELHACHE – Chargée de Projets Hydrogène – RégionNormandieAnne RODELLA – Directrice Générale de Campus de l’EspacePascale GROS-DUBOIS – Directrice Service Développement Économique –Seine Normandie Agglomération \nTable Ronde 3 – L’écosystème sur l’Axe SeineInitiatives et projets réussis du territoire\, collaboration avec NormandieEnergies\, les agglomérations de Caux Seine et Seine Normandie\, acteursindustriels\, prescripteurs\, facilitateurs et leviers de financement.Intervenant(e)s : \n12h30 – 12h50Session de questions-réponses \n13h00 Mot de clôtureRencontre sur le site du plateau technique pou un cocktail networking \n\nCLIQUEZ-ICI POUR VOUS INSCRIRE \n\nPartager \n\n\n  \n    \n  \n \n\n  \n\n \nFacebook\n\n\n    \n    \n\n\n	\n	\n\n \nTwitter\n\n\n  \n    \n  \n \n\n  \n\n \nWhatsapp\n\n\n  \n    \n  \n \n\n\n\n\n\n \nLinkedin\n\n\n  \n    \n  \n \n\n  \n\n \nEmail
URL:https://www.nae.fr/agenda/quelles-perspectives-pour-lhydrogene-sur-laxe-seine-vernon-05-10-23/
LOCATION:CAMPUS DE L’ESPACE\, 1avenue Hubert Curien\, Vernon\, 27207\, France
CATEGORIES:Salons – Conferences
ATTACH;FMTTYPE=image/png:https://www.nae.fr/wp-content/uploads/2023/10/Quelles-perspectives-pour-lhydrogene-sur-lAxe-Seine-.png
END:VEVENT
BEGIN:VEVENT
DTSTART;TZID=Europe/Paris:20231005T140000
DTEND;TZID=Europe/Paris:20231005T170000
DTSTAMP:20260422T092112
CREATED:20220107T131728Z
LAST-MODIFIED:20260303T182901Z
UID:76926-1696514400-1696525200@www.nae.fr
SUMMARY:Permanences INPI - Campus de l'espace – Vernon - 05/10/2023
DESCRIPTION:Vous êtes une entreprise ou un porteur de projet et vous vous posez des questions en matière de protection de vos inventions\, noms de produits ou commerciaux ?\nLes permanences INPI se déroulent sous la forme d’entretien individuel avec un expert de l’INPI qui répondra à vos questions en propriété industrielle (brevets d’invention\, marques\, dessins et modèles…).\nCes permanences ont pour objectif d’apporter un premier niveau d’information. Elles sont gratuites et sur prise de rendez-vous préalable. \nPermanences de 14h00 à 17h00 le mercredi 05 octobre 2023 \nCoordonnées : Campus de l’espace – Vernon\nMél : Espace-Createurs-EURE@normandie.cci.fr \n \n\nPartager \n\n\n  \n    \n  \n \n\n  \n\n \nFacebook\n\n\n    \n    \n\n\n	\n	\n\n \nTwitter\n\n\n  \n    \n  \n \n\n  \n\n \nWhatsapp\n\n\n  \n    \n  \n \n\n\n\n\n\n \nLinkedin\n\n\n  \n    \n  \n \n\n  \n\n \nEmail
URL:https://www.nae.fr/agenda/permanences-inpi-campus-de-lespace-vernon-05-10-2023/
ATTACH;FMTTYPE=image/png:https://www.nae.fr/wp-content/uploads/2023/07/logo-INPI.png
END:VEVENT
BEGIN:VEVENT
DTSTART;TZID=Europe/Paris:20231006T133000
DTEND;TZID=Europe/Paris:20231006T170000
DTSTAMP:20260422T092112
CREATED:20220107T131456Z
LAST-MODIFIED:20260303T182901Z
UID:76928-1696599000-1696611600@www.nae.fr
SUMMARY:Permanences INPI - Calvados - 06/10/2023
DESCRIPTION:Vous êtes une entreprise ou un porteur de projet et vous vous posez des questions en matière de protection de vos inventions\, noms de produits ou commerciaux ?\nLes permanences INPI se déroulent sous la forme d’entretien individuel avec un expert de l’INPI qui répondra à vos questions en propriété industrielle (brevets d’invention\, marques\, dessins et modèles…).\nCes permanences ont pour objectif d’apporter un premier niveau d’information. Elles sont gratuites et sur prise de rendez-vous préalable. \nPermanences de 13h30 à 17h00 le vendredi 06 octobre 2023 \nCoordonnées : Normandie incubation – Caen\nMél : normandie@inpi.fr \n \n\nPartager \n\n\n  \n    \n  \n \n\n  \n\n \nFacebook\n\n\n    \n    \n\n\n	\n	\n\n \nTwitter\n\n\n  \n    \n  \n \n\n  \n\n \nWhatsapp\n\n\n  \n    \n  \n \n\n\n\n\n\n \nLinkedin\n\n\n  \n    \n  \n \n\n  \n\n \nEmail
URL:https://www.nae.fr/agenda/permanences-inpi-calvados-06-10-2023/
ATTACH;FMTTYPE=image/png:https://www.nae.fr/wp-content/uploads/2023/07/logo-INPI.png
END:VEVENT
BEGIN:VEVENT
DTSTART;TZID=Europe/Paris:20231009T090000
DTEND;TZID=Europe/Paris:20231009T170000
DTSTAMP:20260422T092112
CREATED:20220107T131559Z
LAST-MODIFIED:20260303T182900Z
UID:76930-1696842000-1696870800@www.nae.fr
SUMMARY:Permanences INPI - Manche et Orne - 09/10/2023
DESCRIPTION:Vous êtes une entreprise ou un porteur de projet et vous vous posez des questions en matière de protection de vos inventions\, noms de produits ou commerciaux ?\nLes permanences INPI se déroulent sous la forme d’entretien individuel avec un expert de l’INPI qui répondra à vos questions en propriété industrielle (brevets d’invention\, marques\, dessins et modèles…).\nCes permanences ont pour objectif d’apporter un premier niveau d’information. Elles sont gratuites et sur prise de rendez-vous préalable. \nPermanences de 09h00 à 17h00 le lundi 09 octobre 2023 \nCoordonnées : CCI Ouest Normandie – Cherbourg\, Saint-Lô\, Saint Pair-sur-Mer\, Argentan et Flers\nMél : Vincent.CHAPELAIN@normandie.cci.fr \n \n\nPartager \n\n\n  \n    \n  \n \n\n  \n\n \nFacebook\n\n\n    \n    \n\n\n	\n	\n\n \nTwitter\n\n\n  \n    \n  \n \n\n  \n\n \nWhatsapp\n\n\n  \n    \n  \n \n\n\n\n\n\n \nLinkedin\n\n\n  \n    \n  \n \n\n  \n\n \nEmail
URL:https://www.nae.fr/agenda/permanences-inpi-manche-et-orne-09-10-2023/
ATTACH;FMTTYPE=image/png:https://www.nae.fr/wp-content/uploads/2023/07/logo-INPI.png
END:VEVENT
BEGIN:VEVENT
DTSTART;TZID=Europe/Paris:20231013T140000
DTEND;TZID=Europe/Paris:20231013T170000
DTSTAMP:20260422T092112
CREATED:20220107T131432Z
LAST-MODIFIED:20260303T182900Z
UID:76932-1697205600-1697216400@www.nae.fr
SUMMARY:Permanences INPI - Seine-Maritime -13/10/2023
DESCRIPTION:Vous êtes une entreprise ou un porteur de projet et vous vous posez des questions en matière de protection de vos inventions\, noms de produits ou commerciaux ?\nLes permanences INPI se déroulent sous la forme d’entretien individuel avec un expert de l’INPI qui répondra à vos questions en propriété industrielle (brevets d’invention\, marques\, dessins et modèles…).\nCes permanences ont pour objectif d’apporter un premier niveau d’information. Elles sont gratuites et sur prise de rendez-vous préalable. \nPermanences de 14h00 à 17h00 le vendredi 13 octobre 2023 \nCoordonnées : Caux Seine développement – Notre-Dame-de-Gravenchon/Port-Jérôme-sur-Seine\nMél :  csd@cauxseine.fr \n \n\nPartager \n\n\n  \n    \n  \n \n\n  \n\n \nFacebook\n\n\n    \n    \n\n\n	\n	\n\n \nTwitter\n\n\n  \n    \n  \n \n\n  \n\n \nWhatsapp\n\n\n  \n    \n  \n \n\n\n\n\n\n \nLinkedin\n\n\n  \n    \n  \n \n\n  \n\n \nEmail
URL:https://www.nae.fr/agenda/permanences-inpi-seine-maritime-13-10-2023/
ATTACH;FMTTYPE=image/png:https://www.nae.fr/wp-content/uploads/2023/07/logo-INPI.png
END:VEVENT
BEGIN:VEVENT
DTSTART;TZID=Europe/Paris:20231021T130000
DTEND;TZID=Europe/Paris:20231021T170000
DTSTAMP:20260422T092112
CREATED:20220107T131356Z
LAST-MODIFIED:20260303T182900Z
UID:76934-1697893200-1697907600@www.nae.fr
SUMMARY:Permanences INPI - CCI Seine Estuaire – Le Havre - 21/10/2023
DESCRIPTION:Vous êtes une entreprise ou un porteur de projet et vous vous posez des questions en matière de protection de vos inventions\, noms de produits ou commerciaux ?\nLes permanences INPI se déroulent sous la forme d’entretien individuel avec un expert de l’INPI qui répondra à vos questions en propriété industrielle (brevets d’invention\, marques\, dessins et modèles…).\nCes permanences ont pour objectif d’apporter un premier niveau d’information. Elles sont gratuites et sur prise de rendez-vous préalable. \nPermanences de 13h00 à 17h00 le samedi 21 octobre 2023 \nCoordonnées : CCI Seine Estuaire – Le Havre\nMél : inscription@seine-estuaire.cci.fr \n \n\nPartager \n\n\n  \n    \n  \n \n\n  \n\n \nFacebook\n\n\n    \n    \n\n\n	\n	\n\n \nTwitter\n\n\n  \n    \n  \n \n\n  \n\n \nWhatsapp\n\n\n  \n    \n  \n \n\n\n\n\n\n \nLinkedin\n\n\n  \n    \n  \n \n\n  \n\n \nEmail
URL:https://www.nae.fr/agenda/permanences-inpi-cci-seine-estuaire-le-havre-21-10-2023/
ATTACH;FMTTYPE=image/png:https://www.nae.fr/wp-content/uploads/2023/07/logo-INPI.png
END:VEVENT
BEGIN:VEVENT
DTSTART;TZID=Europe/Paris:20231031T123000
DTEND;TZID=Europe/Paris:20231031T133000
DTSTAMP:20260422T092112
CREATED:20220107T131212Z
LAST-MODIFIED:20260303T182859Z
UID:76089-1698755400-1698759000@www.nae.fr
SUMMARY:Tech Hour - Scienteama- Antennes flexibles textiles - 31/10/23
DESCRIPTION:Date : 31/10/2023 \nHoraire : 12h30 – 13h30 \nFormat : Visio conférence (WEB EX) \nProgramme : Antennes flexibles textiles\n \nDescriptif : La société Scienteama\, fondée en 2017 se définit comme une entité d’exploration technologique. Véritable transition entre le monde de la recherche fondamentale et académique focalisant sur l’émergence de nouveaux concepts et l’industrie qui cherche à ouvrir de nouveaux marchés en capitalisant sur les innovations\, la société Scienteama adresse la montée en maturité technologique des concepts pour les rendre envisageables sur l’exploitation sous forme de produits d’innovation industrialisables. L’exploration technologique vise d’une partie à monter les concepts sur le plan de la maturité technologique (de TRL 0 – 3 vers 5 – 6). \nPrésentation réalisée par Benoit AGNUS (Scienteama) \n\nInscription gratuite mais obligatoire en renseignant le formulaire suivant  \nCLIQUEZ ICI \nFin des inscriptions le vendredi 18h00 avant le Tech Hour\n \n\n  \nTech Hour en partenariat avec : \nACSIEL : Le syndicat de l’électronique ACSIEL qui regroupe les ex-adhérents du GIXEL\, du SITELEC\,\ndu SIMTEC et du GFIE fédère 120 membres. \nASTech Paris Region : ASTECH Paris Region\, pôle de compétitivité\, vise à accroitre en Ile de France les positions de leader européen de l’industrie des secteurs Lancement spatial\, Aviation d’affaires\, Propulsion et Équipements par l’innovation. \nI-Trans : Ancré dans la Région Hauts-de-France\, i-Trans est le pôle de compétitivité des transports\,\nde la mobilité et de la logistique. \nLSN : Filière d’excellence\, Logistique Seine-Normandie (LSN) fédère 185 adhérents : des\nentreprises du transport et de la logistique et des acteurs économiques de Normandie. \nNAE : NAE est la filière en Normandie de l’aéronautique\, spatial\, défense et sécurité. Elle regroupe plus de 160 membres industriels et académiques et travaille sur 5 axes\, : Le Business et l’International\, l’Emploi et la Formation\, la Compétitivité\, la Recherche Technologie et Innovation et la Communication. \nNextMove : Pôle de compétitivité Automobile et Mobilité\, Next Move accompagne les entreprises au quotidien pour favoriser l’innovation\, le financement de projets R&D et le business collaboratifs entre ses membres. \nNormandie Énergie : Filière d’excellence\, Normandie Energies soutient le développement économique du\nterritoire en fédérant plus de 240 acteurs normands de l’énergie. \nNormandie Maritime : Normandie Maritime a pour mission la promotion\, le développement et la coordination de la filière régionale de l’économie maritime et fluviale. \nPole MEDEE : Basé à Lille\, le Pôle MEDEE est un cluster qui fédère et anime\nune communauté d’acteurs spécialisés en génie électrique \n\n\n \n\nPartager \n\n\n  \n    \n  \n \n\n  \n\n \nFacebook\n\n\n    \n    \n\n\n	\n	\n\n \nTwitter\n\n\n  \n    \n  \n \n\n  \n\n \nWhatsapp\n\n\n  \n    \n  \n \n\n\n\n\n\n \nLinkedin\n\n\n  \n    \n  \n \n\n  \n\n \nEmail
URL:https://www.nae.fr/agenda/tech-hour-scienteama-antennes-flexibles-textiles-31-10-23/
LOCATION:Normandie Aerospace\, 745\, Avenue de l’Université\, St-Etienne-du-Rouvray\, 76800\, France
CATEGORIES:Tech Hour
ATTACH;FMTTYPE=image/jpeg:https://www.nae.fr/wp-content/uploads/2019/01/logo_TechHour-01-e1621349140323.jpg
ORGANIZER;CN="Normandie Aerospace":MAILTO:rti@nae.fr
END:VEVENT
END:VCALENDAR