BEGIN:VCALENDAR
VERSION:2.0
PRODID:-//NAE - ECPv6.15.20//NONSGML v1.0//EN
CALSCALE:GREGORIAN
METHOD:PUBLISH
X-ORIGINAL-URL:https://www.nae.fr
X-WR-CALDESC:Évènements pour NAE
REFRESH-INTERVAL;VALUE=DURATION:PT1H
X-Robots-Tag:noindex
X-PUBLISHED-TTL:PT1H
BEGIN:VTIMEZONE
TZID:Europe/Paris
BEGIN:DAYLIGHT
TZOFFSETFROM:+0100
TZOFFSETTO:+0200
TZNAME:CEST
DTSTART:20220327T010000
END:DAYLIGHT
BEGIN:STANDARD
TZOFFSETFROM:+0200
TZOFFSETTO:+0100
TZNAME:CET
DTSTART:20221030T010000
END:STANDARD
BEGIN:DAYLIGHT
TZOFFSETFROM:+0100
TZOFFSETTO:+0200
TZNAME:CEST
DTSTART:20230326T010000
END:DAYLIGHT
BEGIN:STANDARD
TZOFFSETFROM:+0200
TZOFFSETTO:+0100
TZNAME:CET
DTSTART:20231029T010000
END:STANDARD
BEGIN:DAYLIGHT
TZOFFSETFROM:+0100
TZOFFSETTO:+0200
TZNAME:CEST
DTSTART:20240331T010000
END:DAYLIGHT
BEGIN:STANDARD
TZOFFSETFROM:+0200
TZOFFSETTO:+0100
TZNAME:CET
DTSTART:20241027T010000
END:STANDARD
END:VTIMEZONE
BEGIN:VEVENT
DTSTART;TZID=Europe/Paris:20231201T133000
DTEND;TZID=Europe/Paris:20231201T170000
DTSTAMP:20260422T124320
CREATED:20220107T130339Z
LAST-MODIFIED:20260303T182856Z
UID:76949-1701437400-1701450000@www.nae.fr
SUMMARY:Permanences INPI - Calvados - 01/12/2023
DESCRIPTION:Vous êtes une entreprise ou un porteur de projet et vous vous posez des questions en matière de protection de vos inventions\, noms de produits ou commerciaux ?\nLes permanences INPI se déroulent sous la forme d’entretien individuel avec un expert de l’INPI qui répondra à vos questions en propriété industrielle (brevets d’invention\, marques\, dessins et modèles…).\nCes permanences ont pour objectif d’apporter un premier niveau d’information. Elles sont gratuites et sur prise de rendez-vous préalable. \nPermanences de 13h30 à 17h00 le vendredi 01 décembre 2023 \nCoordonnées : Normandie incubation – Caen\nMél : normandie@inpi.fr \n\nPartager \n\n\n  \n    \n  \n \n\n  \n\n \nFacebook\n\n\n    \n    \n\n\n	\n	\n\n \nTwitter\n\n\n  \n    \n  \n \n\n  \n\n \nWhatsapp\n\n\n  \n    \n  \n \n\n\n\n\n\n \nLinkedin\n\n\n  \n    \n  \n \n\n  \n\n \nEmail
URL:https://www.nae.fr/agenda/permanences-inpi-calvados-01-12-2023/
ATTACH;FMTTYPE=image/png:https://www.nae.fr/wp-content/uploads/2023/07/logo-INPI.png
END:VEVENT
BEGIN:VEVENT
DTSTART;TZID=Europe/Paris:20231205T090000
DTEND;TZID=Europe/Paris:20231205T150000
DTSTAMP:20260422T124320
CREATED:20220107T130318Z
LAST-MODIFIED:20260303T182856Z
UID:78089-1701766800-1701788400@www.nae.fr
SUMMARY:Tech Day RTI de NAE –  Saint Etienne de Rouvray - 05/12/2023
DESCRIPTION:NAE vous invite à sa journée technologique le mardi 05 décembre 2023 \nUne journée pour découvrir et échanger avec des experts de la CEM.\nAu programme\, découverte des dernières innovations et produits\, temps d’échanges et visite de la plateforme CEM de l’ESIGELEC. \n\nInscription gratuite mais obligatoire avant le 27/11/2023 \nCLIQUEZ ICI \nLes inscriptions seront soumises à validation par les organisateurs\n \n\nProgramme : \n\n09h00 – Accueil et introduction\n09h00 – #1 – Présentation d’expertises et produits de fabricants\n\n\n\n\nSchaffner : filtre CEM\n\n\n\n\n\n\nFederal Mogul : gaine de protection\n\n\n\n\n10h15 – Pause café\n10h45 – #2 – Présentation d’expertises et produits de fabricants\n\n\n\n\nHEMC 37 : protections IEMN\, filtres TEMPEST et filtres CEM spécifiques\n\n\n\n\n\n\nJacques Dubois : joint CEM\, vitre blindage CEM (shelter)\n\n\n\n\n11h45 – Showroom de leurs produits et échanges sur les problématiques CEM\n12h15 – Cocktail déjeunatoire\n13h30 – Présentation des activités CEM de l’ESIGELEC\n\n\n\n\nActivité de la plateforme CEM de l’ESIGELEC\n\n\n\n\n\n\nRetex : caractérisation de blindage de connecteurs et nouveaux matériaux composites\n\n\n\n\n14h00 – Visite de la plateforme CEM de l’ESIGELEC\n15h00 – Café Networking\n\n \n\nPartager \n\n\n  \n    \n  \n \n\n  \n\n \nFacebook\n\n\n    \n    \n\n\n	\n	\n\n \nTwitter\n\n\n  \n    \n  \n \n\n  \n\n \nWhatsapp\n\n\n  \n    \n  \n \n\n\n\n\n\n \nLinkedin\n\n\n  \n    \n  \n \n\n  \n\n \nEmail
URL:https://www.nae.fr/agenda/tech-day-rti-de-nae-saint-etienne-de-rouvray-05-12-2023/
CATEGORIES:Comité Recherche, Technologie et Innovation
ATTACH;FMTTYPE=image/png:https://www.nae.fr/wp-content/uploads/2023/11/unnamed.png
END:VEVENT
BEGIN:VEVENT
DTSTART;TZID=Europe/Paris:20231207T140000
DTEND;TZID=Europe/Paris:20231207T170000
DTSTAMP:20260422T124320
CREATED:20210107T130202Z
LAST-MODIFIED:20260303T182855Z
UID:76951-1701957600-1701968400@www.nae.fr
SUMMARY:Permanences INPI - Eure - 07/12/2023
DESCRIPTION:Vous êtes une entreprise ou un porteur de projet et vous vous posez des questions en matière de protection de vos inventions\, noms de produits ou commerciaux ?\nLes permanences INPI se déroulent sous la forme d’entretien individuel avec un expert de l’INPI qui répondra à vos questions en propriété industrielle (brevets d’invention\, marques\, dessins et modèles…).\nCes permanences ont pour objectif d’apporter un premier niveau d’information. Elles sont gratuites et sur prise de rendez-vous préalable. \nPermanences de 14h00 à 17h00 le jeudi 07 décembre 2023 \nCoordonnées : Campus de l’espace – Vernon\nMél : Espace-Createurs-EURE@normandie.cci.fr \n\nPartager \n\n\n  \n    \n  \n \n\n  \n\n \nFacebook\n\n\n    \n    \n\n\n	\n	\n\n \nTwitter\n\n\n  \n    \n  \n \n\n  \n\n \nWhatsapp\n\n\n  \n    \n  \n \n\n\n\n\n\n \nLinkedin\n\n\n  \n    \n  \n \n\n  \n\n \nEmail
URL:https://www.nae.fr/agenda/permanences-inpi-eure-07-12-2023/
ATTACH;FMTTYPE=image/png:https://www.nae.fr/wp-content/uploads/2023/07/logo-INPI.png
END:VEVENT
BEGIN:VEVENT
DTSTART;TZID=Europe/Paris:20231211T090000
DTEND;TZID=Europe/Paris:20231211T170000
DTSTAMP:20260422T124320
CREATED:20190107T130059Z
LAST-MODIFIED:20260303T182855Z
UID:76955-1702285200-1702314000@www.nae.fr
SUMMARY:Permanences INPI - Manche et Orne - 11/12/2023
DESCRIPTION:Vous êtes une entreprise ou un porteur de projet et vous vous posez des questions en matière de protection de vos inventions\, noms de produits ou commerciaux ?\nLes permanences INPI se déroulent sous la forme d’entretien individuel avec un expert de l’INPI qui répondra à vos questions en propriété industrielle (brevets d’invention\, marques\, dessins et modèles…).\nCes permanences ont pour objectif d’apporter un premier niveau d’information. Elles sont gratuites et sur prise de rendez-vous préalable. \nPermanences de 09h00 à 17h00 le lundi 11 décembre 2023 \nCoordonnées : CCI Ouest Normandie – Cherbourg\, Saint-Lô\, Saint Pair-sur-Mer\, Argentan et Flers\nMél : Vincent.CHAPELAIN@normandie.cci.fr \n\nPartager \n\n\n  \n    \n  \n \n\n  \n\n \nFacebook\n\n\n    \n    \n\n\n	\n	\n\n \nTwitter\n\n\n  \n    \n  \n \n\n  \n\n \nWhatsapp\n\n\n  \n    \n  \n \n\n\n\n\n\n \nLinkedin\n\n\n  \n    \n  \n \n\n  \n\n \nEmail
URL:https://www.nae.fr/agenda/permanences-inpi-manche-et-orne-11-12-2023/
ATTACH;FMTTYPE=image/png:https://www.nae.fr/wp-content/uploads/2023/07/logo-INPI.png
END:VEVENT
BEGIN:VEVENT
DTSTART;TZID=Europe/Paris:20231214T130000
DTEND;TZID=Europe/Paris:20231214T170000
DTSTAMP:20260422T124320
CREATED:20210107T125953Z
LAST-MODIFIED:20260303T182854Z
UID:76957-1702558800-1702573200@www.nae.fr
SUMMARY:Permanences INPI - CCI Seine Estuaire – Le Havre - 14/12/2023
DESCRIPTION:Vous êtes une entreprise ou un porteur de projet et vous vous posez des questions en matière de protection de vos inventions\, noms de produits ou commerciaux ?\nLes permanences INPI se déroulent sous la forme d’entretien individuel avec un expert de l’INPI qui répondra à vos questions en propriété industrielle (brevets d’invention\, marques\, dessins et modèles…).\nCes permanences ont pour objectif d’apporter un premier niveau d’information. Elles sont gratuites et sur prise de rendez-vous préalable. \nPermanences de 13h00 à 17h00 le jeudi 14 décembre 2023 \nCoordonnées : CCI Seine Estuaire – Le Havre\nMél : inscription@seine-estuaire.cci.fr \n\nPartager \n\n\n  \n    \n  \n \n\n  \n\n \nFacebook\n\n\n    \n    \n\n\n	\n	\n\n \nTwitter\n\n\n  \n    \n  \n \n\n  \n\n \nWhatsapp\n\n\n  \n    \n  \n \n\n\n\n\n\n \nLinkedin\n\n\n  \n    \n  \n \n\n  \n\n \nEmail
URL:https://www.nae.fr/agenda/permanences-inpi-cci-seine-estuaire-le-havre-14-12-2023/
ATTACH;FMTTYPE=image/png:https://www.nae.fr/wp-content/uploads/2023/07/logo-INPI.png
END:VEVENT
BEGIN:VEVENT
DTSTART;TZID=Europe/Paris:20231219T123000
DTEND;TZID=Europe/Paris:20231219T133000
DTSTAMP:20260422T124320
CREATED:20220107T125832Z
LAST-MODIFIED:20260303T182854Z
UID:77211-1702989000-1702992600@www.nae.fr
SUMMARY:Tech Hour - Conscience Robotics - Collaboration Homme-Machine - 19/12/2023
DESCRIPTION:Date : 19/12/2023 \nHoraire : 12h30 – 13h30 \nFormat : Visio conférence (WEB EX) \nProgramme : Collaboration Homme-Machine\n \nDescriptif : Conscience Robotics reconçoit intégralement la relation entre les humains et les robots. Le boitier « Conscience Box » s’adapte à tout robot\, tandis que « Conscience Connect » facilite la definition\, le contrôle et le lancement de missions complexes par plusieurs utilisateurs simultanément à destination de plusieurs robots de différents types. Les utilisateurs naviguent intuitivement via une interface unique et simplifiée. \nPlusieurs exemples seront présentés : \n\nCohoma : utilisation du système sur robots à chenilles + drones\nFireEagle : Drones autonomes pour detection de départs de feux de forets\n\nPrésentation réalisée par Iliès ZAOUI\, (Conscience Robotics) \n\nInscription gratuite mais obligatoire en renseignant le formulaire suivant  \nCLIQUEZ ICI \nFin des inscriptions le vendredi 18h00 avant le Tech Hour\n \n\n  \nTech Hour en partenariat avec : \nACSIEL : Le syndicat de l’électronique ACSIEL qui regroupe les ex-adhérents du GIXEL\, du SITELEC\,\ndu SIMTEC et du GFIE fédère 120 membres. \nASTech Paris Region : ASTECH Paris Region\, pôle de compétitivité\, vise à accroitre en Ile de France les positions de leader européen de l’industrie des secteurs Lancement spatial\, Aviation d’affaires\, Propulsion et Équipements par l’innovation. \nI-Trans : Ancré dans la Région Hauts-de-France\, i-Trans est le pôle de compétitivité des transports\,\nde la mobilité et de la logistique. \nLSN : Filière d’excellence\, Logistique Seine-Normandie (LSN) fédère 185 adhérents : des\nentreprises du transport et de la logistique et des acteurs économiques de Normandie. \nNAE : NAE est la filière en Normandie de l’aéronautique\, spatial\, défense et sécurité. Elle regroupe plus de 160 membres industriels et académiques et travaille sur 5 axes\, : Le Business et l’International\, l’Emploi et la Formation\, la Compétitivité\, la Recherche Technologie et Innovation et la Communication. \nNextMove : Pôle de compétitivité Automobile et Mobilité\, Next Move accompagne les entreprises au quotidien pour favoriser l’innovation\, le financement de projets R&D et le business collaboratifs entre ses membres. \nNormandie Énergie : Filière d’excellence\, Normandie Energies soutient le développement économique du\nterritoire en fédérant plus de 240 acteurs normands de l’énergie. \nNormandie Maritime : Normandie Maritime a pour mission la promotion\, le développement et la coordination de la filière régionale de l’économie maritime et fluviale. \nPole MEDEE : Basé à Lille\, le Pôle MEDEE est un cluster qui fédère et anime\nune communauté d’acteurs spécialisés en génie électrique \n\n\n \n\nPartager \n\n\n  \n    \n  \n \n\n  \n\n \nFacebook\n\n\n    \n    \n\n\n	\n	\n\n \nTwitter\n\n\n  \n    \n  \n \n\n  \n\n \nWhatsapp\n\n\n  \n    \n  \n \n\n\n\n\n\n \nLinkedin\n\n\n  \n    \n  \n \n\n  \n\n \nEmail
URL:https://www.nae.fr/agenda/tech-hour-conscience-robotics-collaboration-homme-machine-19-12-23/
LOCATION:Normandie Aerospace\, 745\, Avenue de l’Université\, St-Etienne-du-Rouvray\, 76800\, France
CATEGORIES:Tech Hour
ATTACH;FMTTYPE=image/jpeg:https://www.nae.fr/wp-content/uploads/2019/01/logo_TechHour-01-e1621349140323.jpg
ORGANIZER;CN="Normandie Aerospace":MAILTO:rti@nae.fr
END:VEVENT
END:VCALENDAR