BEGIN:VCALENDAR
VERSION:2.0
PRODID:-//NAE - ECPv6.15.20//NONSGML v1.0//EN
CALSCALE:GREGORIAN
METHOD:PUBLISH
X-WR-CALNAME:NAE
X-ORIGINAL-URL:https://www.nae.fr
X-WR-CALDESC:Évènements pour NAE
REFRESH-INTERVAL;VALUE=DURATION:PT1H
X-Robots-Tag:noindex
X-PUBLISHED-TTL:PT1H
BEGIN:VTIMEZONE
TZID:Europe/Paris
BEGIN:DAYLIGHT
TZOFFSETFROM:+0100
TZOFFSETTO:+0200
TZNAME:CEST
DTSTART:20230326T010000
END:DAYLIGHT
BEGIN:STANDARD
TZOFFSETFROM:+0200
TZOFFSETTO:+0100
TZNAME:CET
DTSTART:20231029T010000
END:STANDARD
BEGIN:DAYLIGHT
TZOFFSETFROM:+0100
TZOFFSETTO:+0200
TZNAME:CEST
DTSTART:20240331T010000
END:DAYLIGHT
BEGIN:STANDARD
TZOFFSETFROM:+0200
TZOFFSETTO:+0100
TZNAME:CET
DTSTART:20241027T010000
END:STANDARD
BEGIN:DAYLIGHT
TZOFFSETFROM:+0100
TZOFFSETTO:+0200
TZNAME:CEST
DTSTART:20250330T010000
END:DAYLIGHT
BEGIN:STANDARD
TZOFFSETFROM:+0200
TZOFFSETTO:+0100
TZNAME:CET
DTSTART:20251026T010000
END:STANDARD
END:VTIMEZONE
BEGIN:VEVENT
DTSTART;VALUE=DATE:20240206
DTEND;VALUE=DATE:20240207
DTSTAMP:20260423T101105
CREATED:20231107T125554Z
LAST-MODIFIED:20260303T182853Z
UID:78892-1707177600-1707263999@www.nae.fr
SUMMARY:Atelier Décarbonation des activités aérospatiales - NAE  - 06/02/24
DESCRIPTION:Atelier Recherche\, Technologie et Innovation autour des enjeux de la décarbonation du secteur aérospatial. \nVenez partager avec la commuanuté RTI de NAE les enjeux autour de la décarbonation. Un temps d’échanges et de veille sur les feuilles de routes RTI nationales et normande ainsi que les dernières avanvcées dans le secteur. \nProgramme : \n·          14h00 : Introduction et feuille de route RTI de NAE \n·          14h15 : Eléments de feuille de route de décarbonation du transport aérien par Baptiste VOILLEQUIN – Directeur des Affaires R&S\, Espace et Environnement du GIFAS \n·          14h45 : Retour sur DEMOTECH et les études « décarbonation » en cours \n·          15h15 : Pause et discussion autour de DEMOTECH \n·          15h45 : Focus sur les activités H2 en Normandie \n·          ArianeGroup avec Nadège VISSIERE – Head of Hydrogen Programmes \n·          Campus de l’espace \n·          Moteur H2 avec Loic ROUSSEAU – Chef de projet RTI \n·          16h45 : Pause-café \n·          17h00 : Visite des équipements « bancs d’essais » du Groupe 6napse \n  \n\nInscription gratuite mais obligatoire avant le 31/01/2024 \nPOUR VOUS INSCRIRE CLIQUEZ ICI \nLes inscriptions seront soumises à validations par les organisateurs\n \n\n  \n\nPartager \n\n\n  \n    \n  \n \n\n  \n\n \nFacebook\n\n\n    \n    \n\n\n	\n	\n\n \nTwitter\n\n\n  \n    \n  \n \n\n  \n\n \nWhatsapp\n\n\n  \n    \n  \n \n\n\n\n\n\n \nLinkedin\n\n\n  \n    \n  \n \n\n  \n\n \nEmail
URL:https://www.nae.fr/agenda/atelier-decarbonation-des-activites-aerospatiales-nae-06-02-24/
LOCATION:CAMPUS DE L’ESPACE\, 1avenue Hubert Curien\, Vernon\, 27207\, France
CATEGORIES:Comité Recherche, Technologie et Innovation|Salons – Conferences
ATTACH;FMTTYPE=image/png:https://www.nae.fr/wp-content/uploads/2023/11/AtelierDecarbonation_20240206.png
END:VEVENT
BEGIN:VEVENT
DTSTART;TZID=Europe/Paris:20240208T140000
DTEND;TZID=Europe/Paris:20240208T153000
DTSTAMP:20260423T101105
CREATED:20231107T125548Z
LAST-MODIFIED:20260303T182853Z
UID:79152-1707400800-1707406200@www.nae.fr
SUMMARY:Découverte du marché des drones au Sénégal - 08/02/24
DESCRIPTION:1h30 pour mieux décourvir le marché des drones au Sénégal \nAvec le soutien de l’ANACIM (agence nationale de l’aviation civile et de la météoroligie) et Business France venez échanger sur la règlementation drones dans ce pays et les opportunités de développement.\nUn point particulier sera fait sur vos attentes dans l’objectif de vous aider dans votre développement au Sénégal. \nCe webinaire se tiendra en français du fait de la spécificité de ce pays et de l’intervention de l’ANACIM. \n\n\nParticipation gratuite mais inscription obligatoire : https://forms.gle/1zXPpxCxxKLR9oWg6 \n\n\n  \nPROGRAMME :  \n\n14h00 : Introduction\n14h05 : Présentation du Senegal\n\n\n\n\nChiffres clefs\n\n\n\n\n\n\nEnvironnement économique\n\n\n\n\n\n\nPolitique\n\n\n\n\n14h15 : Présentation du cadre règlementaire – ANACIM\n14h45 : Opportunité sectorielle – Business France\n\n\n\n\nBTP – mobilité et ingénierie\n\n\n\n\n\n\nProtection du littoral et environnement\n\n\n\n\n\n\nAgriculture\n\n\n\n\n\n\nSécurité (JOJ 2026)\n\n\n\n\n15h25 : Et après…\n\n\n\n\nOpportunité pour l’organisation d’une mission sectorielle européenne pour rencontrer les acteurs\n\n\n\n \n\nPartager \n\n\n  \n    \n  \n \n\n  \n\n \nFacebook\n\n\n    \n    \n\n\n	\n	\n\n \nTwitter\n\n\n  \n    \n  \n \n\n  \n\n \nWhatsapp\n\n\n  \n    \n  \n \n\n\n\n\n\n \nLinkedin\n\n\n  \n    \n  \n \n\n  \n\n \nEmail
URL:https://www.nae.fr/agenda/decouverte-du-marche-des-drones-au-senegal-08-02-24/
CATEGORIES:Salons – Conferences
ATTACH;FMTTYPE=image/png:https://www.nae.fr/wp-content/uploads/2024/01/unnamed-1.png
END:VEVENT
BEGIN:VEVENT
DTSTART;TZID=Europe/Paris:20240227T123000
DTEND;TZID=Europe/Paris:20240227T133000
DTSTAMP:20260423T101105
CREATED:20231107T125517Z
LAST-MODIFIED:20260303T182852Z
UID:77219-1709037000-1709040600@www.nae.fr
SUMMARY:Tech Hour - ELEMCA & IRT STEX - Fiabilité des brasures sans plomb - 27/02/24
DESCRIPTION:Date : 27/02/24 \nHoraire : 12h30 – 13h30 \nFormat : Visio conférence (WEB EX) \nProgramme : Fiabilité des brasures sans plomb\n \nDescriptif : La diffraction d’électrons rétrodiffusés (EBSD en anglais) est un outil puissant de caractérisation de la microstructure et de la cristallographie des matériaux. La présentation s’intéresse à son utilisation dans le domaine de l’assemblage électronique pour une analyse quantitative du vieillissement des brasures et une meilleure description du lien entre leur métallurgie et leur mécanisme de défaillance. \nPrésentation réalisée par : \n\nJérémie DHENNIN (ELEMCA)\nPierre Roumanille (IRT Saint Exupéry)\n\n\nInscription gratuite mais obligatoire en renseignant le formulaire suivant  \nCLIQUEZ ICI \nFin des inscriptions le vendredi 18h00 avant le Tech Hour\n \n\n  \nTech Hour en partenariat avec : \nACSIEL : Le syndicat de l’électronique ACSIEL qui regroupe les ex-adhérents du GIXEL\, du SITELEC\,\ndu SIMTEC et du GFIE fédère 120 membres. \nASTech Paris Region : ASTECH Paris Region\, pôle de compétitivité\, vise à accroitre en Ile de France les positions de leader européen de l’industrie des secteurs Lancement spatial\, Aviation d’affaires\, Propulsion et Équipements par l’innovation. \nI-Trans : Ancré dans la Région Hauts-de-France\, i-Trans est le pôle de compétitivité des transports\,\nde la mobilité et de la logistique. \nLSN : Filière d’excellence\, Logistique Seine-Normandie (LSN) fédère 185 adhérents : des\nentreprises du transport et de la logistique et des acteurs économiques de Normandie. \nNAE : NAE est la filière en Normandie de l’aéronautique\, spatial\, défense et sécurité. Elle regroupe plus de 160 membres industriels et académiques et travaille sur 5 axes\, : Le Business et l’International\, l’Emploi et la Formation\, la Compétitivité\, la Recherche Technologie et Innovation et la Communication. \nNextMove : Pôle de compétitivité Automobile et Mobilité\, Next Move accompagne les entreprises au quotidien pour favoriser l’innovation\, le financement de projets R&D et le business collaboratifs entre ses membres. \nNormandie Énergie : Filière d’excellence\, Normandie Energies soutient le développement économique du\nterritoire en fédérant plus de 240 acteurs normands de l’énergie. \nNormandie Maritime : Normandie Maritime a pour mission la promotion\, le développement et la coordination de la filière régionale de l’économie maritime et fluviale. \nPole MEDEE : Basé à Lille\, le Pôle MEDEE est un cluster qui fédère et anime\nune communauté d’acteurs spécialisés en génie électrique \n\n\n \n\nPartager \n\n\n  \n    \n  \n \n\n  \n\n \nFacebook\n\n\n    \n    \n\n\n	\n	\n\n \nTwitter\n\n\n  \n    \n  \n \n\n  \n\n \nWhatsapp\n\n\n  \n    \n  \n \n\n\n\n\n\n \nLinkedin\n\n\n  \n    \n  \n \n\n  \n\n \nEmail
URL:https://www.nae.fr/agenda/tech-hour-elemca-irt-stex-fiabilite-des-brasures-sans-plomb-27-02-24/
LOCATION:Normandie Aerospace\, 745\, Avenue de l’Université\, St-Etienne-du-Rouvray\, 76800\, France
CATEGORIES:Tech Hour
ATTACH;FMTTYPE=image/png:https://www.nae.fr/wp-content/uploads/2023/11/Bandeau_Tech-Hour-CFF-2023.png
ORGANIZER;CN="Normandie Aerospace":MAILTO:rti@nae.fr
END:VEVENT
END:VCALENDAR