BEGIN:VCALENDAR
VERSION:2.0
PRODID:-//NAE - ECPv6.15.20//NONSGML v1.0//EN
CALSCALE:GREGORIAN
METHOD:PUBLISH
X-ORIGINAL-URL:https://www.nae.fr
X-WR-CALDESC:Évènements pour NAE
REFRESH-INTERVAL;VALUE=DURATION:PT1H
X-Robots-Tag:noindex
X-PUBLISHED-TTL:PT1H
BEGIN:VTIMEZONE
TZID:Europe/Paris
BEGIN:DAYLIGHT
TZOFFSETFROM:+0100
TZOFFSETTO:+0200
TZNAME:CEST
DTSTART:20230326T010000
END:DAYLIGHT
BEGIN:STANDARD
TZOFFSETFROM:+0200
TZOFFSETTO:+0100
TZNAME:CET
DTSTART:20231029T010000
END:STANDARD
BEGIN:DAYLIGHT
TZOFFSETFROM:+0100
TZOFFSETTO:+0200
TZNAME:CEST
DTSTART:20240331T010000
END:DAYLIGHT
BEGIN:STANDARD
TZOFFSETFROM:+0200
TZOFFSETTO:+0100
TZNAME:CET
DTSTART:20241027T010000
END:STANDARD
BEGIN:DAYLIGHT
TZOFFSETFROM:+0100
TZOFFSETTO:+0200
TZNAME:CEST
DTSTART:20250330T010000
END:DAYLIGHT
BEGIN:STANDARD
TZOFFSETFROM:+0200
TZOFFSETTO:+0100
TZNAME:CET
DTSTART:20251026T010000
END:STANDARD
END:VTIMEZONE
BEGIN:VEVENT
DTSTART;TZID=Europe/Paris:20240625T083000
DTEND;TZID=Europe/Paris:20240626T170000
DTSTAMP:20260423T114419
CREATED:20231007T115014Z
LAST-MODIFIED:20260303T182848Z
UID:80686-1719304200-1719421200@www.nae.fr
SUMMARY:Journées des Essais et de la Simulation – ASTELAB 2024 – 25-26 juin à l’INSA de ROUEN
DESCRIPTION:L’ASTE organise du 25 au 26 juin 2024 en partenariat avec l’INSA de Rouen\, NAFEMS et le CFF un colloque sur le thème « Essais et Simulation ». \nInscription exposant \nPROGRAMME\nMardi 25 juin \n8h30 : Mot d’accueil par le Président de l’ASTE\, David DELAUX et par le directeur de l’INSA de Rouen\, Mourad BOUKHALFA \n9h00\nSession Surveillance vibratoire\n– DEWESOFT – Michel MARCHAL : SHM Monitoring/Surveillance vibratoire du pont Chaban Delmas de Bordeaux \n9h25\nSession Calcul – Essais \n\n6NAPSE – Quentin PELLOIE : « Comparaison calcul essais\, recalage de modèles\, dialogue essais/calculs »\nEIKOSIM et ArianeGroup – Renaud GRAS et Nicolas SWIERGIEL : « Développement de la structure de lancement double (DLS) d’Ariane 6 : les défis de la validation d’un modèle de très grande structure composite »\nMATCH ID – Vahid FIROUZBAKHT\, Amar PESHAVE\, Pascal LAVA\, Fabrice PIERRON : « Etude de validation d’un modèle éléments finis par mesures de déformation par corrélation d’images »\nINSA LYON – Eric Chatelet : « Etudes numériques et expérimentales d’un rotor embarqué soumis à des excitations multiaxiales : Mise en évidence d’une instabilité de Dry Whip »\nLIEBHERR AEROSPACE TOULOUSE – Nicolas VIALETTE : « Simulations thermo-mécaniques d’un échangeur de chaleur »\n\n12h00 – Présentation du CFF et des exposants \n12h30 – Déjeuner et visite des exposants \n14h-17h : Visite de centre d’essais de la DGA TH à Val-de-Reuil : \n\nCuve à houle\nBassin de traction B600\nGrand tunnel hydrodynamique\nAtelier de fabrication des maquettes\n\n19h30 : Dîner – Historial Jeanne d’Arc à ROUEN \nMercredi 26 juin \n8h30\nSession Essais multi-axes \n\nSOCITEC / INSA ROUEN – Jean-Pierre TARTARY\, Christophe GAUTRELET et Leila KHALIJ : « Caractérisation vibratoire triaxiale d’un système d’amortisseurs à câbles »\nCEA CESTA – Mattias AIMÉ\, Alexis BANVILLET\, Leila KHALIJ\, Éric CHATELET : « Élaboration de spécifications multiaxiales : procédure et résultats expérimentaux »\nSIEMENS INDUSTRY SOFTWARE – Raphaël HALLEZ « Essais de chocs et de vibrations multi-axes pour les batteries automobiles : défis et innovations du processus de test. »\nMBDA – Guillaume LEMASSON et Geoffrey SALVI : « Qualification vibratoire multi axiales au niveau système »\nSOPEMEA – Lisbeth MARTY : « Essais séismes 3 axes »\n\n11h05\nSession Mesure \n\nINSA ROUEN et WORMSENSING – Christophe GAUTRELET et Leila KHALIJ\, Catherine CADIEUX\, Jacky BATIFOULIER\, Toshiyuki TABATA – « Mesure par stéréo-corrélation sur un essai vibratoire pilote par une jauge de déformation piézoélectrique »\nSAFRAN DATA SYSTEMS et PCB PIEZOTRONICS – Ghislain Guerrero\, Florian Galinaud\, Frank Retourné\, Philippe Briquet : « µMA: From a Proof-of-Concept to a Distributed Instrumentation Solution »\n12h00-13h30 : DÉJEUNER ET VISITE DES EXPOSANTS\nAIRBUS DEFENSE & SPACE et WORMSENSING – Noellie CHAUVET\, Etienne CAVRO\, Jean-Sébastien MOULET : « Evaluation de jauges de contrainte piézoélectriques dans le contexte spatial »\nALLIANTECH – Vincent ANGLADON\, Hendrik Pulju et Peter Mäckel : La stéréo-corrélation haute résolution en champ étroit »\n\n14h20 – 17h00\nSession Vibration – Choc \n\nMANITOU – Josselin Planchais et Stéphane LEMARIE : « Validation en endurance fatigue d’ensembles mécano-soudés et fiabilité composants. Application à la manutention Offroad et corrélation »\nKNDS – Julien PAVIER et L. Vallet : « Etude des chocs de sortie de bouche d’arme et mise au point d’un essai d’environnement »\nKNDS – Bruno COLIN : « Actualisation de la Méthode MBD pour l’analyse statistique des vibrations et des chocs »\nDGA TT – Pascal LELAN et Arnaud CLOU : « Analyse des effets produits par les vibrations non gaussiennes sur les structures en essai »\ndB Vib – Axel HAAS : « Tests de batterie de véhicules électriques (VE) »\n\n \n\nPartager \n\n\n  \n    \n  \n \n\n  \n\n \nFacebook\n\n\n    \n    \n\n\n	\n	\n\n \nTwitter\n\n\n  \n    \n  \n \n\n  \n\n \nWhatsapp\n\n\n  \n    \n  \n \n\n\n\n\n\n \nLinkedin\n\n\n  \n    \n  \n \n\n  \n\n \nEmail
URL:https://www.nae.fr/agenda/journees-des-essais-et-de-la-simulation-astelab-2024-25-26-juin-a-linsa-de-rouen/
LOCATION:INSA ROUEN\, Avenue de l'Université\,  Saint-Étienne-du-Rouvray\, 76800\, France
CATEGORIES:Salons – Conferences
ATTACH;FMTTYPE=image/png:https://www.nae.fr/wp-content/uploads/2024/05/SIGNATURE-MAIL-2024-V1-1000x310-1.png
END:VEVENT
BEGIN:VEVENT
DTSTART;TZID=Europe/Paris:20240625T123000
DTEND;TZID=Europe/Paris:20240625T133000
DTSTAMP:20260423T114419
CREATED:20231107T125048Z
LAST-MODIFIED:20260303T182848Z
UID:78828-1719318600-1719322200@www.nae.fr
SUMMARY:Tech Hour - Intervention CORIA : Injection hydrogène pour l'aéronautique-25/06/24
DESCRIPTION:Date : 25/06/24 \nHoraire : 12h30 – 13h30 \nFormat : Visio conférence (MS TEAMS) \nProgramme : Injection d’hydrogène pour l’aéronautique\n \nDescriptif : L’aviation représente ~2\,5 % des émissions mondiales de CO2. Les chambres de combustion des avions actuels brûlent des hydrocarbures\, tels que le kérosène et du carburant d’aviation durable. Pour réduire l’empreinte carbone de l’aviation\, les motoristes se tournent vers l’hydrogène\, un carburant prometteur à zéro émission de carbone. Le CORIA\, par l’intermédiaire du projet européen HESTIA\, se propose de développer des architectures innovantes d’injecteurs combinant une optimisation du mélange H2/air\, une stabilité de flamme et une réduction des émissions de NOx lors de combustion H2-air dans les futurs moteurs aéronautiques à hydrogène. \nPrésentation réalisée par : \n\nFrédéric GRISCH\nGilles CABOT\nVincent MOUREAU\n\n\nInscription gratuite mais obligatoire en renseignant le formulaire suivant  \nCLIQUEZ ICI \nFin des inscriptions le vendredi 18h00 avant le Tech Hour\n \n\n  \nTech Hour en partenariat avec : \nACSIEL : Le syndicat de l’électronique ACSIEL qui regroupe les ex-adhérents du GIXEL\, du SITELEC\,\ndu SIMTEC et du GFIE fédère 120 membres. \nASTech Paris Region : ASTECH Paris Region\, pôle de compétitivité\, vise à accroitre en Ile de France les positions de leader européen de l’industrie des secteurs Lancement spatial\, Aviation d’affaires\, Propulsion et Équipements par l’innovation. \nI-Trans : Ancré dans la Région Hauts-de-France\, i-Trans est le pôle de compétitivité des transports\,\nde la mobilité et de la logistique. \nLSN : Filière d’excellence\, Logistique Seine-Normandie (LSN) fédère 185 adhérents : des\nentreprises du transport et de la logistique et des acteurs économiques de Normandie. \nNAE : NAE est la filière en Normandie de l’aéronautique\, spatial\, défense et sécurité. Elle regroupe plus de 160 membres industriels et académiques et travaille sur 5 axes\, : Le Business et l’International\, l’Emploi et la Formation\, la Compétitivité\, la Recherche Technologie et Innovation et la Communication. \nNextMove : Pôle de compétitivité Automobile et Mobilité\, Next Move accompagne les entreprises au quotidien pour favoriser l’innovation\, le financement de projets R&D et le business collaboratifs entre ses membres. \nNormandie Énergie : Filière d’excellence\, Normandie Energies soutient le développement économique du\nterritoire en fédérant plus de 240 acteurs normands de l’énergie. \nNormandie Maritime : Normandie Maritime a pour mission la promotion\, le développement et la coordination de la filière régionale de l’économie maritime et fluviale. \nPole MEDEE : Basé à Lille\, le Pôle MEDEE est un cluster qui fédère et anime\nune communauté d’acteurs spécialisés en génie électrique \n\n\n \n\nPartager \n\n\n  \n    \n  \n \n\n  \n\n \nFacebook\n\n\n    \n    \n\n\n	\n	\n\n \nTwitter\n\n\n  \n    \n  \n \n\n  \n\n \nWhatsapp\n\n\n  \n    \n  \n \n\n\n\n\n\n \nLinkedin\n\n\n  \n    \n  \n \n\n  \n\n \nEmail
URL:https://www.nae.fr/agenda/tech-hour-intervention-coria-injection-hydrogene-pour-laeronautique-25-06-24/
LOCATION:Normandie Aerospace\, 745\, Avenue de l’Université\, St-Etienne-du-Rouvray\, 76800\, France
CATEGORIES:Tech Hour
ATTACH;FMTTYPE=image/png:https://www.nae.fr/wp-content/uploads/2023/11/Bandeau_Tech-Hour-2023.png
ORGANIZER;CN="Normandie Aerospace":MAILTO:rti@nae.fr
END:VEVENT
END:VCALENDAR