BEGIN:VCALENDAR
VERSION:2.0
PRODID:-//NAE - ECPv6.15.20//NONSGML v1.0//EN
CALSCALE:GREGORIAN
METHOD:PUBLISH
X-ORIGINAL-URL:https://www.nae.fr
X-WR-CALDESC:Évènements pour NAE
REFRESH-INTERVAL;VALUE=DURATION:PT1H
X-Robots-Tag:noindex
X-PUBLISHED-TTL:PT1H
BEGIN:VTIMEZONE
TZID:Europe/Paris
BEGIN:DAYLIGHT
TZOFFSETFROM:+0100
TZOFFSETTO:+0200
TZNAME:CEST
DTSTART:20230326T010000
END:DAYLIGHT
BEGIN:STANDARD
TZOFFSETFROM:+0200
TZOFFSETTO:+0100
TZNAME:CET
DTSTART:20231029T010000
END:STANDARD
BEGIN:DAYLIGHT
TZOFFSETFROM:+0100
TZOFFSETTO:+0200
TZNAME:CEST
DTSTART:20240331T010000
END:DAYLIGHT
BEGIN:STANDARD
TZOFFSETFROM:+0200
TZOFFSETTO:+0100
TZNAME:CET
DTSTART:20241027T010000
END:STANDARD
BEGIN:DAYLIGHT
TZOFFSETFROM:+0100
TZOFFSETTO:+0200
TZNAME:CEST
DTSTART:20250330T010000
END:DAYLIGHT
BEGIN:STANDARD
TZOFFSETFROM:+0200
TZOFFSETTO:+0100
TZNAME:CET
DTSTART:20251026T010000
END:STANDARD
END:VTIMEZONE
BEGIN:VEVENT
DTSTART;VALUE=DATE:20240918
DTEND;VALUE=DATE:20240919
DTSTAMP:20260423T145107
CREATED:20231006T074741Z
LAST-MODIFIED:20260303T182847Z
UID:81071-1726617600-1726703999@www.nae.fr
SUMMARY:Workshop ACE - Arcs et Contacts électriques - le 18/09/24 à Paris
DESCRIPTION:Ce séminaire s’adresse aux chercheurs et ingénieurs confrontés à la problématique des arcs et contacts électriques et qui sont intéressés notamment par la caractérisation\, la modélisation et la mise au point de systèmes de détection des arcs électriques dans les domaines de l’aéronautique ou de l’habitat. L’ensemble de ces aspects est directement lié aux normes et exigences de chaque domaine. \n \nSESSION POSTER \nUne session poster prévue lors de ce workshop sera un moment privilégié de discussion entre universitaires et industriels. \nCOMITE D’ORGANISATION \nPatrick Schweitzer \nErwann Carvou \nMalyk Benmouffok \nPROGRAMME  \n\n9h30 : Accueil\n10h00 : Début des présentations\n12h00 : Pause déjeuner (Session Poster)\n13h30 Reprise des présentations\n16h30 Fin du workshop\n\nParticipants envisagés : \n\nSchneider\, Airbus\, Siemens\, SAFRAN\, SPRK-Tech (Win-MS)\, Stadium Aerospace\, …\nGeePs Centrale-SupElec\, IRT Saint-Exupery\, Université de Lorraine IJL\, Université de Rennes IPR\, …\n\nCLIQUEZ-ICI POUR VOUS INSCRIRE \nL’inscription au workshop\, d’un montant de 110 euros\, comprend le repas de midi et les pauses café. \n📨 Envoyer un message pour toutes informations \n\nPartager \n\n\n  \n    \n  \n \n\n  \n\n \nFacebook\n\n\n    \n    \n\n\n	\n	\n\n \nTwitter\n\n\n  \n    \n  \n \n\n  \n\n \nWhatsapp\n\n\n  \n    \n  \n \n\n\n\n\n\n \nLinkedin\n\n\n  \n    \n  \n \n\n  \n\n \nEmail
URL:https://www.nae.fr/agenda/workshop-ace-arcs-et-contacts-electriques-le-18-09-24-a-paris/
LOCATION:Voliris\, 64 Avenue de New York\, Paris\, 75016\, France
CATEGORIES:Salons – Conferences
ATTACH;FMTTYPE=image/png:https://www.nae.fr/wp-content/uploads/2024/06/image005.png
END:VEVENT
BEGIN:VEVENT
DTSTART;TZID=Europe/Paris:20240924T123000
DTEND;TZID=Europe/Paris:20240924T133000
DTSTAMP:20260423T145107
CREATED:20231006T074909Z
LAST-MODIFIED:20260303T182847Z
UID:81282-1727181000-1727184600@www.nae.fr
SUMMARY:Tech Hour - Technique de reconstitution 3D à partir de mesure 2D par CEREMA - 24/09/24
DESCRIPTION:Date : 24/09/24 \nHoraire : 12h30 – 13h30 \nFormat : Visio conférence (MS TEAMS) \nProgramme : Technique de reconstitution 3D à partir de mesure 2D\n \nDescriptif : Technique de modélisation 3D par combinaison de modèles de surface (LIDAR et Photogrammétrie) et d’imageries de subsurface (RADAR et Imagerie de résistivité électrique) qui constituent les prémisses de futurs jumeaux numériques. \nPrésentation réalisée par : \n\nRaphaël ANTOINE\, chargé de recherche – HDR\n\n\nInscription gratuite mais obligatoire en renseignant le formulaire suivant  \nCLIQUEZ ICI \nFin des inscriptions le vendredi 18h00 avant le Tech Hour\n \n\n  \nTech Hour en partenariat avec : \nACSIEL : Le syndicat de l’électronique ACSIEL qui regroupe les ex-adhérents du GIXEL\, du SITELEC\,\ndu SIMTEC et du GFIE fédère 120 membres. \nASTech Paris Region : ASTECH Paris Region\, pôle de compétitivité\, vise à accroitre en Ile de France les positions de leader européen de l’industrie des secteurs Lancement spatial\, Aviation d’affaires\, Propulsion et Équipements par l’innovation. \nI-Trans : Ancré dans la Région Hauts-de-France\, i-Trans est le pôle de compétitivité des transports\,\nde la mobilité et de la logistique. \nLSN : Filière d’excellence\, Logistique Seine-Normandie (LSN) fédère 185 adhérents : des\nentreprises du transport et de la logistique et des acteurs économiques de Normandie. \nNAE : NAE est la filière en Normandie de l’aéronautique\, spatial\, défense et sécurité. Elle regroupe plus de 160 membres industriels et académiques et travaille sur 5 axes\, : Le Business et l’International\, l’Emploi et la Formation\, la Compétitivité\, la Recherche Technologie et Innovation et la Communication. \nNextMove : Pôle de compétitivité Automobile et Mobilité\, Next Move accompagne les entreprises au quotidien pour favoriser l’innovation\, le financement de projets R&D et le business collaboratifs entre ses membres. \nNormandie Énergie : Filière d’excellence\, Normandie Energies soutient le développement économique du\nterritoire en fédérant plus de 240 acteurs normands de l’énergie. \nNormandie Maritime : Normandie Maritime a pour mission la promotion\, le développement et la coordination de la filière régionale de l’économie maritime et fluviale. \nPole MEDEE : Basé à Lille\, le Pôle MEDEE est un cluster qui fédère et anime\nune communauté d’acteurs spécialisés en génie électrique \n\n\n \n\nPartager \n\n\n  \n    \n  \n \n\n  \n\n \nFacebook\n\n\n    \n    \n\n\n	\n	\n\n \nTwitter\n\n\n  \n    \n  \n \n\n  \n\n \nWhatsapp\n\n\n  \n    \n  \n \n\n\n\n\n\n \nLinkedin\n\n\n  \n    \n  \n \n\n  \n\n \nEmail
URL:https://www.nae.fr/agenda/tech-hour-technique-de-reconstitution-3d-a-partir-de-mesure-2d-par-cerema-24-09-24/
LOCATION:Normandie Aerospace\, 745\, Avenue de l’Université\, St-Etienne-du-Rouvray\, 76800\, France
CATEGORIES:Tech Hour
ATTACH;FMTTYPE=image/png:https://www.nae.fr/wp-content/uploads/2023/11/Bandeau_Tech-Hour-CIDN-2023.png
ORGANIZER;CN="Normandie Aerospace":MAILTO:rti@nae.fr
END:VEVENT
BEGIN:VEVENT
DTSTART;TZID=Europe/Paris:20240926T100000
DTEND;TZID=Europe/Paris:20240926T170000
DTSTAMP:20260423T145107
CREATED:20231006T074800Z
LAST-MODIFIED:20260303T182846Z
UID:81670-1727344800-1727370000@www.nae.fr
SUMMARY:CIDN - Gestion de la zone de vol du pôle drones - 26/09/24
DESCRIPTION:Le présent protocole a pour but de définir les conditions dans lesquelles l’activité DRONE du CIDN \npeut se dérouler sur le site dédié aux abords de l’aéroport du Havre Octeville. \nLe CIDN définit son activité ainsi : \n\nformation de nouveaux pilotes\nformation de pilotes\, renforcement de compétences\, accumulation d’heures de vols\ntests d’équipements homologués\ntests de machines expérimentales\ntests de vols en essaim\ndémonstration / représentation clients\n\nCe protocole ne s’applique que pendant les horaires d’activité de la RMZ du Havre Octeville\n(horaires définis dans le présent protocole). \nIl ne dégage pas le signataire de ses obligations envers les différentes autorités en vue d’obtenir\ntoute autre autorisation nécessaire à l’exercice de son activité. \nCliquez-ici pour en savoir plus \n\nInscription gratuite mais obligatoire en renseignant le formulaire suivant  \nCLIQUEZ ICI \n\n  \n\nPartager \n\n\n  \n    \n  \n \n\n  \n\n \nFacebook\n\n\n    \n    \n\n\n	\n	\n\n \nTwitter\n\n\n  \n    \n  \n \n\n  \n\n \nWhatsapp\n\n\n  \n    \n  \n \n\n\n\n\n\n \nLinkedin\n\n\n  \n    \n  \n \n\n  \n\n \nEmail
URL:https://www.nae.fr/agenda/cidn-gestion-de-la-zone-de-vol-du-pole-drones-26-09-24/
CATEGORIES:Salons – Conferences
ATTACH;FMTTYPE=image/jpeg:https://www.nae.fr/wp-content/uploads/2023/10/logo_cidn.jpeg
END:VEVENT
END:VCALENDAR