BEGIN:VCALENDAR
VERSION:2.0
PRODID:-//NAE - ECPv6.15.20//NONSGML v1.0//EN
CALSCALE:GREGORIAN
METHOD:PUBLISH
X-ORIGINAL-URL:https://www.nae.fr
X-WR-CALDESC:Évènements pour NAE
REFRESH-INTERVAL;VALUE=DURATION:PT1H
X-Robots-Tag:noindex
X-PUBLISHED-TTL:PT1H
BEGIN:VTIMEZONE
TZID:Europe/Paris
BEGIN:DAYLIGHT
TZOFFSETFROM:+0100
TZOFFSETTO:+0200
TZNAME:CEST
DTSTART:20230326T010000
END:DAYLIGHT
BEGIN:STANDARD
TZOFFSETFROM:+0200
TZOFFSETTO:+0100
TZNAME:CET
DTSTART:20231029T010000
END:STANDARD
BEGIN:DAYLIGHT
TZOFFSETFROM:+0100
TZOFFSETTO:+0200
TZNAME:CEST
DTSTART:20240331T010000
END:DAYLIGHT
BEGIN:STANDARD
TZOFFSETFROM:+0200
TZOFFSETTO:+0100
TZNAME:CET
DTSTART:20241027T010000
END:STANDARD
BEGIN:DAYLIGHT
TZOFFSETFROM:+0100
TZOFFSETTO:+0200
TZNAME:CEST
DTSTART:20250330T010000
END:DAYLIGHT
BEGIN:STANDARD
TZOFFSETFROM:+0200
TZOFFSETTO:+0100
TZNAME:CET
DTSTART:20251026T010000
END:STANDARD
END:VTIMEZONE
BEGIN:VEVENT
DTSTART;TZID=Europe/Paris:20241114T090000
DTEND;TZID=Europe/Paris:20241114T133000
DTSTAMP:20260423T181716
CREATED:20231005T132319Z
LAST-MODIFIED:20260303T182843Z
UID:81674-1731574800-1731591000@www.nae.fr
SUMMARY:Journée Technique Connectique - NAE –  Mont-Saint-Aignan - 14/11/2024
DESCRIPTION:NAE vous invite à sa journée technologique le jeudi 14 novembre 2024 \nUne journée pour découvrir les nouveaux produits connecteurs : modularité\, communication et puissance.\nOrganisateurs : DIRECT / NAE / IUT Rouen – Université Rouen Normandie \n\nInscription gratuite mais obligatoire avant le 31/10/2024 \nCLIQUEZ ICI \nLes inscriptions seront soumises à validation par les organisateurs\n \n\nProgramme : \n\n09h00 – Accueil\n09h15 – Introduction (Programme – CFF – Recrutement)\n09h30 – Contexte et enjeux (DIRECT)\n09h45 – Présentation industriels (20 min / ets)\nTE Connectivity\nAmphenol Socapex\nAmphenol Air LB\n10h45 – Pause\n11h00 – Présentation de projets par les étudiants BUT3 Geii\, visite du MRTC3\n12h30 – Cocktail déjeunatoire\n13h30 – Fin\n\nPlus d’informations dans ce document (cliquez ici) \n\nPartager \n\n\n  \n    \n  \n \n\n  \n\n \nFacebook\n\n\n    \n    \n\n\n	\n	\n\n \nTwitter\n\n\n  \n    \n  \n \n\n  \n\n \nWhatsapp\n\n\n  \n    \n  \n \n\n\n\n\n\n \nLinkedin\n\n\n  \n    \n  \n \n\n  \n\n \nEmail
URL:https://www.nae.fr/agenda/journee-technique-connectique-nae-mont-saint-aignan-14-11-2024/
LOCATION:IUT de Rouen – Salle des examens\, Rue Lavoisier Bât 27\, Mont-Saint-Aignan\, 76130\, France
CATEGORIES:Comité Recherche, Technologie et Innovation
ATTACH;FMTTYPE=image/png:https://www.nae.fr/wp-content/uploads/2024/07/journee-technique-connectique-du-14112024-NAE.png
END:VEVENT
BEGIN:VEVENT
DTSTART;TZID=Europe/Paris:20241126T123000
DTEND;TZID=Europe/Paris:20241126T133000
DTSTAMP:20260423T181716
CREATED:20231005T132258Z
LAST-MODIFIED:20260303T182843Z
UID:81962-1732624200-1732627800@www.nae.fr
SUMMARY:Tech Hour - Intervention SAFRAN - PCB Piézotronics- 26/11/24
DESCRIPTION:Date : 26/11/24 \nHoraire : 12h30 – 13h30 \nFormat : Visio conférence (MS TEAMS) \nProgramme : MicroMA : miniature\, modulaire et sans fil. Acquisition et enregistrement de données\n \nDescriptif : Le microMA de Safran Data Systems est un nouveau dispositif d’acquisition et d’enregistrement de données miniature et modulaire\, idéal pour des applications d’instrumentation rapide et non intrusive\, en architecture distribuée. Sa polyvalence en fait un produit adapté à une très large gamme d’applications\, avec des performances métrologiques de haut niveau. \nPCB Piezotronics propose différents cas d’application de ce dispositif modulaire\, pour différents secteurs. \nPrésentation réalisée par : \n\nFlorian GALINAUD (SAFRAN DATA SYSTEMS)\nPakize DELOR ( PCB Piézotronics)\nGuillaume BONNAVION ( PCB Piézotronics)\nPhilippe BRIQUET (PCB Piezotronics) \n\n\nInscription gratuite mais obligatoire en renseignant le formulaire suivant  \nCLIQUEZ ICI \nFin des inscriptions le vendredi 18h00 avant le Tech Hour\n \n\n  \nTech Hour en partenariat avec : \nACSIEL : Le syndicat de l’électronique ACSIEL qui regroupe les ex-adhérents du GIXEL\, du SITELEC\,\ndu SIMTEC et du GFIE fédère 120 membres. \nASTech Paris Region : ASTECH Paris Region\, pôle de compétitivité\, vise à accroitre en Ile de France les positions de leader européen de l’industrie des secteurs Lancement spatial\, Aviation d’affaires\, Propulsion et Équipements par l’innovation. \nI-Trans : Ancré dans la Région Hauts-de-France\, i-Trans est le pôle de compétitivité des transports\,\nde la mobilité et de la logistique. \nLSN : Filière d’excellence\, Logistique Seine-Normandie (LSN) fédère 185 adhérents : des\nentreprises du transport et de la logistique et des acteurs économiques de Normandie. \nNAE : NAE est la filière en Normandie de l’aéronautique\, spatial\, défense et sécurité. Elle regroupe plus de 160 membres industriels et académiques et travaille sur 5 axes\, : Le Business et l’International\, l’Emploi et la Formation\, la Compétitivité\, la Recherche Technologie et Innovation et la Communication. \nNextMove : Pôle de compétitivité Automobile et Mobilité\, Next Move accompagne les entreprises au quotidien pour favoriser l’innovation\, le financement de projets R&D et le business collaboratifs entre ses membres. \nNormandie Énergie : Filière d’excellence\, Normandie Energies soutient le développement économique du\nterritoire en fédérant plus de 240 acteurs normands de l’énergie. \nNormandie Maritime : Normandie Maritime a pour mission la promotion\, le développement et la coordination de la filière régionale de l’économie maritime et fluviale. \nPole MEDEE : Basé à Lille\, le Pôle MEDEE est un cluster qui fédère et anime\nune communauté d’acteurs spécialisés en génie électrique \n\n\n \n\nPartager \n\n\n  \n    \n  \n \n\n  \n\n \nFacebook\n\n\n    \n    \n\n\n	\n	\n\n \nTwitter\n\n\n  \n    \n  \n \n\n  \n\n \nWhatsapp\n\n\n  \n    \n  \n \n\n\n\n\n\n \nLinkedin\n\n\n  \n    \n  \n \n\n  \n\n \nEmail
URL:https://www.nae.fr/agenda/tech-hour-intervention-safran-pcb-piezotronics-26-11-24/
LOCATION:Normandie Aerospace\, 745\, Avenue de l’Université\, St-Etienne-du-Rouvray\, 76800\, France
CATEGORIES:Tech Hour
ATTACH;FMTTYPE=image/png:https://www.nae.fr/wp-content/uploads/2023/11/Bandeau_Tech-Hour-CFF-2023-1.png
ORGANIZER;CN="Normandie Aerospace":MAILTO:rti@nae.fr
END:VEVENT
END:VCALENDAR