BEGIN:VCALENDAR
VERSION:2.0
PRODID:-//NAE - ECPv6.15.20//NONSGML v1.0//EN
CALSCALE:GREGORIAN
METHOD:PUBLISH
X-WR-CALNAME:NAE
X-ORIGINAL-URL:https://www.nae.fr
X-WR-CALDESC:Évènements pour NAE
REFRESH-INTERVAL;VALUE=DURATION:PT1H
X-Robots-Tag:noindex
X-PUBLISHED-TTL:PT1H
BEGIN:VTIMEZONE
TZID:Europe/Paris
BEGIN:DAYLIGHT
TZOFFSETFROM:+0100
TZOFFSETTO:+0200
TZNAME:CEST
DTSTART:20240331T010000
END:DAYLIGHT
BEGIN:STANDARD
TZOFFSETFROM:+0200
TZOFFSETTO:+0100
TZNAME:CET
DTSTART:20241027T010000
END:STANDARD
BEGIN:DAYLIGHT
TZOFFSETFROM:+0100
TZOFFSETTO:+0200
TZNAME:CEST
DTSTART:20250330T010000
END:DAYLIGHT
BEGIN:STANDARD
TZOFFSETFROM:+0200
TZOFFSETTO:+0100
TZNAME:CET
DTSTART:20251026T010000
END:STANDARD
BEGIN:DAYLIGHT
TZOFFSETFROM:+0100
TZOFFSETTO:+0200
TZNAME:CEST
DTSTART:20260329T010000
END:DAYLIGHT
BEGIN:STANDARD
TZOFFSETFROM:+0200
TZOFFSETTO:+0100
TZNAME:CET
DTSTART:20261025T010000
END:STANDARD
END:VTIMEZONE
BEGIN:VEVENT
DTSTART;TZID=Europe/Paris:20250403T083000
DTEND;TZID=Europe/Paris:20250403T164500
DTSTAMP:20260424T022544
CREATED:20240903T140056Z
LAST-MODIFIED:20260303T182838Z
UID:86216-1743669000-1743698700@www.nae.fr
SUMMARY:Journée Innovation Défense : Systèmes autonomes - 03/04/25 - Vernon
DESCRIPTION:Date : 03/04/2025 \nHoraire : 08h30 – 16h45 \nAu programme :\n• Présentation des enjeux et dispositifs de soutien par la DGA et l’AID\n• Présentations de Challenges et projets (MOBILEX\, COHOMA)\n• Pitchs d’acteurs clés (startups\, PME\, laboratoires et industriels)\n• RDV B2B – Échangez avec les acteurs stratégiques du domaine \nJournée exclusivement réservée aux membres de NAE et NextMove \n  \n\nInscription obligatoire sur la plateforme dédiée à cet événement \nCLIQUEZ ICI \n\n\n \n\nPartager \n\n\n  \n    \n  \n \n\n  \n\n \nFacebook\n\n\n    \n    \n\n\n	\n	\n\n \nTwitter\n\n\n  \n    \n  \n \n\n  \n\n \nWhatsapp\n\n\n  \n    \n  \n \n\n\n\n\n\n \nLinkedin\n\n\n  \n    \n  \n \n\n  \n\n \nEmail
URL:https://www.nae.fr/agenda/journee-innovation-defense-systemes-autonomes-03-04-25-vernon/
LOCATION:CAMPUS DE L’ESPACE\, 1avenue Hubert Curien\, Vernon\, 27207\, France
CATEGORIES:Salons – Conferences
ATTACH;FMTTYPE=image/png:https://www.nae.fr/wp-content/uploads/2025/03/Journee-Innovation-Defense-Systemes-autonomes.png
ORGANIZER;CN="Normandie Aerospace":MAILTO:rti@nae.fr
END:VEVENT
BEGIN:VEVENT
DTSTART;TZID=Europe/Paris:20250429T123000
DTEND;TZID=Europe/Paris:20250429T133000
DTSTAMP:20260424T022544
CREATED:20240903T130005Z
LAST-MODIFIED:20260303T182837Z
UID:85512-1745929800-1745933400@www.nae.fr
SUMMARY:Tech Hour - Intervention INSIDIX - 29/04/25
DESCRIPTION:Date : 29/04/2025 \nHoraire : 12h30 – 13h30 \nFormat : Visio conférence (MS TEAMS) \nProgramme : Mesure de topographie et déformation (TDM) : analyse des déformations thermomécaniques des composants sous contrainte thermique ou électrique pour prévenir des défaillances. \n \nDescriptif : Evaluer\, simuler et prédire le comportement de dispositifs complexes sous contraintes thermiques.\nGamme brevetée d’instruments pour l’analyse du gauchissement de composants ou assemblages électroniques sous profil de température. \nPrésentation réalisée par : \n\nBenoit FEIT – Control Manager\n\n  \n\nInscription gratuite mais obligatoire en renseignant le formulaire suivant  \nCLIQUEZ ICI \nFin des inscriptions le vendredi 18h00 avant le Tech Hour\n \n\n  \nTech Hour en partenariat avec : \nACSIEL : Le syndicat de l’électronique ACSIEL qui regroupe les ex-adhérents du GIXEL\, du SITELEC\,\ndu SIMTEC et du GFIE fédère 120 membres. \nASTech Paris Region : ASTECH Paris Region\, pôle de compétitivité\, vise à accroitre en Ile de France les positions de leader européen de l’industrie des secteurs Lancement spatial\, Aviation d’affaires\, Propulsion et Équipements par l’innovation. \nI-Trans : Ancré dans la Région Hauts-de-France\, i-Trans est le pôle de compétitivité des transports\,\nde la mobilité et de la logistique. \nLSN : Filière d’excellence\, Logistique Seine-Normandie (LSN) fédère 185 adhérents : des\nentreprises du transport et de la logistique et des acteurs économiques de Normandie. \nNAE : NAE est la filière en Normandie de l’aéronautique\, spatial\, défense et sécurité. Elle regroupe plus de 160 membres industriels et académiques et travaille sur 5 axes\, : Le Business et l’International\, l’Emploi et la Formation\, la Compétitivité\, la Recherche Technologie et Innovation et la Communication. \nNextMove : Pôle de compétitivité Automobile et Mobilité\, Next Move accompagne les entreprises au quotidien pour favoriser l’innovation\, le financement de projets R&D et le business collaboratifs entre ses membres. \nNormandie Énergie : Filière d’excellence\, Normandie Energies soutient le développement économique du\nterritoire en fédérant plus de 240 acteurs normands de l’énergie. \nNormandie Maritime : Normandie Maritime a pour mission la promotion\, le développement et la coordination de la filière régionale de l’économie maritime et fluviale. \nPole MEDEE : Basé à Lille\, le Pôle MEDEE est un cluster qui fédère et anime\nune communauté d’acteurs spécialisés en génie électrique \n\n\n \n\nPartager \n\n\n  \n    \n  \n \n\n  \n\n \nFacebook\n\n\n    \n    \n\n\n	\n	\n\n \nTwitter\n\n\n  \n    \n  \n \n\n  \n\n \nWhatsapp\n\n\n  \n    \n  \n \n\n\n\n\n\n \nLinkedin\n\n\n  \n    \n  \n \n\n  \n\n \nEmail
URL:https://www.nae.fr/agenda/tech-hour-intervention-insidix-29-04-25/
LOCATION:Normandie Aerospace\, 745\, Avenue de l’Université\, St-Etienne-du-Rouvray\, 76800\, France
CATEGORIES:Tech Hour
ATTACH;FMTTYPE=image/png:https://www.nae.fr/wp-content/uploads/2023/11/Bandeau_Tech-Hour-CFF-2023-1.png
ORGANIZER;CN="Normandie Aerospace":MAILTO:rti@nae.fr
END:VEVENT
END:VCALENDAR