BEGIN:VCALENDAR
VERSION:2.0
PRODID:-//NAE - ECPv6.15.20//NONSGML v1.0//EN
CALSCALE:GREGORIAN
METHOD:PUBLISH
X-ORIGINAL-URL:https://www.nae.fr
X-WR-CALDESC:Évènements pour NAE
REFRESH-INTERVAL;VALUE=DURATION:PT1H
X-Robots-Tag:noindex
X-PUBLISHED-TTL:PT1H
BEGIN:VTIMEZONE
TZID:Europe/Paris
BEGIN:DAYLIGHT
TZOFFSETFROM:+0100
TZOFFSETTO:+0200
TZNAME:CEST
DTSTART:20240331T010000
END:DAYLIGHT
BEGIN:STANDARD
TZOFFSETFROM:+0200
TZOFFSETTO:+0100
TZNAME:CET
DTSTART:20241027T010000
END:STANDARD
BEGIN:DAYLIGHT
TZOFFSETFROM:+0100
TZOFFSETTO:+0200
TZNAME:CEST
DTSTART:20250330T010000
END:DAYLIGHT
BEGIN:STANDARD
TZOFFSETFROM:+0200
TZOFFSETTO:+0100
TZNAME:CET
DTSTART:20251026T010000
END:STANDARD
BEGIN:DAYLIGHT
TZOFFSETFROM:+0100
TZOFFSETTO:+0200
TZNAME:CEST
DTSTART:20260329T010000
END:DAYLIGHT
BEGIN:STANDARD
TZOFFSETFROM:+0200
TZOFFSETTO:+0100
TZNAME:CET
DTSTART:20261025T010000
END:STANDARD
END:VTIMEZONE
BEGIN:VTIMEZONE
TZID:Europe/Paris
BEGIN:DAYLIGHT
TZOFFSETFROM:+0100
TZOFFSETTO:+0200
TZNAME:CEST
DTSTART:20240331T010000
END:DAYLIGHT
BEGIN:STANDARD
TZOFFSETFROM:+0200
TZOFFSETTO:+0100
TZNAME:CET
DTSTART:20241027T010000
END:STANDARD
BEGIN:DAYLIGHT
TZOFFSETFROM:+0100
TZOFFSETTO:+0200
TZNAME:CEST
DTSTART:20250330T010000
END:DAYLIGHT
BEGIN:STANDARD
TZOFFSETFROM:+0200
TZOFFSETTO:+0100
TZNAME:CET
DTSTART:20251026T010000
END:STANDARD
BEGIN:DAYLIGHT
TZOFFSETFROM:+0100
TZOFFSETTO:+0200
TZNAME:CEST
DTSTART:20260329T010000
END:DAYLIGHT
BEGIN:STANDARD
TZOFFSETFROM:+0200
TZOFFSETTO:+0100
TZNAME:CET
DTSTART:20261025T010000
END:STANDARD
END:VTIMEZONE
BEGIN:VEVENT
DTSTART;TZID=Europe/Paris:20250611T080000
DTEND;TZID=Europe/Paris:20250612T170000
DTSTAMP:20260424T050735
CREATED:20240903T121617Z
LAST-MODIFIED:20260303T182836Z
UID:87042-1749628800-1749747600@www.nae.fr
SUMMARY:les 3èmes journées du GDR REEPOS & le 4ème colloque sur la Spectroscopie Diélectrique appliquée aux Matériaux - SDM4 - du 11 au 12/06/2025
DESCRIPTION:Le GDR REEPOS (RElations structures / propriétés Électriques dans les POlymères & compositeS) a pour but de fédérer et de favoriser les échanges entre les équipes provenant de différentes communautés et instituts (INC et INSIS)\, afin d’étudier et d’établir des relations structure/propriétés dans les matériaux polymères et composites à l’aide de mesures électriques. Le GDR est articulé autour de 3 thèmes scientifiques afin de couvrir différentes propriétés et/ou différents outils d’analyse électrique. \n\nThème 1 : Transport de charges électronique / ionique\nThème 2 : Dynamique relaxationnelle large bande dans les matériaux\nThème 3 : Couplages de propriétés (électriques/mécaniques\, électriques/magnétiques\, électriques/thermiques\,…)\n\nCette année\, les 3èmes journées du GDR REEPOS & le 4ème colloque sur la Spectroscopie Diélectrique appliquée aux Matériaux – SDM4 sont organisés conjointement à St Valéry-en-Caux\, du 11 au 12 Juin 2025. La conférence\, organisée par le Laboratoire GPM de l’Université de Rouen Normandie\, aura lieu dans un environnement unique sur la côte normande\, situé à une heure en transport de Rouen. \nLe but de ce congrès conjoint est de réunir la communauté des chercheurs intéressés par la spectroscopie diélectrique autour des relations structure/morphologie/propriétés qui seront abordées pour les différentes classes de matériaux. Le format des communications laissera un temps important à la discussion pour favoriser les échanges. Les organisateurs ont également une volonté forte d’offrir aux doctorants et post-doctorants l’occasion de communiquer sur les résultats. \nLes thématiques proposées cette année sans être limitatives sont les suivantes : \n\nMatériaux couplés électroactifs (piézoélectrique\, électrostrictif\, etc.)\nTransport de charges électronique / ionique\nTechniques de caractérisation des propriétés électriques et couplées\nDynamique relaxationnelle large bande\nVieillissement des matériaux\nApplications dans des systèmes dédiés\nCaractérisation diélectrique et Relation structures/propriétés dans les matériaux polymères\, composites\, céramiques et les différents formateurs de verre…\nThèmes libres\n\nCliquez ici pour l’inscription \n\nPartager \n\n\n  \n    \n  \n \n\n  \n\n \nFacebook\n\n\n    \n    \n\n\n	\n	\n\n \nTwitter\n\n\n  \n    \n  \n \n\n  \n\n \nWhatsapp\n\n\n  \n    \n  \n \n\n\n\n\n\n \nLinkedin\n\n\n  \n    \n  \n \n\n  \n\n \nEmail
URL:https://www.nae.fr/agenda/les-3emes-journees-du-gdr-reepos-le-4eme-colloque-sur-la-spectroscopie-dielectrique-appliquee-aux-materiaux-sdm4-du-11-au-12-06-2025/
LOCATION:l’Hôtel du Casino\, 14 Av. Clemenceau\, Saint-Valéry-en-Caux\, 76460
CATEGORIES:Salons – Conferences
ATTACH;FMTTYPE=image/png:https://www.nae.fr/wp-content/uploads/2025/04/3emes-journees-du-GDR-REEPOS.png
END:VEVENT
BEGIN:VEVENT
DTSTART;TZID=Europe/Paris:20250624T123000
DTEND;TZID=Europe/Paris:20250624T133000
DTSTAMP:20260424T050735
CREATED:20240903T121534Z
LAST-MODIFIED:20260303T182835Z
UID:85516-1750768200-1750771800@www.nae.fr
SUMMARY:Tech Hour - Intervention IRT Saint Exupery - 24/06/25
DESCRIPTION:Date : 24/06/25 \nHoraire : 12h30 – 13h30 \nFormat : Visio conférence (MS TEAMS) \nProgramme : Impact des cycles de puissance à hautes fréquences sur la durée de vie des modules de puissance SiC  \n Descriptif : Contrairement aux IGBT Si\, les MOSFET SiC présentent de fortes variations de température à hautes fréquences\, notamment lorsqu’ils sont utilisés dans des applications AC/DC ou DC/AC. L’influence de ces cycles de puissance hautes fréquences sur la durée de vie totale du transistor SiC sera démontrée sur différents Profils de Mission.  \nPrésentation réalisée par : \n\nBernardo COGO \n\n\nInscription gratuite mais obligatoire en renseignant le formulaire suivant  \nCLIQUEZ ICI \nFin des inscriptions le vendredi 18h00 avant le Tech Hour\n \n\n  \nTech Hour en partenariat avec : \nACSIEL : Le syndicat de l’électronique ACSIEL qui regroupe les ex-adhérents du GIXEL\, du SITELEC\,\ndu SIMTEC et du GFIE fédère 120 membres. \nASTech Paris Region : ASTECH Paris Region\, pôle de compétitivité\, vise à accroitre en Ile de France les positions de leader européen de l’industrie des secteurs Lancement spatial\, Aviation d’affaires\, Propulsion et Équipements par l’innovation. \nI-Trans : Ancré dans la Région Hauts-de-France\, i-Trans est le pôle de compétitivité des transports\,\nde la mobilité et de la logistique. \nLSN : Filière d’excellence\, Logistique Seine-Normandie (LSN) fédère 185 adhérents : des\nentreprises du transport et de la logistique et des acteurs économiques de Normandie. \nNAE : NAE est la filière en Normandie de l’aéronautique\, spatial\, défense et sécurité. Elle regroupe plus de 160 membres industriels et académiques et travaille sur 5 axes\, : Le Business et l’International\, l’Emploi et la Formation\, la Compétitivité\, la Recherche Technologie et Innovation et la Communication. \nNextMove : Pôle de compétitivité Automobile et Mobilité\, Next Move accompagne les entreprises au quotidien pour favoriser l’innovation\, le financement de projets R&D et le business collaboratifs entre ses membres. \nNormandie Énergie : Filière d’excellence\, Normandie Energies soutient le développement économique du\nterritoire en fédérant plus de 240 acteurs normands de l’énergie. \nNormandie Maritime : Normandie Maritime a pour mission la promotion\, le développement et la coordination de la filière régionale de l’économie maritime et fluviale. \nPole MEDEE : Basé à Lille\, le Pôle MEDEE est un cluster qui fédère et anime\nune communauté d’acteurs spécialisés en génie électrique \n\n\n \n\nPartager \n\n\n  \n    \n  \n \n\n  \n\n \nFacebook\n\n\n    \n    \n\n\n	\n	\n\n \nTwitter\n\n\n  \n    \n  \n \n\n  \n\n \nWhatsapp\n\n\n  \n    \n  \n \n\n\n\n\n\n \nLinkedin\n\n\n  \n    \n  \n \n\n  \n\n \nEmail
URL:https://www.nae.fr/agenda/tech-hour-intervention-irt-saint-exupery-24-06-25/
LOCATION:Normandie Aerospace\, 745\, Avenue de l’Université\, St-Etienne-du-Rouvray\, 76800\, France
CATEGORIES:Tech Hour
ATTACH;FMTTYPE=image/png:https://www.nae.fr/wp-content/uploads/2023/11/Bandeau_Tech-Hour-CFF-2023.png
ORGANIZER;CN="Normandie Aerospace":MAILTO:rti@nae.fr
END:VEVENT
END:VCALENDAR