BEGIN:VCALENDAR
VERSION:2.0
PRODID:-//NAE - ECPv6.15.20//NONSGML v1.0//EN
CALSCALE:GREGORIAN
METHOD:PUBLISH
X-ORIGINAL-URL:https://www.nae.fr
X-WR-CALDESC:Évènements pour NAE
REFRESH-INTERVAL;VALUE=DURATION:PT1H
X-Robots-Tag:noindex
X-PUBLISHED-TTL:PT1H
BEGIN:VTIMEZONE
TZID:Europe/Paris
BEGIN:DAYLIGHT
TZOFFSETFROM:+0100
TZOFFSETTO:+0200
TZNAME:CEST
DTSTART:20190331T010000
END:DAYLIGHT
BEGIN:STANDARD
TZOFFSETFROM:+0200
TZOFFSETTO:+0100
TZNAME:CET
DTSTART:20191027T010000
END:STANDARD
BEGIN:DAYLIGHT
TZOFFSETFROM:+0100
TZOFFSETTO:+0200
TZNAME:CEST
DTSTART:20200329T010000
END:DAYLIGHT
BEGIN:STANDARD
TZOFFSETFROM:+0200
TZOFFSETTO:+0100
TZNAME:CET
DTSTART:20201025T010000
END:STANDARD
BEGIN:DAYLIGHT
TZOFFSETFROM:+0100
TZOFFSETTO:+0200
TZNAME:CEST
DTSTART:20210328T010000
END:DAYLIGHT
BEGIN:STANDARD
TZOFFSETFROM:+0200
TZOFFSETTO:+0100
TZNAME:CET
DTSTART:20211031T010000
END:STANDARD
BEGIN:DAYLIGHT
TZOFFSETFROM:+0100
TZOFFSETTO:+0200
TZNAME:CEST
DTSTART:20220327T010000
END:DAYLIGHT
BEGIN:STANDARD
TZOFFSETFROM:+0200
TZOFFSETTO:+0100
TZNAME:CET
DTSTART:20221030T010000
END:STANDARD
END:VTIMEZONE
BEGIN:VEVENT
DTSTART;TZID=Europe/Paris:20210129T090000
DTEND;TZID=Europe/Paris:20210129T120000
DTSTAMP:20260425T154535
CREATED:20210111T075116Z
LAST-MODIFIED:20260303T183028Z
UID:63290-1611910800-1611921600@www.nae.fr
SUMMARY:Atelier Fabrication Additive - Lit de poudre polymère #3 – ARKEMA
DESCRIPTION:Une demi journée pour appréhender les enjeux de la fabrication additive poudre polymère.  \nDans le cadre de la plateforme Fabrication Additive Poudre de Arkema co-financée par la Région Normandie\, nous vous proposons de venir découvrir les technologies liées à la Fabrication Additive poudres polymère et évaluer vos éventuels besoins d’expérimentations. \nCette demi-journée vous permettra d’identifier les possibilités de la Fabrication Additive et de transformer vos idées au travers d’expérimentations financées par cette plateforme.\n\nProgramme – Format WEBINAR\n\n\n\n					\n09h00 – Introduction et présentation des enjeux et des technologies\n09h20 – Focus sur la technologie fabrication additive polymère lit de poudre\n10h00 – Visite virtuelle de la plateforme AREKEMA (produits et process)\n10h45 – Temps d’échanges / pause café\n11h00 – Présentation de cas d’études : Besoin vs Performance\n11h20 – Présentation des formations fabrication additive\n11h40 : Questions/Réponses – Echanges\n12h00 – Clôture\n\n\nInscription à l’atelier Fabrication Additive \nAttention\, organisation en visioconférence (TEAMS)\n \n\nÉléments de contexte\n\n\nLa Fabrication additive désigne les procédés de fabrication par dépôt de matière (par opposition aux procédés classiques d’extraction de la matière dans un bloc). \nLes principales applications de la fabrication additive tournent autour de l’outillage rapide\, le prototypage rapide\, la fabrication directe et la communication. Elle permet de nouvelles façon de concevoir : \n\nFormes géométriques complexes (formes gauches\, canaux internes\, …)\nLes allègements (optimisation)\nLimiter les assemblages\nAjouts de fonctions\n\nMais il existe un ensemble de contraintes également que nous vous proposons de découvrir lors de cet atelier. \n\nOrganisateurs\n \n  \n\n  \n\nPartager \n\n\n  \n    \n  \n \n\n  \n\n \nFacebook\n\n\n    \n    \n\n\n	\n	\n\n \nTwitter\n\n\n  \n    \n  \n \n\n  \n\n \nWhatsapp\n\n\n  \n    \n  \n \n\n\n\n\n\n \nLinkedin\n\n\n  \n    \n  \n \n\n  \n\n \nEmail
URL:https://www.nae.fr/agenda/atelier-fabrication-additive-lit-de-poudre-polymere-2-arkema-2/
LOCATION:TEAMS\, France
CATEGORIES:Comité Recherche, Technologie et Innovation|Salons – Conferences
ATTACH;FMTTYPE=image/jpeg:https://www.nae.fr/wp-content/uploads/2021/01/Bandeau_AtelierFA_V2.jpg
END:VEVENT
BEGIN:VEVENT
DTSTART;TZID=Europe/Paris:20201118T080000
DTEND;TZID=Europe/Paris:20201119T170000
DTSTAMP:20260425T154535
CREATED:20200210T090817Z
LAST-MODIFIED:20260303T183042Z
UID:51862-1605686400-1605805200@www.nae.fr
SUMMARY:Les rendez-vous CARNOT 2020 du 18/11 au 19/11/2020 - 100% Online
DESCRIPTION:L’événement permet aux entreprises de toutes tailles de rencontrer les acteurs majeurs de la R&D pour accélérer et concrétiser leurs projets d’innovation. \nTous les secteurs industriels et technologiques sont représentés : Technologies numériques\, micro et nanotechnologies\, mécanique\, manufacturing\, chimie et matériaux\, énergie\, environnement\, transports et mobilité\, bâtiments et infrastructures\, pharmacie et santé\, agroalimentaire et nutrition\, agriculture et élevage\, sport et bien-être\, mode et luxe… \nLe point fort caractéristique des Rendez-vous Carnot est de proposer une offre de R&D sur une large palette thématique tout en permettant aux entreprises de rencontrer également les meilleurs spécialistes des différents dispositifs de soutien à l’innovation. \n\nPartager \n\n\n  \n    \n  \n \n\n  \n\n \nFacebook\n\n\n    \n    \n\n\n	\n	\n\n \nTwitter\n\n\n  \n    \n  \n \n\n  \n\n \nWhatsapp\n\n\n  \n    \n  \n \n\n\n\n\n\n \nLinkedin\n\n\n  \n    \n  \n \n\n  \n\n \nEmail
URL:https://www.nae.fr/agenda/les-rendez-vous-carnot-2020-du-18-11-au-19-11-2020-100-online/
LOCATION:Palais des congrès Lyon\, 50 Quai Charles de Gaulle\, Lyon\, 69006
CATEGORIES:Salons – Conferences
ATTACH;FMTTYPE=image/png:https://www.nae.fr/wp-content/uploads/2020/02/Logo-carnot-2020.png
END:VEVENT
BEGIN:VEVENT
DTSTART;TZID=Europe/Paris:20200526T123000
DTEND;TZID=Europe/Paris:20200526T133000
DTSTAMP:20260425T154535
CREATED:20191219T122204Z
LAST-MODIFIED:20260303T183102Z
UID:51039-1590496200-1590499800@www.nae.fr
SUMMARY:Tech Hour – Etude bibliographique poudre fabrication additive métallique – 26/05/20
DESCRIPTION:Date : 26/05/20 \nHoraire : 12h30 – 13h30 \nFormat : Visio conférence (WEBEX) \nProgramme : Etude bibliographique sur la caractérisation des poudres fabrication additive métalliques \nUn exercice de projection concernant les ventes de poudre métallique dans le monde pour la fabrication additive révèle un montant dépassant 500 millions de dollars en 2019 et 900 millions de dollars en 2023\, ce qui correspond à une croissance annuelle de 40% pour le segment des matériaux métalliques. Ces chiffres reflètent l’augmentation spectaculaire de la fabrication additive métallique pour les applications aéronautiques et médicales au cours des dernières années. \nCependant\, la production de pièces pour des applications aéronautiques ou spatiales critiques avec une qualité élevée demeure une gageure qui n’est pas totalement atteinte. C’est la raison pour laquelle un défi actuel pour la fabrication additive métallique concerne l’amélioration de la qualité de la poudre\, et en premier lieu le contrôle de cette qualité\, sachant que celle-ci peut avoir une incidence non négligeable sur les caractéristiques finales des pièces. \nEn plus de pouvoir introduire des défauts dans les pièces\, la poudre peut aussi modifier la constance et la régularité d’une construction à l’autre et\, de manière plus générale\, elle peut altérer de façon insidieuse les propriétés mécaniques résultantes des matériaux. \nDe nombreuses techniques analytiques\, généralement encadrées par des normes\, sont disponibles pour caractériser les poudres. Certaines concernent la caractérisation précise du grain de poudre (morphologie\, granulométrie\, chimie de surface et globale)\, d’autre son comportement globale (coulabilité\, angle de talus\, de repos\, densité apparente). L’un des problèmes majeurs rencontrés actuellement par l’industrie de la fabrication additive reste l’inadéquation de ces dernières techniques pour la caractérisation/la prédiction de la qualité du lit de poudre tel que mis en œuvre dans les procédés associés à cette technologie. \nCet exposé\, ouvert à tous\, se propose de présenter un état de l’art des méthodes utilisées pour la caractérisation des poudres\, leurs objectifs\, mises en œuvre et la performance des résultats attendus. \nL’intervention sera réalisée par Sébastien BOILEAU\, Expert poudre à la commission de normalisation fabrication additive française (UNM920) et pilote d’activités au sein du laboratoire Analyses et Surface (Groupe 6napse). \n  \n\nInscription gratuite mais obligatoire en renseignant le formulaire suivant : CLIQUEZ ICI \n\n  \nTech Hour en partenariat avec : \nASTech Paris Region : ASTECH Paris Region\, pôle de compétitivité\, vise à accroitre en Ile de France les positions de leader européen de l’industrie des secteurs Lancement spatial\, Aviation d’affaires\, Propulsion et Equipements par l’innovation. \nLe pôle MEDEE : La mission de MEDEE\, Association Professionnelle et Scientifique en Génie Electrique\, est d’être aux côtés de votre entreprise pour l’aider à concevoir des produits et des systèmes à haute valeur ajoutée\, au service de votre stratégie commerciale et technologique et des enjeux énergétiques du futur. \nACSIEL Alliance Électronique : syndicat de l’électronique qui regroupe les ex-adhérents du GIXEL\, du SITELEC\, du SIMTEC et du GFIE. \nMov’eo : Pôle de compétitivité Automobile et Mobilité\, Mov’eo accompagne les entreprises au quotidien pour favoriser l’innovation\, le financement de projets R&D et le business collaboratifs entre ses membres. \n\n\n \n\nPartager \n\n\n  \n    \n  \n \n\n  \n\n \nFacebook\n\n\n    \n    \n\n\n	\n	\n\n \nTwitter\n\n\n  \n    \n  \n \n\n  \n\n \nWhatsapp\n\n\n  \n    \n  \n \n\n\n\n\n\n \nLinkedin\n\n\n  \n    \n  \n \n\n  \n\n \nEmail
URL:https://www.nae.fr/agenda/tech-hour-etude-bibliographique-poudre-fabrication-additive-metallique-26-05-20/
LOCATION:Normandie Aerospace\, 745\, Avenue de l’Université\, St-Etienne-du-Rouvray\, 76800\, France
CATEGORIES:Tech Hour
ATTACH;FMTTYPE=image/jpeg:https://www.nae.fr/wp-content/uploads/2019/01/logo_TechHour-01-e1621349140323.jpg
ORGANIZER;CN="Normandie Aerospace":MAILTO:rti@nae.fr
END:VEVENT
BEGIN:VEVENT
DTSTART;TZID=Europe/Paris:20200430T123000
DTEND;TZID=Europe/Paris:20200430T133000
DTSTAMP:20260425T154535
CREATED:20191219T094856Z
LAST-MODIFIED:20260303T183106Z
UID:51007-1588249800-1588253400@www.nae.fr
SUMMARY:4.0 en pratique : L'impression 3D pour la compétitivité - 30/04/20
DESCRIPTION:1h entre 12h30 et 13h30 en visio-conférence pour découvrir des compétences « Industrie du futur » le dernier jeudi de chaque mois \nProgramme : L’impression 3D pour la compétitivité \nDeux offreurs de solutions vous présenteront leurs produits & services avec : \nFrancofil: C’est une société française spécialisée dans la production de filaments techniques destinés à l’impression 3D. Ayant à cœur de favoriser le tissu économique local\, les équipements permettant la production de filaments ont été conçus et fabriqués en France. C’est sur son site de production situé en Normandie que Francofil développe et fabrique ses filaments \nEt\, \n3D&G : L’entreprise est spécialiste de l’impression 3D à Caen en Normandie. Elle se positionne en tant que partenaire de proximité pour le développement des technologies de l’industrie du futur et diffuse des technologies de la fabrication additive auprès des TPE et PME afin de rendre leurs développements de projets plus efficient et agile. \n\nPour vous inscrire : CLIQUEZ ICI \nLes autres 4.0 en pratique auront lieu chaque dernier jeudi à 12h30 .  \nNous vous enverrons le programme prochainement \n \n\nPartager \n\n\n  \n    \n  \n \n\n  \n\n \nFacebook\n\n\n    \n    \n\n\n	\n	\n\n \nTwitter\n\n\n  \n    \n  \n \n\n  \n\n \nWhatsapp\n\n\n  \n    \n  \n \n\n\n\n\n\n \nLinkedin\n\n\n  \n    \n  \n \n\n  \n\n \nEmail
URL:https://www.nae.fr/agenda/4-0-en-pratique-limpression-3d-pour-la-competitivite-30-04-20/
LOCATION:Normandie Aerospace\, 745\, Avenue de l’Université\, St-Etienne-du-Rouvray\, 76800\, France
CATEGORIES:4.0 en pratique
ATTACH;FMTTYPE=image/png:https://www.nae.fr/wp-content/uploads/2018/07/4.0-Pratique.png
ORGANIZER;CN="Normandie Aerospace":MAILTO:rti@nae.fr
END:VEVENT
BEGIN:VEVENT
DTSTART;TZID=Europe/Paris:20200305T090000
DTEND;TZID=Europe/Paris:20200305T170000
DTSTAMP:20260425T154535
CREATED:20191028T113259Z
LAST-MODIFIED:20260303T183119Z
UID:45253-1583398800-1583427600@www.nae.fr
SUMMARY:Séminaire RTI & Industrie du futur (Cybersécurité) - 05/03/20
DESCRIPTION:SÉMINAIRE RECHERCHE TECHNOLOGIE et INDUSTRIE DU FUTUR  \nCe séminaire a pour objectif de faire un état des lieux des enjeux technologiques et d’innovation du secteur de la défense ainsi que de la cybersécurité. \nDans le but de vous présenter les technologies prioritaires de la DGA\, nous avons décidé d’organiser cette journée en partenariat avec la DGA\, l’AID. Cette journée vous permettra de mieux appréhender le Fond Européen de la Défense et d’identifier au travers d’atelier les besoins technologiques. \nDe plus\, un focus sera réalisé sur les problématiques et solutions en termes de Cybersécurité au travers de notre partenaire AirCyber (Boost AerSpace) et le témoignage de l’entreprise MAUGARS Industrie. \nLe programme de la journée : \n\n09h00 – Accueil et introduction\n\n\n09h30 – Présentation de l’Agence de l’Innovation de la Défense \n\nStructuration et rôle de l’AID au niveau national / Les grands axes technologiques prioritaires / Les modalités de soutien de l’AID \n\n10h15 – Comment mieux prendre en compte la cybersécurité ?\n\nDémonstration d’un piratage en live (DRDS) \nPrésentation des dispositifs Cybersécurité par le dispositif AIRCYBER (BOOST AEROSPACE) \nTémoignages et retours d’expériences de Air Cyber et MAUGARS Industrie \n\n11h15 – Atelier « Emergence » et Visite du GREYC en parallèle (en 2 groupes)\n12h30 – Cocktail déjeunatoire\n14h00 – Focus RTI sur : \n\nLes Joyaux\, approche opérationnelle de l’Europe / La Cartographe RTI / Actualités RTI sur les feuilles de route \n\n14h30 – Présentation du fond Européen de la défense\n\nEvolutions et importance de la Défense au niveau national et Européen / Présentation de l’AAP EDIDP \n\n15h00 – Ateliers technologiques (x3 en parallèle de 45 min) sur les thématiques :\n\nLes Drones / La Fabrication additive / La Plastronique / Les Matériaux pour la Défense / Traitement de la données et communication intelligente / Simulation\, modéalisation et calcul \n\n16h30 – Clôture\n\n  \n\nInscription gratuite\nsous validation par NAE  \nle jeudi 5 mars 2020 \nLieu : Caen – ENSICAEN – Campus 2 \n\nPartager \n\n\n  \n    \n  \n \n\n  \n\n \nFacebook\n\n\n    \n    \n\n\n	\n	\n\n \nTwitter\n\n\n  \n    \n  \n \n\n  \n\n \nWhatsapp\n\n\n  \n    \n  \n \n\n\n\n\n\n \nLinkedin\n\n\n  \n    \n  \n \n\n  \n\n \nEmail
URL:https://www.nae.fr/agenda/seminaire-rti-industrie-du-futur-cybersecurite-05-03-2020/
LOCATION:CNRT Matériaux\, 6 Boulevard Maréchal Juin\, Caen\, 14050\, France
CATEGORIES:Séminaire RTI,4.0 en pratique
ATTACH;FMTTYPE=image/jpeg:https://www.nae.fr/wp-content/uploads/2019/10/Bandeau-Seminaire-1.jpg
END:VEVENT
END:VCALENDAR