BEGIN:VCALENDAR
VERSION:2.0
PRODID:-//NAE - ECPv6.15.20//NONSGML v1.0//EN
CALSCALE:GREGORIAN
METHOD:PUBLISH
X-ORIGINAL-URL:https://www.nae.fr
X-WR-CALDESC:Évènements pour NAE
REFRESH-INTERVAL;VALUE=DURATION:PT1H
X-Robots-Tag:noindex
X-PUBLISHED-TTL:PT1H
BEGIN:VTIMEZONE
TZID:Europe/Paris
BEGIN:DAYLIGHT
TZOFFSETFROM:+0100
TZOFFSETTO:+0200
TZNAME:CEST
DTSTART:20190331T010000
END:DAYLIGHT
BEGIN:STANDARD
TZOFFSETFROM:+0200
TZOFFSETTO:+0100
TZNAME:CET
DTSTART:20191027T010000
END:STANDARD
BEGIN:DAYLIGHT
TZOFFSETFROM:+0100
TZOFFSETTO:+0200
TZNAME:CEST
DTSTART:20200329T010000
END:DAYLIGHT
BEGIN:STANDARD
TZOFFSETFROM:+0200
TZOFFSETTO:+0100
TZNAME:CET
DTSTART:20201025T010000
END:STANDARD
BEGIN:DAYLIGHT
TZOFFSETFROM:+0100
TZOFFSETTO:+0200
TZNAME:CEST
DTSTART:20210328T010000
END:DAYLIGHT
BEGIN:STANDARD
TZOFFSETFROM:+0200
TZOFFSETTO:+0100
TZNAME:CET
DTSTART:20211031T010000
END:STANDARD
BEGIN:DAYLIGHT
TZOFFSETFROM:+0100
TZOFFSETTO:+0200
TZNAME:CEST
DTSTART:20220327T010000
END:DAYLIGHT
BEGIN:STANDARD
TZOFFSETFROM:+0200
TZOFFSETTO:+0100
TZNAME:CET
DTSTART:20221030T010000
END:STANDARD
END:VTIMEZONE
BEGIN:VEVENT
DTSTART;TZID=Europe/Paris:20210629T123000
DTEND;TZID=Europe/Paris:20210629T133000
DTSTAMP:20260425T051343
CREATED:20201229T153153Z
LAST-MODIFIED:20260303T183003Z
UID:63166-1624969800-1624973400@www.nae.fr
SUMMARY:Tech Hour – Renforcement interlaminaire des composites par patch – 29/06/21
DESCRIPTION:Date : 29/06/2021 \nHoraire : 12h30 – 13h30 \nFormat : Visio conférence (WEB EX) \nProgramme : Renforcement interlaminaire des composites par patch\n \nNotre technologie se base sur un patch d’assemblage améliorant les propriétés de surface des pièces composites au niveau des futurs zones de collages. Ce patch permet de créer une continuité fibreuse entre les deux pièces accolées permettant de dopper les performances mécaniques et de limiter la propagation de fissure dans le joint de colle. Les applications potentielles sont le collage de composites CMO/CMO ou CMO/CMC et multi-matériaux. \nPrésentation réalisée par Jérémie PLOCINIAK (président) de l’entreprise Paradox SAS. \n\nInscription gratuite mais obligatoire en renseignant le formulaire suivant  \nCLIQUEZ ICI \nFin des inscriptions le vendredi 18h00 avant le Tech Hour\n \n\n  \nTech Hour en partenariat avec : \nASTech Paris Region : ASTECH Paris Region\, pôle de compétitivité\, vise à accroitre en Ile de France les positions de leader européen de l’industrie des secteurs Lancement spatial\, Aviation d’affaires\, Propulsion et Équipements par l’innovation. \nNextMove : Pôle de compétitivité Automobile et Mobilité\, Next Move accompagne les entreprises au quotidien pour favoriser l’innovation\, le financement de projets R&D et le business collaboratifs entre ses membres. \nNAE : NAE est la filière en Normandie de l’aéronautique\, spatial\, défense et sécurité. Elle regroupe plus de 160 membres industriels et académiques et travaille sur 5 axes\, : Le Business et l’International\, l’Emploi et la Formation\, la Compétitivité\, la Recherche Technologie et Innovation et la Communication. \n\n\n \n\nPartager \n\n\n  \n    \n  \n \n\n  \n\n \nFacebook\n\n\n    \n    \n\n\n	\n	\n\n \nTwitter\n\n\n  \n    \n  \n \n\n  \n\n \nWhatsapp\n\n\n  \n    \n  \n \n\n\n\n\n\n \nLinkedin\n\n\n  \n    \n  \n \n\n  \n\n \nEmail
URL:https://www.nae.fr/agenda/tech-hour-nouveaux-procedes-technologie-cold-spray-6-2/
LOCATION:Normandie Aerospace\, 745\, Avenue de l’Université\, St-Etienne-du-Rouvray\, 76800\, France
CATEGORIES:Tech Hour
ATTACH;FMTTYPE=image/jpeg:https://www.nae.fr/wp-content/uploads/2019/01/logo_TechHour-01-e1621349140323.jpg
ORGANIZER;CN="Normandie Aerospace":MAILTO:rti@nae.fr
END:VEVENT
BEGIN:VEVENT
DTSTART;TZID=Europe/Paris:20210525T123000
DTEND;TZID=Europe/Paris:20210525T133000
DTSTAMP:20260425T051343
CREATED:20201229T152924Z
LAST-MODIFIED:20260303T183007Z
UID:63167-1621945800-1621949400@www.nae.fr
SUMMARY:Tech Hour – IA pour applications sur les drones – 25/05/21
DESCRIPTION:Date : 25/05/2021 \nHoraire : 12h30 – 13h30 \nFormat : Visio conférence (WEB EX) \nProgramme : IA pour applications sur les drones \nDurant cet exposé seront mentionnées plusieurs applications pour lesquelles des méthodes d’intelligence artificielle sont mises en œuvre pour améliorer certaines caractéristiques des drones et étendre leurs capacités.En filigrane se dessinent plusieurs objectifs :(1) renforcer leur autonomie\,(2) améliorer leurs interactions avec les hommes\,(3) permettre la coordination et la coopération de plusieurs drones. \nPrésentation réalisée par Frederic GUINAND (professeur des Universités) du Laboratoire d’Informatique\, du Traitement de l’Information et des Systèmes (LITIS). \n\n			\n			\n				\n				\n				\n				\n			\n				\n				\n				\n				\n				\n				\n				\n				\n				\n				\n				\n			\n			\n				\n				\n				\n				\n				\n				\n				\n				\n				\n				\n			\n			\n				\n				\n				\n				\n			\n				\n				\n				\n				\n				\n				\n				\n				\n				\n				\n				\nInscription gratuite mais obligatoire en renseignant le formulaire suivant  \nCLIQUEZ ICI \nFin des inscriptions le vendredi 18h00 avant le Tech Hour \n\n  \nTech Hour en partenariat avec : \nASTech Paris Region : ASTECH Paris Region\, pôle de compétitivité\, vise à accroitre en Ile de France les positions de leader européen de l’industrie des secteurs Lancement spatial\, Aviation d’affaires\, Propulsion et Équipements par l’innovation. \nNext Move : Pôle de compétitivité Automobile et Mobilité\, Next Move accompagne les entreprises au quotidien pour favoriser l’innovation\, le financement de projets R&D et le business collaboratifs entre ses membres. \nNAE : NAE est la filière en Normandie de l’aéronautique\, spatial\, défense et sécurité. Elle regroupe plus de 160 membres industriels et académiques et travaille sur 5 axes\, : Le Business et l’International\, l’Emploi et la Formation\, la Compétitivité\, la Recherche Technologie et Innovation et la Communication. \n\n\n			\n			\n				\n				\n				\n				\n			\n				\n				\n			 \n\nPartager \n\n\n  \n    \n  \n \n\n  \n\n \nFacebook\n\n\n    \n    \n\n\n	\n	\n\n \nTwitter\n\n\n  \n    \n  \n \n\n  \n\n \nWhatsapp\n\n\n  \n    \n  \n \n\n\n\n\n\n \nLinkedin\n\n\n  \n    \n  \n \n\n  \n\n \nEmail
URL:https://www.nae.fr/agenda/tech-hour-ia-pour-applications-sur-les-drones-25-05-21/
LOCATION:Normandie Aerospace\, 745\, Avenue de l’Université\, St-Etienne-du-Rouvray\, 76800\, France
CATEGORIES:Tech Hour
ATTACH;FMTTYPE=image/jpeg:https://www.nae.fr/wp-content/uploads/2019/01/logo_TechHour-01-e1621349140323.jpg
ORGANIZER;CN="ASTech Paris Region":MAILTO:https://www.pole-astech.org/web/site/index.php
END:VEVENT
BEGIN:VEVENT
DTSTART;TZID=Europe/Paris:20210427T123000
DTEND;TZID=Europe/Paris:20210427T133000
DTSTAMP:20260425T051343
CREATED:20201229T152641Z
LAST-MODIFIED:20260303T183011Z
UID:63168-1619526600-1619530200@www.nae.fr
SUMMARY:Tech Hour – Cartographie non-destructive des contraintes mécaniques et tomographie avec les neutrons – 27/04/21
DESCRIPTION:Date : 27/04/2021 \nHoraire : 12h30 – 13h30 \nFormat : Visio conférence (WEB EX) \nProgramme : Cartographie non-destructive des contraintes mécaniques et tomographie avec les neutrons\n \nes faisceaux de neutrons offrent un accès unique\, puissant et non-destructif au cœur des matériaux et des composants\, sur des échelles de longueur allant du centimètre à l’atome. L’Institut Laue-Langevin ILL – première source de neutrons en Europe – dispose de 40 stations expérimentales permettant de dépasser les limites des techniques de caractérisation standard en laboratoire. Nous expliciterons le principe de la détermination du tenseur de stress basé sur la diffraction des neutrons puis nous présenterons quelques exemples spécifiques des secteurs aéronautique et spatial. Une introduction aux spécificités de l’imagerie neutronique clôturera le séminaire. \nPrésentation réalisée par Sandra CABEZA de l’Institut Laue-Langevin  \n\nInscription gratuite mais obligatoire en renseignant le formulaire suivant  \nCLIQUEZ ICI \nFin des inscriptions le vendredi 18h00 avant le Tech Hour\n \n\n  \nTech Hour en partenariat avec : \nASTech Paris Region : ASTECH Paris Region\, pôle de compétitivité\, vise à accroitre en Ile de France les positions de leader européen de l’industrie des secteurs Lancement spatial\, Aviation d’affaires\, Propulsion et Équipements par l’innovation. \nNextMove : Pôle de compétitivité Automobile et Mobilité\, Next Move accompagne les entreprises au quotidien pour favoriser l’innovation\, le financement de projets R&D et le business collaboratifs entre ses membres. \nNAE : NAE est la filière en Normandie de l’aéronautique\, spatial\, défense et sécurité. Elle regroupe plus de 160 membres industriels et académiques et travaille sur 5 axes\, : Le Business et l’International\, l’Emploi et la Formation\, la Compétitivité\, la Recherche Technologie et Innovation et la Communication. \nNormandie Maritime : Normandie Maritime a pour mission la promotion\, le développement et la coordination de la filière régionale de l’économie maritime et fluviale. \n\n\n \n\nPartager \n\n\n  \n    \n  \n \n\n  \n\n \nFacebook\n\n\n    \n    \n\n\n	\n	\n\n \nTwitter\n\n\n  \n    \n  \n \n\n  \n\n \nWhatsapp\n\n\n  \n    \n  \n \n\n\n\n\n\n \nLinkedin\n\n\n  \n    \n  \n \n\n  \n\n \nEmail
URL:https://www.nae.fr/agenda/tech-hour-cartographie-non-destructive-des-contraintes-mecaniques-et-tomographie-avec-les-neutrons-27-04-21/
LOCATION:Normandie Aerospace\, 745\, Avenue de l’Université\, St-Etienne-du-Rouvray\, 76800\, France
CATEGORIES:Tech Hour
ATTACH;FMTTYPE=image/jpeg:https://www.nae.fr/wp-content/uploads/2019/01/logo_TechHour-01-e1621349140323.jpg
ORGANIZER;CN="Normandie Aerospace":MAILTO:rti@nae.fr
END:VEVENT
BEGIN:VEVENT
DTSTART;TZID=Europe/Paris:20210223T123000
DTEND;TZID=Europe/Paris:20210223T133000
DTSTAMP:20260425T051343
CREATED:20201229T152004Z
LAST-MODIFIED:20260303T183020Z
UID:63165-1614083400-1614087000@www.nae.fr
SUMMARY:Tech Hour – Fonctionnalisation de surface : antireflet / mouillabilité par nano-structuration – 23/02/21
DESCRIPTION:Date : 23/02/2021 \nHoraire : 12h30 – 13h30 \nFormat : Visio conférence (WEB EX) \nProgramme : Fonctionnalisation de surface : antireflet / mouillabilité par nano-structuration \n«  La fonctionnalisation des surfaces est une demande générique dans le domaine des matériaux. Bio-inspirée\, la nano-structuration permet de modifier diverses propriétés optiques (anti-reflet\, décoration\, marquage…) ou la mouillabilité (super-déperlance\, anti-givre\, anti-buée). SILSEF a développé des procédés innovants pour combiner cette ingénierie des surfaces avec des formulations sur mesure et ouvrir des perspectives extra-ordinaires. Issue de filières de micro-électronique\, la nano-structuration est désormais possible sur des grandes surfaces\, à bas cout\, et sur tous matériaux. » \nPrésentation réalisée par Daniel TUROVER (CEO) de l’entreprise SILSEF \n\nInscription gratuite mais obligatoire en renseignant le formulaire suivant  \nCLIQUEZ ICI \nFin des inscriptions le vendredi 18h00 avant le Tech Hour\n \n\n  \nTech Hour en partenariat avec : \nASTech Paris Region : ASTECH Paris Region\, pôle de compétitivité\, vise à accroitre en Ile de France les positions de leader européen de l’industrie des secteurs Lancement spatial\, Aviation d’affaires\, Propulsion et Équipements par l’innovation. \nNextMove : Pôle de compétitivité Automobile et Mobilité\, Next Move accompagne les entreprises au quotidien pour favoriser l’innovation\, le financement de projets R&D et le business collaboratifs entre ses membres. \nNAE : NAE est la filière en Normandie de l’aéronautique\, spatial\, défense et sécurité. Elle regroupe plus de 160 membres industriels et académiques et travaille sur 5 axes\, : Le Business et l’International\, l’Emploi et la Formation\, la Compétitivité\, la Recherche Technologie et Innovation et la Communication. \n\n\n \n\nPartager \n\n\n  \n    \n  \n \n\n  \n\n \nFacebook\n\n\n    \n    \n\n\n	\n	\n\n \nTwitter\n\n\n  \n    \n  \n \n\n  \n\n \nWhatsapp\n\n\n  \n    \n  \n \n\n\n\n\n\n \nLinkedin\n\n\n  \n    \n  \n \n\n  \n\n \nEmail
URL:https://www.nae.fr/agenda/tech-hour-fonctionnalisation-de-surface-antireflet-mouillabilite-par-nano-structuration-23-02-21/
LOCATION:Normandie Aerospace\, 745\, Avenue de l’Université\, St-Etienne-du-Rouvray\, 76800\, France
CATEGORIES:Tech Hour
ATTACH;FMTTYPE=image/jpeg:https://www.nae.fr/wp-content/uploads/2019/01/logo_TechHour-01-e1621349140323.jpg
ORGANIZER;CN="Normandie Aerospace":MAILTO:rti@nae.fr
END:VEVENT
BEGIN:VEVENT
DTSTART;TZID=Europe/Paris:20201124T123000
DTEND;TZID=Europe/Paris:20201124T133000
DTSTAMP:20260425T051343
CREATED:20191219T123637Z
LAST-MODIFIED:20260303T183041Z
UID:51049-1606221000-1606224600@www.nae.fr
SUMMARY:Tech Hour – Drones hydrogène – 24/11/20
DESCRIPTION:Date : 24/11/20 \nHoraire : 12h30 – 13h30 \nFormat : Visio conférence (WEB EX) \nProgramme : Drones Hydrogène \nPrésentation des avancées du drone H2 Scout – drone hydrogène – par l’entreprise ZenT permettant d’atteindre une autonomie de 3h pour 3kg de charge utile. \nBasé sur un octocopter et emportant 6L d’hydrogène\, Jerôme DAVID viendra nous présenter la situation de l’utilisation de l’hydrogène dans le secteur des drones et les avancées de son projet de drone à hydrogène. \n  \n\nInscription gratuite mais obligatoire en renseignant le formulaire suivant : CLIQUEZ ICI \n\n  \nTech Hour en partenariat avec : \nASTech Paris Region : ASTECH Paris Region\, pôle de compétitivité\, vise à accroitre en Ile de France les positions de leader européen de l’industrie des secteurs Lancement spatial\, Aviation d’affaires\, Propulsion et Equipements par l’innovation. \nACSIEL Alliance Électronique : syndicat de l’électronique qui regroupe les ex-adhérents du GIXEL\, du SITELEC\, du SIMTEC et du GFIE. \nMov’eo : Pôle de compétitivité Automobile et Mobilité\, Mov’eo accompagne les entreprises au quotidien pour favoriser l’innovation\, le financement de projets R&D et le business collaboratifs entre ses membres. \n\n\n \n\nPartager \n\n\n  \n    \n  \n \n\n  \n\n \nFacebook\n\n\n    \n    \n\n\n	\n	\n\n \nTwitter\n\n\n  \n    \n  \n \n\n  \n\n \nWhatsapp\n\n\n  \n    \n  \n \n\n\n\n\n\n \nLinkedin\n\n\n  \n    \n  \n \n\n  \n\n \nEmail
URL:https://www.nae.fr/agenda/tech-hour-lia-et-les-drones-24-11-20/
LOCATION:Normandie Aerospace\, 745\, Avenue de l’Université\, St-Etienne-du-Rouvray\, 76800\, France
CATEGORIES:Tech Hour
ATTACH;FMTTYPE=image/jpeg:https://www.nae.fr/wp-content/uploads/2019/01/logo_TechHour-01-e1621349140323.jpg
ORGANIZER;CN="Normandie Aerospace":MAILTO:rti@nae.fr
END:VEVENT
END:VCALENDAR